From mboxrd@z Thu Jan 1 00:00:00 1970 Return-Path: Received: from mails.dpdk.org (mails.dpdk.org [217.70.189.124]) by inbox.dpdk.org (Postfix) with ESMTP id 7C10E461B0 for ; Wed, 12 Feb 2025 04:28:30 +0100 (CET) Received: from mails.dpdk.org (localhost [127.0.0.1]) by mails.dpdk.org (Postfix) with ESMTP id 55A4F402BB; Wed, 12 Feb 2025 04:28:30 +0100 (CET) Received: from mail-pl1-f228.google.com (mail-pl1-f228.google.com [209.85.214.228]) by mails.dpdk.org (Postfix) with ESMTP id C5ABF40269 for ; Wed, 12 Feb 2025 04:28:28 +0100 (CET) Received: by mail-pl1-f228.google.com with SMTP id d9443c01a7336-21f78b1fb7dso54353785ad.3 for ; Tue, 11 Feb 2025 19:28:28 -0800 (PST) DKIM-Signature: v=1; a=rsa-sha256; c=relaxed/relaxed; d=iol.unh.edu; s=unh-iol; t=1739330908; x=1739935708; darn=dpdk.org; h=references:in-reply-to:cc:to:from:subject:message-id:date:from:to :cc:subject:date:message-id:reply-to; bh=51ZG5Q+Edq+LYK5C8/hgVhEO/MswpUl/hRG8bj3oTXY=; b=S4Nt1S7INuVsAFmgfTYtJnpwLSOlYfBzxLbxa5jcvHxNNHkZw9ggZaq5rReoQQYkMV UWois6DUCZzHTaBqLEIZyzOi6QUGq7AbPx42rrMbrNdBGlkVcWCejV3jYFag4gdCiGHQ TmsCm+HgdlKQNS6ydh4e47vc8Cj8xpjCWsUKo= X-Google-DKIM-Signature: v=1; a=rsa-sha256; c=relaxed/relaxed; d=1e100.net; s=20230601; t=1739330908; x=1739935708; h=references:in-reply-to:cc:to:from:subject:message-id:date :x-gm-message-state:from:to:cc:subject:date:message-id:reply-to; bh=51ZG5Q+Edq+LYK5C8/hgVhEO/MswpUl/hRG8bj3oTXY=; b=U8qEYKV3bc/hyphvkLdToa0pVU6jw7Ot9XWLMD2Yi2A/On9Hg+5S8n4p04ZDUWcZEQ FmuSPn+UW5Kd8mM6ztrwTplawGigU+Ta0tNW+UDp6Fs7Rja7x4xOZpQS/eKLlPjiFvSu Mui0NrN6gocf1Rit4grIGVdtLmXnrbBu+AqhanLytu1IYSW9/65QhOn02+8XV8ldorjw H5XF63Xzqz8oyGSOo0U7KVkH3pGGRfankt9Q3YKyp1mbADGRWEIEZBwcRMTiOjdVQ2Ug tuX/JVA2tS0PGJ2YIxcn4PNgsWjqySWGeZNIteTxL7c9df8+rnnOgJgCO5FReCIqKg3q lk+g== X-Gm-Message-State: AOJu0YwW6EEX3am9rT3nCJY+UqrZHidO6GA7xP9G9QdE9ECautyZW/QW 1LvYA/P2KRrbupVoBQnL1zmivLdVArFtvfHMHV8wpVCtPoo0xqXpjsa7fTyMFsvVyvb3Jaw3S/b hYeC3bhk6K4ofM7gkqqdvOe/ze3OEcR1gH0UFpHku X-Gm-Gg: ASbGnctty1Gu0r3zItAOYCouFuHj5hP+Bs4a5wNaWTcQIkuNCCVdIqUXHG5uTJ1Wwrx JnIgI/O0TrZEv/fFcgY3dXwVD0VQuNgsJGx9gLBUYCxOZcq1VOoO3G+2so7g7l3eSNh0sGvugyu 2h463nujf7VGLC3Lb0CtJv7wCSdWOECW1lc9utzlYrFRgX3S52iHFtpCxcy5cK0TXJuSE1JWq9i tRXeF4Y69VsYhcLSHHaYGZneqYMc15T8uejXMBQ9EKzKJcnI8IODMAPeE3mGCO4Yext6ld6jR6h fzabErAGoGYNVYHojJ4Wp/50gU0/5w== X-Google-Smtp-Source: AGHT+IGY1XgHv8F5f2nusrQwlFtxKO1GKCbwxA/eBo8/7Qj647azpzNRDqZSJdVJ+MVE2QRV/q+wQvAjxm6i X-Received: by 2002:a17:902:cec8:b0:21f:4c65:6290 with SMTP id d9443c01a7336-220bbab32afmr32006255ad.1.1739330907833; Tue, 11 Feb 2025 19:28:27 -0800 (PST) Received: from postal.iol.unh.edu (postal.iol.unh.edu. [132.177.123.84]) by smtp-relay.gmail.com with ESMTPS id d9443c01a7336-21f74d8cffcsm4455625ad.100.2025.02.11.19.28.27 (version=TLS1_2 cipher=ECDHE-ECDSA-AES128-GCM-SHA256 bits=128/128); Tue, 11 Feb 2025 19:28:27 -0800 (PST) X-Relaying-Domain: iol.unh.edu Date: Tue, 11 Feb 2025 19:28:27 -0800 (PST) Message-ID: <67ac155b.170a0220.adf62.7ab4SMTPIN_ADDED_MISSING@mx.google.com> Received: from [172.17.0.3] (unknown [172.18.0.217]) by postal.iol.unh.edu (Postfix) with ESMTP id 42BB76052471; Tue, 11 Feb 2025 22:28:27 -0500 (EST) Subject: |SUCCESS| pw151296 [PATCH] mbuf: enable to be compiled with MSVC From: dpdklab@iol.unh.edu To: Test Report Cc: dpdk-test-reports@iol.unh.edu In-Reply-To: <1739224265-4158-1-git-send-email-andremue@linux.microsoft.com> References: <1739224265-4158-1-git-send-email-andremue@linux.microsoft.com> Content-Type: text/plain X-BeenThere: test-report@dpdk.org X-Mailman-Version: 2.1.29 Precedence: list List-Id: automatic DPDK test reports List-Unsubscribe: , List-Archive: List-Post: List-Help: List-Subscribe: , Errors-To: test-report-bounces@dpdk.org Test-Label: iol-sample-apps-testing Test-Status: SUCCESS http://dpdk.org/patch/151296 _Testing PASS_ Submitter: Andre Muezerie Date: Monday, February 10 2025 21:51:05 DPDK git baseline: Repo:dpdk Branch: master CommitID:9d29cd6dc87d6c35c52194a5f7a34f2d84140353 151296 --> testing pass Upstream job id: ACVP-FIPS-testing#8880 Test environment and result as below: +--------------------+----------------------+----------------------+ | Environment | compressdev_zlib_pmd | dpdk_fips_validation | +====================+======================+======================+ | Ubuntu 22.04 (ARM) | PASS | SKIPPED | +--------------------+----------------------+----------------------+ | Ubuntu 22.04 | PASS | SKIPPED | +--------------------+----------------------+----------------------+ | Ubuntu 20.04 | SKIPPED | PASS | +--------------------+----------------------+----------------------+ Ubuntu 22.04 (ARM) Kernel: 5.15.0-97-generic Compiler: gcc gcc (Ubuntu 11.4.0-1ubuntu1~22.04) 11.4.0 Ubuntu 22.04 Kernel: 5.15.0-100-generic Compiler: gcc gcc (Ubuntu 11.4.0-1ubuntu1~22.04) 11.4.0 Ubuntu 20.04 Kernel: Depends on container host Compiler: gcc (Ubuntu 9.4.0-1ubuntu1~20.04.2) 9.4.0 To view detailed results, visit: https://lab.dpdk.org/results/dashboard/patchsets/32556/ UNH-IOL DPDK Community Lab To manage your email subscriptions, visit: https://lab.dpdk.org/results/dashboard/preferences/subscriptions/