From mboxrd@z Thu Jan 1 00:00:00 1970 Return-Path: Received: from mails.dpdk.org (mails.dpdk.org [217.70.189.124]) by inbox.dpdk.org (Postfix) with ESMTP id 9A314461B0 for ; Wed, 12 Feb 2025 05:33:19 +0100 (CET) Received: from mails.dpdk.org (localhost [127.0.0.1]) by mails.dpdk.org (Postfix) with ESMTP id 74E86402A7; Wed, 12 Feb 2025 05:33:19 +0100 (CET) Received: from mail-io1-f98.google.com (mail-io1-f98.google.com [209.85.166.98]) by mails.dpdk.org (Postfix) with ESMTP id 4CE2040269 for ; Wed, 12 Feb 2025 05:33:18 +0100 (CET) Received: by mail-io1-f98.google.com with SMTP id ca18e2360f4ac-855184b6473so187943139f.2 for ; Tue, 11 Feb 2025 20:33:18 -0800 (PST) DKIM-Signature: v=1; a=rsa-sha256; c=relaxed/relaxed; d=iol.unh.edu; s=unh-iol; t=1739334797; x=1739939597; darn=dpdk.org; h=references:in-reply-to:cc:to:from:subject:message-id:date:from:to :cc:subject:date:message-id:reply-to; bh=IEgU0L3WT4NossuqD5RMODXYJ344TBRRYJvKUKBobZc=; b=R9gqvTgtWmP2ywTjOqnk8fzsYZIGuY3dsgKRZEyXhh/P86YT2Bno/Yb8pK23ShVvrs 62rfUp+sUOB/MdY07BptPs9loKRQE+4jkHcCnntT7KrnWIKGpTtMwEZTN/8BUmgU8I8x zCsNXVpUSK9oen/QBjvhKMNWeqlF/HLrHSq10= X-Google-DKIM-Signature: v=1; a=rsa-sha256; c=relaxed/relaxed; d=1e100.net; s=20230601; t=1739334797; x=1739939597; h=references:in-reply-to:cc:to:from:subject:message-id:date :x-gm-message-state:from:to:cc:subject:date:message-id:reply-to; bh=IEgU0L3WT4NossuqD5RMODXYJ344TBRRYJvKUKBobZc=; b=qfUgSaKSDMaxHK3LK61NKwwwu470g8YeewHWUgs7Oc5bxOPeQKWcpR4pkuIFrTtJDW m2uEMRKJv5dPWKJjKdq6HwEVW34dfWeVWjuq92nF52jUoDaireEUer73TXK5UzMHZb3e kKD+zUlhkBTB4RzQsF65BqLS1e6ZF93JZ77VjYaIPTU3Cmwtcj9ayLMadNj4Fys6usv7 PzDHHMWshKArDXAvC0laJG2dobkJdhaDyzlObe5+vejeItjxVdp8wsqGliZ0rYUNKcDt fA+dgiRUREmaRKS/KGcujDRddVxquYlvyA42wUIjOSICu7PcD4jk1HnNSRAXWhy+Z8Z1 zkJw== X-Gm-Message-State: AOJu0YzdDYkRCIUOpC8nDXpJAVOrf9PGhis4AVWMR2zJnc6PM3H0yyaD qAPXR2Q5fYCKG/hkn60UuShI6vT3VeCQ01bz8cZ6g6vt0SSaP7hU06+OvL5Gp1i6Oe07RnSOadZ 4ZCYNriRB7kCWQgGN9qhn3cp0KPwNSxOTcI3Lzx7eV3l3LQRB55cQAMia X-Gm-Gg: ASbGncvguS1rn8LyeAh9+ovWcO/0yUgVQ5BJYTild8U6RkSiPBCBrRB2GGh+SZakIlO Z7VIw80KGo4ZzkoFzvfoVgtoRD1OBBxCqG3DOfUlrADgMCRNR0Sx0w9nV9S45knYdzVJ+KBUao8 SJwgDn+V5PSgZLeKClxps91ZtZWMi1kOnS/uFNmeEznIxevRchihcbwK2zPg2ysbx3EWKfsgZzx uUiJqDb9cm44VONrNlmAIDHEeJBeWJUGTW6/qW2F6rUO7EfD1f0sLDdtib29FdQKrFimU+iOaG2 J+FksazXm03if3lRguakoTBhm0Tx2QzFp5f86Cw5/Q== X-Google-Smtp-Source: AGHT+IFmvlHRjR5N1J4S/St9KAoCK5vPa3olah4TKq3uhhiazFOgUUHWH0eiAATe74ozQ/68Yj+6AVwzcZh7 X-Received: by 2002:a05:6602:1651:b0:855:330c:5d63 with SMTP id ca18e2360f4ac-8555791a8femr122737339f.6.1739334797581; Tue, 11 Feb 2025 20:33:17 -0800 (PST) Received: from postal.iol.unh.edu (postal.iol.unh.edu. [2606:4100:3880:1234::84]) by smtp-relay.gmail.com with ESMTPS id 8926c6da1cb9f-4ecef0d4a31sm404411173.23.2025.02.11.20.33.17 (version=TLS1_2 cipher=ECDHE-ECDSA-AES128-GCM-SHA256 bits=128/128); Tue, 11 Feb 2025 20:33:17 -0800 (PST) X-Relaying-Domain: iol.unh.edu Date: Tue, 11 Feb 2025 20:33:17 -0800 (PST) Message-ID: <67ac248d.050a0220.26d6ba.57e1SMTPIN_ADDED_MISSING@mx.google.com> Received: from [172.17.0.3] (unknown [172.18.0.217]) by postal.iol.unh.edu (Postfix) with ESMTP id 0E1E56052471; Tue, 11 Feb 2025 23:33:17 -0500 (EST) Subject: |SUCCESS| pw151356-151366 [PATCH] [v5,11/11] devtools/cocci: add scr From: dpdklab@iol.unh.edu To: Test Report Cc: dpdk-test-reports@iol.unh.edu In-Reply-To: <20250211173720.1188517-12-stephen@networkplumber.org> References: <20250211173720.1188517-12-stephen@networkplumber.org> Content-Type: text/plain X-BeenThere: test-report@dpdk.org X-Mailman-Version: 2.1.29 Precedence: list List-Id: automatic DPDK test reports List-Unsubscribe: , List-Archive: List-Post: List-Help: List-Subscribe: , Errors-To: test-report-bounces@dpdk.org Test-Label: iol-sample-apps-testing Test-Status: SUCCESS http://dpdk.org/patch/151366 _Testing PASS_ Submitter: Stephen Hemminger Date: Tuesday, February 11 2025 17:35:31 DPDK git baseline: Repo:dpdk Branch: master CommitID:05db99c117e36c0cd28cda8f558309efd20055da 151356-151366 --> testing pass Upstream job id: ACVP-FIPS-testing#8882 Test environment and result as below: +--------------------+----------------------+----------------------+ | Environment | compressdev_zlib_pmd | dpdk_fips_validation | +====================+======================+======================+ | Ubuntu 22.04 (ARM) | PASS | SKIPPED | +--------------------+----------------------+----------------------+ | Ubuntu 22.04 | PASS | SKIPPED | +--------------------+----------------------+----------------------+ | Ubuntu 20.04 | SKIPPED | PASS | +--------------------+----------------------+----------------------+ Ubuntu 22.04 (ARM) Kernel: 5.15.0-97-generic Compiler: gcc gcc (Ubuntu 11.4.0-1ubuntu1~22.04) 11.4.0 Ubuntu 22.04 Kernel: 5.15.0-100-generic Compiler: gcc gcc (Ubuntu 11.4.0-1ubuntu1~22.04) 11.4.0 Ubuntu 20.04 Kernel: Depends on container host Compiler: gcc (Ubuntu 9.4.0-1ubuntu1~20.04.2) 9.4.0 To view detailed results, visit: https://lab.dpdk.org/results/dashboard/patchsets/32562/ UNH-IOL DPDK Community Lab To manage your email subscriptions, visit: https://lab.dpdk.org/results/dashboard/preferences/subscriptions/