From mboxrd@z Thu Jan 1 00:00:00 1970 Return-Path: Received: from mails.dpdk.org (mails.dpdk.org [217.70.189.124]) by inbox.dpdk.org (Postfix) with ESMTP id 31283461B0 for ; Wed, 12 Feb 2025 06:06:01 +0100 (CET) Received: from mails.dpdk.org (localhost [127.0.0.1]) by mails.dpdk.org (Postfix) with ESMTP id 0B6F5402A7; Wed, 12 Feb 2025 06:06:01 +0100 (CET) Received: from mail-il1-f228.google.com (mail-il1-f228.google.com [209.85.166.228]) by mails.dpdk.org (Postfix) with ESMTP id 5180E40269 for ; Wed, 12 Feb 2025 06:06:00 +0100 (CET) Received: by mail-il1-f228.google.com with SMTP id e9e14a558f8ab-3cfc8772469so22719135ab.3 for ; Tue, 11 Feb 2025 21:06:00 -0800 (PST) DKIM-Signature: v=1; a=rsa-sha256; c=relaxed/relaxed; d=iol.unh.edu; s=unh-iol; t=1739336759; x=1739941559; darn=dpdk.org; h=references:in-reply-to:cc:to:from:subject:message-id:date:from:to :cc:subject:date:message-id:reply-to; bh=eo7Gt92dRVEtiwuKpjkHDMtD/t4EMhM3HOceTR7oXXU=; b=DK1xGKkpgN+9QeO9MrkvTIZU9XlmMUKcWhl1BZQXIblU9ybWvO1SHeNw8TJUgqxhVE yBK82PPFYh+P3l7X5I10Fl6sdfYspaq6L/XclvE0H8zf7DKckRCuBKuCqKT3zuQSuRQL slawS3+GO1L0Am7t0vAvriws39bMePOYx1l+s= X-Google-DKIM-Signature: v=1; a=rsa-sha256; c=relaxed/relaxed; d=1e100.net; s=20230601; t=1739336759; x=1739941559; h=references:in-reply-to:cc:to:from:subject:message-id:date :x-gm-message-state:from:to:cc:subject:date:message-id:reply-to; bh=eo7Gt92dRVEtiwuKpjkHDMtD/t4EMhM3HOceTR7oXXU=; b=GBxo3CmDZMUG2Pfs8vgjq049UfMz5lWC1Pe+FOMPQ2hcIHEWIPh8Sw04LdalO2BAZO mAoJ57hXhr87QskwKGlq3tTeqa9baUfG4Z+nY/zn7px9y3W7geIiEC2ZQtpNt/9iwQL7 xv/cTahhnSTlcPjO2CYkuqsvxXqGRFLLSxPEAUxI0oZCcPIymrsTzHsl8o+AcUMQUraF 9flFho+gvekYOMmH35NDcr+Yc6JP29ynnp+SF1a7d0g5RlJMlQS68kxcQFKdxX00J1qy mGdGsapATC+0tD8qdB2OD7UNOmoqU/AxqunIytPzcMhTfm6UgNT7piuTAsNILJ8gAAGI xOww== X-Gm-Message-State: AOJu0YwCnn0Yges6+a/2z7w/hxYLoCoRS0PqKqb+T60VkS4URDvjNCVB RtM2WElkv/ZqB24PltrqibybxNfVFNewrtN3iUtTCsWx44brtxD6cN9KITDxxsBE6nHXwZYk+7w i6AazBPcqwynCVMzjduaOFgkmVfHhQq+YMYYJaHeL X-Gm-Gg: ASbGncuW2Mz8ovOeXTEcmt5tVTDHSvdLNGrepKEgwrcJXdiqTAh5DmcL/R11BuhptcU jUb+T6jokVvF3cKnU/HeGcLGintICZmW9a1dl3nTukSqcRqKOl2DwjE/7RVB/Ova3aZulR4CIzW NAumtzDJ1al9/e4vRwOngQx9xyDzyqJ8unXKaheYvduHurxmVuMgLBZ04hw96H1CgbXPDm9mb2m sfvlZx1TqmZbJibuzIl5iSbxeLkt2SMkKhxLBp7opf6PDZ6fsJEd/UJupuEDLN9TDUCegJfvxrt E0jF0IWcr+cP0CPSBkVZNU005WickQ== X-Google-Smtp-Source: AGHT+IFQtxadjhnNWrXRjaDFicDtZ4lh0PwmWZFo9d3A2kEVP04rMwNZUzMKQOWvcsGwiZzDAXajugmst4Kv X-Received: by 2002:a05:6e02:12cf:b0:3d0:24c0:bd4d with SMTP id e9e14a558f8ab-3d17bff94f9mr22195565ab.18.1739336759611; Tue, 11 Feb 2025 21:05:59 -0800 (PST) Received: from postal.iol.unh.edu (postal.iol.unh.edu. [132.177.123.84]) by smtp-relay.gmail.com with ESMTPS id 8926c6da1cb9f-4eccfaa1c89sm728409173.55.2025.02.11.21.05.59 (version=TLS1_2 cipher=ECDHE-ECDSA-AES128-GCM-SHA256 bits=128/128); Tue, 11 Feb 2025 21:05:59 -0800 (PST) X-Relaying-Domain: iol.unh.edu Date: Tue, 11 Feb 2025 21:05:59 -0800 (PST) Message-ID: <67ac2c37.050a0220.324955.5d54SMTPIN_ADDED_MISSING@mx.google.com> Received: from [172.17.0.4] (unknown [172.18.0.217]) by postal.iol.unh.edu (Postfix) with ESMTP id D05746052471; Wed, 12 Feb 2025 00:05:58 -0500 (EST) Subject: |SUCCESS| pw151355 [PATCH] [v0,1/1] dma/cnxk: support pending count From: dpdklab@iol.unh.edu To: Test Report Cc: dpdk-test-reports@iol.unh.edu In-Reply-To: <20250211170532.1650221-1-vattunuru@marvell.com> References: <20250211170532.1650221-1-vattunuru@marvell.com> Content-Type: text/plain X-BeenThere: test-report@dpdk.org X-Mailman-Version: 2.1.29 Precedence: list List-Id: automatic DPDK test reports List-Unsubscribe: , List-Archive: List-Post: List-Help: List-Subscribe: , Errors-To: test-report-bounces@dpdk.org Test-Label: iol-sample-apps-testing Test-Status: SUCCESS http://dpdk.org/patch/151355 _Testing PASS_ Submitter: Vamsi Krishna Date: Tuesday, February 11 2025 17:05:32 DPDK git baseline: Repo:dpdk Branch: master CommitID:762e04c739fa4e7340c0639d3d29fd6230924c96 151355 --> testing pass Upstream job id: ACVP-FIPS-testing#8883 Test environment and result as below: +--------------------+----------------------+----------------------+ | Environment | compressdev_zlib_pmd | dpdk_fips_validation | +====================+======================+======================+ | Ubuntu 22.04 (ARM) | PASS | SKIPPED | +--------------------+----------------------+----------------------+ | Ubuntu 22.04 | PASS | SKIPPED | +--------------------+----------------------+----------------------+ | Ubuntu 20.04 | SKIPPED | PASS | +--------------------+----------------------+----------------------+ Ubuntu 22.04 (ARM) Kernel: 5.15.0-97-generic Compiler: gcc gcc (Ubuntu 11.4.0-1ubuntu1~22.04) 11.4.0 Ubuntu 22.04 Kernel: 5.15.0-100-generic Compiler: gcc gcc (Ubuntu 11.4.0-1ubuntu1~22.04) 11.4.0 Ubuntu 20.04 Kernel: Depends on container host Compiler: gcc (Ubuntu 9.4.0-1ubuntu1~20.04.2) 9.4.0 To view detailed results, visit: https://lab.dpdk.org/results/dashboard/patchsets/32561/ UNH-IOL DPDK Community Lab To manage your email subscriptions, visit: https://lab.dpdk.org/results/dashboard/preferences/subscriptions/