From mboxrd@z Thu Jan 1 00:00:00 1970 Return-Path: Received: from mails.dpdk.org (mails.dpdk.org [217.70.189.124]) by inbox.dpdk.org (Postfix) with ESMTP id 12EB1461B0 for ; Wed, 12 Feb 2025 07:47:18 +0100 (CET) Received: from mails.dpdk.org (localhost [127.0.0.1]) by mails.dpdk.org (Postfix) with ESMTP id 0D2DC40ED1; Wed, 12 Feb 2025 07:47:18 +0100 (CET) Received: from mail-pl1-f225.google.com (mail-pl1-f225.google.com [209.85.214.225]) by mails.dpdk.org (Postfix) with ESMTP id 673B0402A7 for ; Wed, 12 Feb 2025 07:47:16 +0100 (CET) Received: by mail-pl1-f225.google.com with SMTP id d9443c01a7336-21f50895565so73872965ad.2 for ; Tue, 11 Feb 2025 22:47:16 -0800 (PST) DKIM-Signature: v=1; a=rsa-sha256; c=relaxed/relaxed; d=iol.unh.edu; s=unh-iol; t=1739342835; x=1739947635; darn=dpdk.org; h=cc:to:from:subject:message-id:date:from:to:cc:subject:date :message-id:reply-to; bh=wSjrFCEDitNKvJ91nsWaNCf7X/10ed2X+bzOMw8//ss=; b=NiUPNOLyIvKoj3icwW0acv7iQdwXFIZ8hMIKESgFuN7WAwAMTXDs5UfppeojoHO0eo Y4jXGZQMuscRMNYjmCyEnmXrAcMt46X83ruTnnSqvy8n1vhvKAPQd9g2fdXXAezDC3qS XElidNEfWRC/ekoIaXnbYklt9Al4uLnMr9MgU= X-Google-DKIM-Signature: v=1; a=rsa-sha256; c=relaxed/relaxed; d=1e100.net; s=20230601; t=1739342835; x=1739947635; h=cc:to:from:subject:message-id:date:x-gm-message-state:from:to:cc :subject:date:message-id:reply-to; bh=wSjrFCEDitNKvJ91nsWaNCf7X/10ed2X+bzOMw8//ss=; b=AK6xH8NdaKaNrLz7egvqMvIjuuI9Tl7jkSypB59LtvhwzoTmMKVxjVNMdP2BAHF0Q6 9OgCvksDo9oDkgHHIB3OX68NWipa9749epXwKVkN+Sq5NTAmoS+sPYlQwB5kl6zFX4eI 7yodrda7CEiN5cCe5/L1vUOjAtGt0p4CzJUFiE655LG/MhPXlaAtF++CEwQbiGJV98HJ C1R1re/UqpWdpYvNGRsq67xnzyTGl0cIOvmj2Otd/fW+SnSmyyG0ZwJd6lwpILBEmMzq P/1la7TtHV36ownOHbskFchWikqoMRMOFUbY/5usRFvBRic804ZHfu1kvbK3wBknArdX 1CXQ== X-Gm-Message-State: AOJu0YwsuQz5tYoabVT31pxnj8+iI6ZDVOTnIHNUbUSFW0qAJk6zrabi pvMgmxfnUwfKXqaTdT4a7UlO4uEkdMjx2U2EV3iALMUR81uZvSsbS2OsZbuGhX2j+z/hvYE/Wm2 pD98xd/k6vZBPguz6/e/bfSEhe9N6rP19kECo4q15wtuPA7Qe X-Gm-Gg: ASbGncuLZ/W1yRNbvncwsZxMQ3FG+/M4RX98rmhvQLFqG1W2au0vxpMoo6aqsHdasiT hx99cfBaZ0wZjy2xBBbWnjYQkit1mFrU4P5GbwPpa3nOKiyaWSGNaCYlWWT+p5rD7hC+JaKxRpW 0ynpGQJMJx6C5cCdGVdHwDDwLhftEboGSMfCzr91ftkE7cVCAAFnKW3wovK1UiyHHZDCx61TgJg YZlsPWW2zl0fAs12oF4rFMmN1SPEuLjgWxCP8iNUYB5T/sX4+MCU18b1MaPKANsLKlSar8oxcSn +L36DjzwE5ULi5nPhRt8AKoUkOHvKsQiPzaWu+PxXw== X-Google-Smtp-Source: AGHT+IHL/Mu9rZ427MkHEdAbPmEfhvCbewl8khBjkoHUQwit4LTXKqJfDJ7EAh9fkuZ/9B6+5NlNcTzYc439 X-Received: by 2002:a17:902:ce90:b0:212:63c0:d9e7 with SMTP id d9443c01a7336-220bdd15c1fmr32548065ad.0.1739342835638; Tue, 11 Feb 2025 22:47:15 -0800 (PST) Received: from postal.iol.unh.edu (postal.iol.unh.edu. [2606:4100:3880:1234::84]) by smtp-relay.gmail.com with ESMTPS id d9443c01a7336-21f3653b0absm7104265ad.34.2025.02.11.22.47.15 (version=TLS1_2 cipher=ECDHE-ECDSA-AES128-GCM-SHA256 bits=128/128); Tue, 11 Feb 2025 22:47:15 -0800 (PST) X-Relaying-Domain: iol.unh.edu Date: Tue, 11 Feb 2025 22:47:15 -0800 (PST) Message-ID: <67ac43f3.170a0220.1388aa.4fabSMTPIN_ADDED_MISSING@mx.google.com> Received: from [172.21.0.6] (unknown [172.18.0.240]) by postal.iol.unh.edu (Postfix) with ESMTP id C16296052471; Wed, 12 Feb 2025 01:47:14 -0500 (EST) Subject: |SUCCESS| [GIT MASTER] 7ce7d3341d7e21c2a81f2fea8e451681d7306d77 From: dpdklab@iol.unh.edu To: Test Report Cc: dpdk-test-reports@iol.unh.edu, Xueming Li , Christian Ehrhardt , Kevin Traynor , Luca Boccassi Content-Type: text/plain X-BeenThere: test-report@dpdk.org X-Mailman-Version: 2.1.29 Precedence: list List-Id: automatic DPDK test reports List-Unsubscribe: , List-Archive: List-Post: List-Help: List-Subscribe: , Errors-To: test-report-bounces@dpdk.org _Testing PASS_ Branch: tags/v22.11 7ce7d3341d7e21c2a81f2fea8e451681d7306d77 --> testing pass Upstream job id: Generic-DPDK-Compile-ABI#115887 Test environment and result as below: +-------------------+----------+ | Environment | abi_test | +===================+==========+ | CentOS Stream 9 | PASS | +-------------------+----------+ | CentOS Stream 10 | PASS | +-------------------+----------+ | Debian Bullseye | PASS | +-------------------+----------+ | Fedora 41 | PASS | +-------------------+----------+ | Fedora 40 (Clang) | PASS | +-------------------+----------+ | Debian 12 | PASS | +-------------------+----------+ | Fedora 40 | PASS | +-------------------+----------+ | Fedora 41 (Clang) | PASS | +-------------------+----------+ | openSUSE Leap 15 | PASS | +-------------------+----------+ | RHEL8 | PASS | +-------------------+----------+ | RHEL9 | PASS | +-------------------+----------+ | Ubuntu 22.04 | PASS | +-------------------+----------+ | Ubuntu 24.04 | PASS | +-------------------+----------+ CentOS Stream 9 Kernel: Depends on container host Compiler: gcc 11.5.0 20240719 (Red Hat 11.5.0-2) CentOS Stream 10 Kernel: Depends on container host Compiler: gcc 14.2.1 20241104 (Red Hat 14.2.1-6) Debian Bullseye Kernel: Depends on container host Compiler: gcc (Debian 10.2.1-6) 10.2.1 20210110 Fedora 41 Kernel: Depends on container host Compiler: gcc 14.2.1 20240912 (Red Hat 14.2.1-3) Fedora 40 (Clang) Kernel: Depends on container host Compiler: clang 18.1.8 (Fedora 18.1.8-1.fc40) Debian 12 Kernel: Depends on container host Compiler: gcc (Debian 12.2.0-14) 12.2.0 Fedora 40 Kernel: Depends on container host Compiler: gcc 14.2.1 20240912 (Red Hat 14.2.1-3) Fedora 41 (Clang) Kernel: Depends on container host Compiler: clang 19.1.5 (Fedora 19.1.5-1.fc41) openSUSE Leap 15 Kernel: Depends on container host Compiler: gcc (SUSE Linux) 7.5.0 RHEL8 Kernel: Depends on container host Compiler: gcc 8.5.0 20210514 (Red Hat 8.5.0-22) RHEL9 Kernel: Depends on container host Compiler: gcc 11.5.0 20240719 (Red Hat 11.5.0-2) Ubuntu 22.04 Kernel: Depends on container host Compiler: gcc (Ubuntu 11.4.0-1ubuntu1~22.04) 11.4.0 Ubuntu 24.04 Kernel: Depends on container host Compiler: gcc (Ubuntu 13.3.0-6ubuntu2~24.04) 13.3.0 To view detailed results, visit: https://lab.dpdk.org/results/dashboard/tarballs/32551/ UNH-IOL DPDK Community Lab To manage your email subscriptions, visit: https://lab.dpdk.org/results/dashboard/preferences/subscriptions/