From mboxrd@z Thu Jan 1 00:00:00 1970 Return-Path: Received: from mails.dpdk.org (mails.dpdk.org [217.70.189.124]) by inbox.dpdk.org (Postfix) with ESMTP id 761AB461FE for ; Wed, 12 Feb 2025 08:03:48 +0100 (CET) Received: from mails.dpdk.org (localhost [127.0.0.1]) by mails.dpdk.org (Postfix) with ESMTP id 70375402A7; Wed, 12 Feb 2025 08:03:48 +0100 (CET) Received: from mail-pl1-f225.google.com (mail-pl1-f225.google.com [209.85.214.225]) by mails.dpdk.org (Postfix) with ESMTP id 3CE2D40269 for ; Wed, 12 Feb 2025 08:03:47 +0100 (CET) Received: by mail-pl1-f225.google.com with SMTP id d9443c01a7336-220bfdfb3f4so7022105ad.2 for ; Tue, 11 Feb 2025 23:03:47 -0800 (PST) DKIM-Signature: v=1; a=rsa-sha256; c=relaxed/relaxed; d=iol.unh.edu; s=unh-iol; t=1739343826; x=1739948626; darn=dpdk.org; h=cc:to:from:subject:message-id:date:from:to:cc:subject:date :message-id:reply-to; bh=wO+1PueoRfnKizc7HvDieIBJQXp1qxyI+P3CmSkxnMM=; b=hBBztV7Qzk5mdGLSwmPb88Ltsto91vrZ72lgZgJjYU0G7cKDHNJIICCV+eZXCZOl7B YPPw4BRA6B2xaaXeIkyLI8FxN1GzeGpNuEdvQcF76FZEu4MP/QCv3RFkns8sBFaKNbzX dz4rcJiXetgo4yiZ9ZkxfMuqj70bTqhSrTa0c= X-Google-DKIM-Signature: v=1; a=rsa-sha256; c=relaxed/relaxed; d=1e100.net; s=20230601; t=1739343826; x=1739948626; h=cc:to:from:subject:message-id:date:x-gm-message-state:from:to:cc :subject:date:message-id:reply-to; bh=wO+1PueoRfnKizc7HvDieIBJQXp1qxyI+P3CmSkxnMM=; b=Hq4hFGpaAAgHkIZeBYI4RAuvfON5yr7X+NIXb3epWTd4aRYiQ5H+SsHcWgvluf23rR X5mfpIVP1ahz7f9McVhUw5onvj8cv5Whmok0JE3tFYcU7k1AVr+bT8YtfrFy8JC99GPo 2J0gWh1bB9qa+Nant6P/0kvQUhp+jWOpcO6f1+PCanmc3nFoH66t1M8gecNZyGxSB6aR llLy3CqeupHn0LVndhd1SAkKpabegLv9cgRSpa7YlD18QHYrLHcgFIRg8WlJU3BzG4Er 32qeDaZjVydv5QzACcQDbhBKYYysNQD8NHZuJjbWewYEV+WROmG8zhdMB9gEV+su0BcK JeZw== X-Gm-Message-State: AOJu0Ywq9ZZqC4Iw53JVygM9e4gkLnJPCpish7G9UgiImKcQifipjc3y X8/E+LhbSSWHRmHk2+EPnkVLwgO8F2zZ3hMdTcHzgBXmWInNs9jaJgudVVaFJyIVCeXNbUfhcs7 fG0leSgJ3SUjXUisbjF3chYIu2gAg5Bev X-Gm-Gg: ASbGncu3l4T1zT2Vif2SPpy8mWtrUZ6FzXBJ52uoiIOcIXyh9NwnUtPOlQ7V3Th60el BGHwp14vWdq19KVGYHKXOsMhO1pwxPsE3/1vG08vB/jxd55nX0D6txxwXHZe5UEEGo5zBP1IeA+ t55FgUE8KueScoRS8G/QcIK0IVv9/+CphVIsRLsDdxzbppBCZYoALvGiYfK65tqt8aRiRStndVX vDKP+2oe6tn7BLQAVnpAMS3Mitb75+1HHeH6aAIeaSi5B0X8w2hxspjTCU/A2opiJQjTLqKa0zi sGVeDSuGT6nRQxF/1YoJcGGBsY07lg== X-Google-Smtp-Source: AGHT+IFX1vRa9go1fMQ91hYB+JBDj4cahS3VTnPywkV0IUR1vNQoc5W60JLNm628SMoflVXDzdz0bKBAcRcl X-Received: by 2002:a17:903:2b06:b0:21f:8099:72d9 with SMTP id d9443c01a7336-220bbb0c43emr37157385ad.27.1739343826404; Tue, 11 Feb 2025 23:03:46 -0800 (PST) Received: from postal.iol.unh.edu (postal.iol.unh.edu. [132.177.123.84]) by smtp-relay.gmail.com with ESMTPS id d9443c01a7336-220bd61a413sm480695ad.101.2025.02.11.23.03.46 (version=TLS1_2 cipher=ECDHE-ECDSA-AES128-GCM-SHA256 bits=128/128); Tue, 11 Feb 2025 23:03:46 -0800 (PST) X-Relaying-Domain: iol.unh.edu Date: Tue, 11 Feb 2025 23:03:46 -0800 (PST) Message-ID: <67ac47d2.170a0220.16e90e.291cSMTPIN_ADDED_MISSING@mx.google.com> Received: from [172.21.0.5] (unknown [172.18.0.240]) by postal.iol.unh.edu (Postfix) with ESMTP id 9083F6052471; Wed, 12 Feb 2025 02:03:45 -0500 (EST) Subject: |SUCCESS| [GIT MASTER] 7ce7d3341d7e21c2a81f2fea8e451681d7306d77 From: dpdklab@iol.unh.edu To: Test Report Cc: dpdk-test-reports@iol.unh.edu, Xueming Li , Christian Ehrhardt , Kevin Traynor , Luca Boccassi Content-Type: text/plain X-BeenThere: test-report@dpdk.org X-Mailman-Version: 2.1.29 Precedence: list List-Id: automatic DPDK test reports List-Unsubscribe: , List-Archive: List-Post: List-Help: List-Subscribe: , Errors-To: test-report-bounces@dpdk.org _Testing PASS_ Branch: tags/v22.11 7ce7d3341d7e21c2a81f2fea8e451681d7306d77 --> testing pass Upstream job id: Generic-Unit-Test-DPDK#314268 Test environment and result as below: +-----------------------------+----------------+------------------------------+---------------------------+--------------+ | Environment | dpdk_unit_test | cryptodev_sw_snow3g_autotest | cryptodev_sw_zuc_autotest | lpm_autotest | +=============================+================+==============================+===========================+==============+ | 32-bit Ubuntu 22.04.4 (ARM) | PASS | SKIPPED | SKIPPED | SKIPPED | +-----------------------------+----------------+------------------------------+---------------------------+--------------+ | Debian 12 (arm) | SKIPPED | PASS | PASS | SKIPPED | +-----------------------------+----------------+------------------------------+---------------------------+--------------+ | Ubuntu 20.04 ARM SVE | SKIPPED | SKIPPED | SKIPPED | PASS | +-----------------------------+----------------+------------------------------+---------------------------+--------------+ 32-bit Ubuntu 22.04.4 (ARM) Kernel: 5.15.83+ aarch64 Compiler: gcc (Ubuntu 11.4.0-1ubuntu1~22.04) 11.4.0 Debian 12 (arm) Kernel: Depends on container host Compiler: gcc (Debian 12.2.0-14) 12.2.0 Ubuntu 20.04 ARM SVE Kernel: Depends on container host Compiler: gcc (Ubuntu 10.5.0-1ubuntu1~20.04) 10.5.0 To view detailed results, visit: https://lab.dpdk.org/results/dashboard/tarballs/32551/ UNH-IOL DPDK Community Lab To manage your email subscriptions, visit: https://lab.dpdk.org/results/dashboard/preferences/subscriptions/