From mboxrd@z Thu Jan 1 00:00:00 1970 Return-Path: Received: from mails.dpdk.org (mails.dpdk.org [217.70.189.124]) by inbox.dpdk.org (Postfix) with ESMTP id 3794E461FF for ; Wed, 12 Feb 2025 08:07:36 +0100 (CET) Received: from mails.dpdk.org (localhost [127.0.0.1]) by mails.dpdk.org (Postfix) with ESMTP id 18C56402A7; Wed, 12 Feb 2025 08:07:36 +0100 (CET) Received: from mail-pl1-f227.google.com (mail-pl1-f227.google.com [209.85.214.227]) by mails.dpdk.org (Postfix) with ESMTP id 3E3BB40269 for ; Wed, 12 Feb 2025 08:07:35 +0100 (CET) Received: by mail-pl1-f227.google.com with SMTP id d9443c01a7336-21f5a224544so57726615ad.0 for ; Tue, 11 Feb 2025 23:07:35 -0800 (PST) DKIM-Signature: v=1; a=rsa-sha256; c=relaxed/relaxed; d=iol.unh.edu; s=unh-iol; t=1739344054; x=1739948854; darn=dpdk.org; h=cc:to:from:subject:message-id:date:from:to:cc:subject:date :message-id:reply-to; bh=i+FBgq3GdtJO7KuaMV/okVykOSwdoA12WTwcb+iCIUE=; b=Sx+KzT1ixeylLCFvExgfscU7+NYSnXXJ/HX/Lq+u61elsFYcrp0iC8D70kYZ5rhAhg v6Y2FsCfb/WRRxJ5Hn604wGAySbMjPV0p1JoAAt1/8ti8HyMHn3GdInl5EV8P/Yl7mUX AzzA6KeDhBOstwRKC1XtaHprHgPKpbO1EyDRU= X-Google-DKIM-Signature: v=1; a=rsa-sha256; c=relaxed/relaxed; d=1e100.net; s=20230601; t=1739344054; x=1739948854; h=cc:to:from:subject:message-id:date:x-gm-message-state:from:to:cc :subject:date:message-id:reply-to; bh=i+FBgq3GdtJO7KuaMV/okVykOSwdoA12WTwcb+iCIUE=; b=Xvk8ZZtIYhTVANZpOruvr79lNa1+cLBtjSXLT2keRbpfGEDTY/cIXJLJWmul48lSCv LqxXwYyXP3F6bkZTcXQm0y08Ig8OCkRFQieFv6dqY03K3TjdLqwysweNlosMsa8lRz2F JsnfchjvIyc2nxKFn/tNk2P2viOvq/hOinGVOauYf2WXEdO1La7MRa+vZD8866+7K8Ax oMIqJfpghhONTU/1TS5gAsYrpx6lViDgZqE+5a+nDHkSznqddRgx04dgHodMBwcb2GZq VYwYxGFeztpmVfAIPjbfaKQ0ROiOWl8WYVjs1D7GZq307HUYn06YL/TgFz+RM/spB8PB dOfw== X-Gm-Message-State: AOJu0YzWJvE8Qik2GUwmARdsJJFi+CJzTF3AoQLKYpjvvsDciERZvHAs IOtqox90AwOuEU8PUUaSImNjUtGh37TUf/HkFIU5Bpc8l4VNVOAAWTaspqtXUUGf3CkS4D8TeAm o2+NTLcmIHXa8pCRGsg377zSokKpAsfkfojKvSQGtIGRHmUfO X-Gm-Gg: ASbGncub5qxP9PjAYyNcsqcLJan+/Q4ZW02JHRXuWBoH9pIsnGrcgb7QCI3AqdHCw7i fCZYQdZBvPbuUPJa++iuELWlHp45cnbg0P9mgsCrrvhDThU2iKfyhmLR5PR08B9uPCrc9CmRpjI 0s3rG1nwF+IpWBlibs2uqwMsmsn5pRTgNGpH0IwIeMWFZ3U8E/uK1U8WOr/mvBvr2TMohh+AZs3 ncNYRYrMoNJjzxNZ8LIEButKGLTLEURytfFJqDxTvHsL8eQFxaS5kTri1DEKNuj3bvEra7dpT+5 BUIY/lFc6+TiiaVJ7fLxp8PTLDJ/OVCQK+gU6fjygA== X-Google-Smtp-Source: AGHT+IFVo9PBVWMQ93H3txBLFrftQLBI/ib5eDRGpHlCZ8QehgnriS3lmYwBBhRqNii6+3ajfRcjXCD9LzcW X-Received: by 2002:a17:902:d511:b0:21c:15b3:e3a8 with SMTP id d9443c01a7336-220bbc647b0mr36248485ad.37.1739344054374; Tue, 11 Feb 2025 23:07:34 -0800 (PST) Received: from postal.iol.unh.edu (postal.iol.unh.edu. [2606:4100:3880:1234::84]) by smtp-relay.gmail.com with ESMTPS id d9443c01a7336-220c5a295d3sm26845ad.52.2025.02.11.23.07.34 (version=TLS1_2 cipher=ECDHE-ECDSA-AES128-GCM-SHA256 bits=128/128); Tue, 11 Feb 2025 23:07:34 -0800 (PST) X-Relaying-Domain: iol.unh.edu Date: Tue, 11 Feb 2025 23:07:34 -0800 (PST) Message-ID: <67ac48b6.170a0220.2bf946.01ceSMTPIN_ADDED_MISSING@mx.google.com> Received: from [172.21.0.5] (unknown [172.18.0.240]) by postal.iol.unh.edu (Postfix) with ESMTP id 7EDD26052471; Wed, 12 Feb 2025 02:07:33 -0500 (EST) Subject: |SUCCESS| [GIT MASTER] c66daa12e76d7b4912cfb7109a761856a7a873ab From: dpdklab@iol.unh.edu To: Test Report Cc: dpdk-test-reports@iol.unh.edu, Xueming Li , Christian Ehrhardt , Kevin Traynor , Luca Boccassi Content-Type: text/plain X-BeenThere: test-report@dpdk.org X-Mailman-Version: 2.1.29 Precedence: list List-Id: automatic DPDK test reports List-Unsubscribe: , List-Archive: List-Post: List-Help: List-Subscribe: , Errors-To: test-report-bounces@dpdk.org _Testing PASS_ Branch: tags/v23.11 c66daa12e76d7b4912cfb7109a761856a7a873ab --> testing pass Upstream job id: Generic-DPDK-Compile-ABI#115904 Test environment and result as below: +-------------------+----------+ | Environment | abi_test | +===================+==========+ | CentOS Stream 9 | PASS | +-------------------+----------+ | CentOS Stream 10 | PASS | +-------------------+----------+ | Fedora 41 | PASS | +-------------------+----------+ | Debian 12 | PASS | +-------------------+----------+ | Debian Bullseye | PASS | +-------------------+----------+ | Fedora 40 (Clang) | PASS | +-------------------+----------+ | Fedora 41 (Clang) | PASS | +-------------------+----------+ | Fedora 40 | PASS | +-------------------+----------+ | RHEL9 | PASS | +-------------------+----------+ | openSUSE Leap 15 | PASS | +-------------------+----------+ | RHEL8 | PASS | +-------------------+----------+ | Ubuntu 24.04 | PASS | +-------------------+----------+ | Ubuntu 22.04 | PASS | +-------------------+----------+ CentOS Stream 9 Kernel: Depends on container host Compiler: gcc 11.5.0 20240719 (Red Hat 11.5.0-2) CentOS Stream 10 Kernel: Depends on container host Compiler: gcc 14.2.1 20241104 (Red Hat 14.2.1-6) Fedora 41 Kernel: Depends on container host Compiler: gcc 14.2.1 20240912 (Red Hat 14.2.1-3) Debian 12 Kernel: Depends on container host Compiler: gcc (Debian 12.2.0-14) 12.2.0 Debian Bullseye Kernel: Depends on container host Compiler: gcc (Debian 10.2.1-6) 10.2.1 20210110 Fedora 40 (Clang) Kernel: Depends on container host Compiler: clang 18.1.8 (Fedora 18.1.8-1.fc40) Fedora 41 (Clang) Kernel: Depends on container host Compiler: clang 19.1.5 (Fedora 19.1.5-1.fc41) Fedora 40 Kernel: Depends on container host Compiler: gcc 14.2.1 20240912 (Red Hat 14.2.1-3) RHEL9 Kernel: Depends on container host Compiler: gcc 11.5.0 20240719 (Red Hat 11.5.0-2) openSUSE Leap 15 Kernel: Depends on container host Compiler: gcc (SUSE Linux) 7.5.0 RHEL8 Kernel: Depends on container host Compiler: gcc 8.5.0 20210514 (Red Hat 8.5.0-22) Ubuntu 24.04 Kernel: Depends on container host Compiler: gcc (Ubuntu 13.3.0-6ubuntu2~24.04) 13.3.0 Ubuntu 22.04 Kernel: Depends on container host Compiler: gcc (Ubuntu 11.4.0-1ubuntu1~22.04) 11.4.0 To view detailed results, visit: https://lab.dpdk.org/results/dashboard/tarballs/32550/ UNH-IOL DPDK Community Lab To manage your email subscriptions, visit: https://lab.dpdk.org/results/dashboard/preferences/subscriptions/