From mboxrd@z Thu Jan 1 00:00:00 1970 Return-Path: Received: from mails.dpdk.org (mails.dpdk.org [217.70.189.124]) by inbox.dpdk.org (Postfix) with ESMTP id 6972C461FF for ; Wed, 12 Feb 2025 08:16:34 +0100 (CET) Received: from mails.dpdk.org (localhost [127.0.0.1]) by mails.dpdk.org (Postfix) with ESMTP id 646E940269; Wed, 12 Feb 2025 08:16:34 +0100 (CET) Received: from mail-yb1-f227.google.com (mail-yb1-f227.google.com [209.85.219.227]) by mails.dpdk.org (Postfix) with ESMTP id C32E340263 for ; Wed, 12 Feb 2025 08:16:32 +0100 (CET) Received: by mail-yb1-f227.google.com with SMTP id 3f1490d57ef6-e5372a2fbddso5248820276.3 for ; Tue, 11 Feb 2025 23:16:32 -0800 (PST) DKIM-Signature: v=1; a=rsa-sha256; c=relaxed/relaxed; d=iol.unh.edu; s=unh-iol; t=1739344592; x=1739949392; darn=dpdk.org; h=references:in-reply-to:cc:to:from:subject:message-id:date:from:to :cc:subject:date:message-id:reply-to; bh=L2iLP6OX2k32JOesOA7ettI1UuGYeQfObtldY41C8ZU=; b=YiawTgKN4ZpGSFpR4X9SUjjDSkNPtqXEU2BRz8L4/AgDrZ0b4ujuDWFrWDnEVOypZJ UMpuXafxxq4Pyd7+CMOeeNnuHhV7VFNj5ITgBWCxq0m8+XptzE2td6grhrJs6DojT1At xr6iEWuhkAKi//biicv8xXfhEgZO/JJyfv4SQ= X-Google-DKIM-Signature: v=1; a=rsa-sha256; c=relaxed/relaxed; d=1e100.net; s=20230601; t=1739344592; x=1739949392; h=references:in-reply-to:cc:to:from:subject:message-id:date :x-gm-message-state:from:to:cc:subject:date:message-id:reply-to; bh=L2iLP6OX2k32JOesOA7ettI1UuGYeQfObtldY41C8ZU=; b=qWovAKW76ksMSsSsbVQZw6NpIPF+Ieo+p6iAHle6+P5JdsLM/CTqT14PPDpxjfzJcH 8b46yNFZAA+eF7Kr2rLNh7olnJBdOVQKmxp39CuaU7U3dOi+HzP2//6R5zZrz7M3SvDf /yRwDbl0A6IGMFcxdNOTqlU+YPPM4wEXvRDEnOO+IxmQNoTweTFQG/Eb2s3jkZqDp09J UOCRF5CDSHwCOhVFNtlFfFwXeyms5UpoEE8xWfplP2ZJuQQy4Yxq6OOO4azKkja7CJvE NeSQRHAPg1jxNxP5QCe30OSrUZ2m8lO04VirBRSCnguifB7oq3bVF6gkKVsOU4cXZLSJ r5aA== X-Gm-Message-State: AOJu0Yzs4Fb22zIoY4e3Wn0DwFYQBNpvLxskvN9TwdcRFgyFF5GnIl8w /bDrrevYIY+hovzOSJaEwb0d1//eWpWqgKwMXZMcGdKbopW7LZNjrK8Ib2aCDahzXz8WHuVn4Ms jnI93fFHzz6diKPfD2Dqf2C9KSvNXmQt0CuM53Rjp X-Gm-Gg: ASbGnctq7u3IL+6ZXVSeYiiyjWZZ8Bf/hsaYVZuKCl9CFwfpj7i6dR/57FO8HT6KidZ +p/WwQJrdVm2vSC3ZcHLnblUz4lP66t6LpVJeWTIFLVyG/Fi71MeFtD8wOMjd9B01hFe7JsNhSb BAaMlVYWIVdcA1wZw8mA/eKcanYYlHsStSDcC5zCObdYdCK3pL8oBpBviuoNTiyatgAHULNO5AH Daw0v/5D9XNub0iKEvwyTw3gLtszqO9FyNtv9R3RPku7MQwDcrnEyEnU6tzjkYIKBuBUUZKU96d jjK/Xfa99JjdI2JDyDQkyntN9799yg== X-Google-Smtp-Source: AGHT+IGfRyHQc0Z7zQVkiEDOEQS2DPQiCRgYK41mQGqKlWnkFCB/c946y+Z66gMz8JECoeGdMSES0oEd6vGM X-Received: by 2002:a05:6902:2d07:b0:e5a:e625:e514 with SMTP id 3f1490d57ef6-e5d9f0fbf7amr2023042276.13.1739344592087; Tue, 11 Feb 2025 23:16:32 -0800 (PST) Received: from postal.iol.unh.edu (postal.iol.unh.edu. [132.177.123.84]) by smtp-relay.gmail.com with ESMTPS id 3f1490d57ef6-e5b3a433d3fsm740460276.19.2025.02.11.23.16.32 (version=TLS1_2 cipher=ECDHE-ECDSA-AES128-GCM-SHA256 bits=128/128); Tue, 11 Feb 2025 23:16:32 -0800 (PST) X-Relaying-Domain: iol.unh.edu Date: Tue, 11 Feb 2025 23:16:32 -0800 (PST) Message-ID: <67ac4ad0.250a0220.f6507.77c7SMTPIN_ADDED_MISSING@mx.google.com> Received: from [172.21.0.5] (unknown [172.18.0.240]) by postal.iol.unh.edu (Postfix) with ESMTP id 645906052471; Wed, 12 Feb 2025 02:16:31 -0500 (EST) Subject: |SUCCESS| pw151377 [PATCH] examples/l3fwd: adjust Tx burst size base From: dpdklab@iol.unh.edu To: Test Report Cc: dpdk-test-reports@iol.unh.edu In-Reply-To: <20250212045416.2393001-1-sivaprasad.tummala@amd.com> References: <20250212045416.2393001-1-sivaprasad.tummala@amd.com> Content-Type: text/plain X-BeenThere: test-report@dpdk.org X-Mailman-Version: 2.1.29 Precedence: list List-Id: automatic DPDK test reports List-Unsubscribe: , List-Archive: List-Post: List-Help: List-Subscribe: , Errors-To: test-report-bounces@dpdk.org Test-Label: iol-compile-amd64-testing Test-Status: SUCCESS http://dpdk.org/patch/151377 _Testing PASS_ Submitter: Sivaprasad Tummala Date: Wednesday, February 12 2025 04:54:16 DPDK git baseline: Repo:dpdk Branch: master CommitID:046cca99c3fd03bfb95d3e27a56aab40c2c8f45a 151377 --> testing pass Upstream job id: Windows-Compile-DPDK-VS#4910 Test environment and result as below: +---------------------+--------------------+-------------------+ | Environment | dpdk_meson_compile | dpdk_msvc_compile | +=====================+====================+===================+ | FreeBSD 13.4 | PASS | SKIPPED | +---------------------+--------------------+-------------------+ | FreeBSD 14.2 | PASS | SKIPPED | +---------------------+--------------------+-------------------+ | Windows Server 2022 | SKIPPED | PASS | +---------------------+--------------------+-------------------+ FreeBSD 13.4 Kernel: 13.4-RELEASE-p1 Compiler: clang 18.1.6 FreeBSD 14.2 Kernel: 14.2-RELEASE Compiler: clang 18.1.6 Windows Server 2022 Kernel: 10.0.20348.2031 Compiler: clang 15.0.7, gcc 14.1.0 (MinGW), and MSVC VS 19.39.33521 To view detailed results, visit: https://lab.dpdk.org/results/dashboard/patchsets/32565/ UNH-IOL DPDK Community Lab To manage your email subscriptions, visit: https://lab.dpdk.org/results/dashboard/preferences/subscriptions/