From mboxrd@z Thu Jan 1 00:00:00 1970 Return-Path: Received: from mails.dpdk.org (mails.dpdk.org [217.70.189.124]) by inbox.dpdk.org (Postfix) with ESMTP id C5E4F461FF for ; Wed, 12 Feb 2025 08:18:35 +0100 (CET) Received: from mails.dpdk.org (localhost [127.0.0.1]) by mails.dpdk.org (Postfix) with ESMTP id A193F40269; Wed, 12 Feb 2025 08:18:35 +0100 (CET) Received: from mail-io1-f97.google.com (mail-io1-f97.google.com [209.85.166.97]) by mails.dpdk.org (Postfix) with ESMTP id 4178D40263 for ; Wed, 12 Feb 2025 08:18:34 +0100 (CET) Received: by mail-io1-f97.google.com with SMTP id ca18e2360f4ac-8551c57cb8aso90972039f.3 for ; Tue, 11 Feb 2025 23:18:34 -0800 (PST) DKIM-Signature: v=1; a=rsa-sha256; c=relaxed/relaxed; d=iol.unh.edu; s=unh-iol; t=1739344713; x=1739949513; darn=dpdk.org; h=cc:to:from:subject:message-id:date:from:to:cc:subject:date :message-id:reply-to; bh=eaLZy/SzGkC/yxyTe1UPs2Al0iZ+OBEzrwSeEayNDjg=; b=CucvYZXlcJ6dLpFy7jKlQeces1UazQ1DKNpns/CiFmGkCZyxD3DdQxqzdsSsIxGCzX kTUFSsxTsQMioBZa1QL8etTl4dTFbb1MuzhU4a6eoFTvnWKC7CbWO2/ULtSn6dE+oJoT Ww39chDNG1f/NmZGMzAHkr38XdHj1wY3fv4uw= X-Google-DKIM-Signature: v=1; a=rsa-sha256; c=relaxed/relaxed; d=1e100.net; s=20230601; t=1739344713; x=1739949513; h=cc:to:from:subject:message-id:date:x-gm-message-state:from:to:cc :subject:date:message-id:reply-to; bh=eaLZy/SzGkC/yxyTe1UPs2Al0iZ+OBEzrwSeEayNDjg=; b=VZprRsTvnFSeNh3zaIf1LT8L72S264L57ZiXkh0SA0KQXtRtjUFg17z0/cM0DhI2D5 /e9Fud5jH8of6nrUq5zn4wkvjVo4yVToTrbdkKpay5xjdXtbgKfsl97mflLRf7Ky3owE Rvva5LcV2GkxWtaCWISGGkM/nuCyxdTQBktfjinfaBqkdL9W+qYux/BSk+TMddDjQS7j xWKeTUxPkTkZZhhActhTyXJv1olgIYF+mBpHZemiMkIKJKrMADTWwT6PhJVIcw1LZKtu DaKl55JVvjVDuJbN/jCtx7lrFtKy9IvCBBC4Ay1l5q6s10sFMgu3cizO6VPAs+7Q221Z 9gkA== X-Gm-Message-State: AOJu0Yz37aJ77Cl5OZTr0fEnnsau6BBqN0iZe1Fyrq/HDDJu+MVgUz3u dxX8Zu8pNYD3Kl/ve5vVMnMrDVz+kyF9iWm88BDOsWlsi8ps4Hoh/ukQyLXidfHVwmuAOdVI83/ qO5hDaMWul4UbQnvXbSwsphQf9UOtGUuUwwI1xNjC X-Gm-Gg: ASbGnctOnXmYw58hviLME5iTc78VS+LN5HpQU5N/b7RSqNOxd7hhCIexOxE36Y3EmVi zVCEx4v0UCi+OCQJ/2tosKsVaGOOezghTSXTc45OgbVZ6t1rAJKDuXb+0/eUQb1xkUuya2bOIQO lpi8xhbB9YelUulIYUJGzwbJFhWqd/VhL5dnOM0wV/1kIrH5NdQymB+YrD6xzA5JijdgX4o62I0 KEIQXuAXP2nOSevjKGLu8g/LKX7B5hOEnKtMHDsuj3C8BbqSHZ8vQtDISGyiP+c31uZjEnQi51R CQINuojQbHdfOkhPp+hsvb3lWkHOUg== X-Google-Smtp-Source: AGHT+IGexwS2rovrc6pjRZ5z5xFoD8BHL8rdo9hnlOpmw/1eNVf+EAE/EZJey4bHcLncYH9BDPTIMpm/CmRr X-Received: by 2002:a05:6e02:17cc:b0:3a7:6566:1e8f with SMTP id e9e14a558f8ab-3d17bffdfbamr19949035ab.16.1739344713467; Tue, 11 Feb 2025 23:18:33 -0800 (PST) Received: from postal.iol.unh.edu (postal.iol.unh.edu. [132.177.123.84]) by smtp-relay.gmail.com with ESMTPS id e9e14a558f8ab-3d179748542sm1075945ab.59.2025.02.11.23.18.33 (version=TLS1_2 cipher=ECDHE-ECDSA-AES128-GCM-SHA256 bits=128/128); Tue, 11 Feb 2025 23:18:33 -0800 (PST) X-Relaying-Domain: iol.unh.edu Date: Tue, 11 Feb 2025 23:18:33 -0800 (PST) Message-ID: <67ac4b49.050a0220.2d4926.5b78SMTPIN_ADDED_MISSING@mx.google.com> Received: from [172.21.0.5] (unknown [172.18.0.240]) by postal.iol.unh.edu (Postfix) with ESMTP id EA7466052471; Wed, 12 Feb 2025 02:18:32 -0500 (EST) Subject: |SUCCESS| [GIT MASTER] 95ff85f8acb0c7c912fd29b01428377fcbf1112a From: dpdklab@iol.unh.edu To: Test Report Cc: dpdk-test-reports@iol.unh.edu, Akhil Goyal Content-Type: text/plain X-BeenThere: test-report@dpdk.org X-Mailman-Version: 2.1.29 Precedence: list List-Id: automatic DPDK test reports List-Unsubscribe: , List-Archive: List-Post: List-Help: List-Subscribe: , Errors-To: test-report-bounces@dpdk.org _Testing PASS_ Branch: dpdk-next-crypto 95ff85f8acb0c7c912fd29b01428377fcbf1112a --> testing pass Upstream job id: ACVP-FIPS-testing#8884 Test environment and result as below: +--------------------+----------------------+----------------------+ | Environment | compressdev_zlib_pmd | dpdk_fips_validation | +====================+======================+======================+ | Ubuntu 22.04 (ARM) | PASS | SKIPPED | +--------------------+----------------------+----------------------+ | Ubuntu 22.04 | PASS | SKIPPED | +--------------------+----------------------+----------------------+ | Ubuntu 20.04 | SKIPPED | PASS | +--------------------+----------------------+----------------------+ Ubuntu 22.04 (ARM) Kernel: 5.15.0-97-generic Compiler: gcc gcc (Ubuntu 11.4.0-1ubuntu1~22.04) 11.4.0 Ubuntu 22.04 Kernel: 5.15.0-100-generic Compiler: gcc gcc (Ubuntu 11.4.0-1ubuntu1~22.04) 11.4.0 Ubuntu 20.04 Kernel: Depends on container host Compiler: gcc (Ubuntu 9.4.0-1ubuntu1~20.04.2) 9.4.0 To view detailed results, visit: https://lab.dpdk.org/results/dashboard/tarballs/32547/ UNH-IOL DPDK Community Lab To manage your email subscriptions, visit: https://lab.dpdk.org/results/dashboard/preferences/subscriptions/