From mboxrd@z Thu Jan 1 00:00:00 1970 Return-Path: Received: from mails.dpdk.org (mails.dpdk.org [217.70.189.124]) by inbox.dpdk.org (Postfix) with ESMTP id B1EBD461FF for ; Wed, 12 Feb 2025 08:47:47 +0100 (CET) Received: from mails.dpdk.org (localhost [127.0.0.1]) by mails.dpdk.org (Postfix) with ESMTP id A75C540269; Wed, 12 Feb 2025 08:47:47 +0100 (CET) Received: from mail-pl1-f225.google.com (mail-pl1-f225.google.com [209.85.214.225]) by mails.dpdk.org (Postfix) with ESMTP id 6E07940263 for ; Wed, 12 Feb 2025 08:47:46 +0100 (CET) Received: by mail-pl1-f225.google.com with SMTP id d9443c01a7336-220c4159f87so2139565ad.0 for ; Tue, 11 Feb 2025 23:47:46 -0800 (PST) DKIM-Signature: v=1; a=rsa-sha256; c=relaxed/relaxed; d=iol.unh.edu; s=unh-iol; t=1739346465; x=1739951265; darn=dpdk.org; h=references:in-reply-to:cc:to:from:subject:message-id:date:from:to :cc:subject:date:message-id:reply-to; bh=/HRbTi66EasxSnucxH8cYx4K7BgouxDg239agGUgAo4=; b=ZYtGamrIh81M0Dg68oIBO+GyjDpEDdNs9o55K7vsBc/eRONxkz7Z/n6gvHEbwoUCZj 6R1bHMXEQTM7qcI7zOTv/GCfwFd+Ng88lmfMyocAoLH8UMmh+xgkNFnCngXObRhZ1ruL m/A0PKAdk2vG8fPBJ6dwYxQ4aSr/0Boe5Z7yI= X-Google-DKIM-Signature: v=1; a=rsa-sha256; c=relaxed/relaxed; d=1e100.net; s=20230601; t=1739346465; x=1739951265; h=references:in-reply-to:cc:to:from:subject:message-id:date :x-gm-message-state:from:to:cc:subject:date:message-id:reply-to; bh=/HRbTi66EasxSnucxH8cYx4K7BgouxDg239agGUgAo4=; b=w6DlNfdzxYaiwo0bq/K8gYDlYopWrOZo5jdAvIfu77XHOy047idbbfKqAE4UBDb/5L SxIA8OjBnVHFmQF0dqEJI5ZvsOzub+sqKzKV5HdVYWb1Wa6ELyAtKwmuSLVrZiZF2AhM p1nl3QXOLQEc6IfYyRvZJ3W1eUaHS5VCWq0rwV8iXCFsBDRgOvLdLPYpAqlf8DcideVq /bJC3UZA17FPNoF2dpYk0NH+kE+lSFM6jejPktYhwjhV/AYroIdZunvW+MX2xCVP8nqk joMegO2yUjTb9s4qcDc+6hH9mh/MU7u0LA9xccvoPeRbg8mJmJj2WYN8ZhLLtkc9EzcM mRPQ== X-Gm-Message-State: AOJu0YzKiITA+jucyEjSVEb7DCQX/3YOP1jdIF2cf6A6gtOctg4/N7Ck 5+qyGVaKUAh/buO5gyMXfq43S99E0EKX4b7nMtFGR9WSlK/s7e6b0BmQQcfI8FYMuecfr00DvrT 5j0ahHH4aLXS909NP1qmMC/wAs0z6KFztitFxbyIfGjb0TrVGAo8x2OD2 X-Gm-Gg: ASbGncv6Mbi+BtAsxqHGrLSR+4IGeQQAQwxCAghI8nb9ZkgbgO6EP2RWzi2TggqmBEZ dSvjeaniHKubLVokerUf0OEUUdgC0J2d19t7r2tRB0NEyFCAXL3Y/bJfM+Nh4iY/oU0D9zBvxyY Yc9Tsyf0O9LPPgf/xb2GRH3WLDh3JGM2xy6+Q4G1iEgc3dHX1Dy8edPqA8DF8hOO6pwcgjp7Hm1 FHv7c1imSM/gdB/aWeQmePWDHxWpSXFxhBKsrVFZXuQCuVWqKgHakrwopHgoI+NwBOidxeZLMQU 58jYTP8/qvDIM/Hjh1/FkvRABZy5TO9HBt7AydNozQ== X-Google-Smtp-Source: AGHT+IFLzH4oc2mvIKWNlonmHSK68fBICuI8Hy64zIZsNsrvcNk/kzLzzJhC6uKKnNZ8c0RcvmNH8SHvNIN/ X-Received: by 2002:a17:903:1c8:b0:215:a60d:bcc9 with SMTP id d9443c01a7336-220bbb1135fmr37824815ad.2.1739346465422; Tue, 11 Feb 2025 23:47:45 -0800 (PST) Received: from postal.iol.unh.edu (postal.iol.unh.edu. [2606:4100:3880:1234::84]) by smtp-relay.gmail.com with ESMTPS id d9443c01a7336-21f870685desm3704755ad.82.2025.02.11.23.47.45 (version=TLS1_2 cipher=ECDHE-ECDSA-AES128-GCM-SHA256 bits=128/128); Tue, 11 Feb 2025 23:47:45 -0800 (PST) X-Relaying-Domain: iol.unh.edu Date: Tue, 11 Feb 2025 23:47:45 -0800 (PST) Message-ID: <67ac5221.170a0220.2a004b.42b5SMTPIN_ADDED_MISSING@mx.google.com> Received: from [172.21.0.8] (unknown [172.18.0.240]) by postal.iol.unh.edu (Postfix) with ESMTP id 810CA6052471; Wed, 12 Feb 2025 02:47:44 -0500 (EST) Subject: |SUCCESS| pw151377 [PATCH] examples/l3fwd: adjust Tx burst size base From: dpdklab@iol.unh.edu To: Test Report Cc: dpdk-test-reports@iol.unh.edu In-Reply-To: <20250212045416.2393001-1-sivaprasad.tummala@amd.com> References: <20250212045416.2393001-1-sivaprasad.tummala@amd.com> Content-Type: text/plain X-BeenThere: test-report@dpdk.org X-Mailman-Version: 2.1.29 Precedence: list List-Id: automatic DPDK test reports List-Unsubscribe: , List-Archive: List-Post: List-Help: List-Subscribe: , Errors-To: test-report-bounces@dpdk.org Test-Label: iol-compile-amd64-testing Test-Status: SUCCESS http://dpdk.org/patch/151377 _Testing PASS_ Submitter: Sivaprasad Tummala Date: Wednesday, February 12 2025 04:54:16 DPDK git baseline: Repo:dpdk Branch: master CommitID:046cca99c3fd03bfb95d3e27a56aab40c2c8f45a 151377 --> testing pass Upstream job id: Windows-Compile-DPDK-Native#26640 Test environment and result as below: +---------------------+--------------------+-------------------+-------------------------+ | Environment | dpdk_meson_compile | dpdk_msvc_compile | dpdk_llvm_clang_compile | +=====================+====================+===================+=========================+ | FreeBSD 13.4 | PASS | SKIPPED | SKIPPED | +---------------------+--------------------+-------------------+-------------------------+ | FreeBSD 14.2 | PASS | SKIPPED | SKIPPED | +---------------------+--------------------+-------------------+-------------------------+ | Windows Server 2022 | SKIPPED | PASS | PASS | +---------------------+--------------------+-------------------+-------------------------+ FreeBSD 13.4 Kernel: 13.4-RELEASE-p1 Compiler: clang 18.1.6 FreeBSD 14.2 Kernel: 14.2-RELEASE Compiler: clang 18.1.6 Windows Server 2022 Kernel: 10.0.20348.2031 Compiler: clang 15.0.7, gcc 14.1.0 (MinGW), and MSVC VS 19.39.33521 To view detailed results, visit: https://lab.dpdk.org/results/dashboard/patchsets/32565/ UNH-IOL DPDK Community Lab To manage your email subscriptions, visit: https://lab.dpdk.org/results/dashboard/preferences/subscriptions/