From mboxrd@z Thu Jan 1 00:00:00 1970 Return-Path: Received: from mails.dpdk.org (mails.dpdk.org [217.70.189.124]) by inbox.dpdk.org (Postfix) with ESMTP id 88DEC461FF for ; Wed, 12 Feb 2025 08:53:52 +0100 (CET) Received: from mails.dpdk.org (localhost [127.0.0.1]) by mails.dpdk.org (Postfix) with ESMTP id 84326410EE; Wed, 12 Feb 2025 08:53:52 +0100 (CET) Received: from mail-yb1-f227.google.com (mail-yb1-f227.google.com [209.85.219.227]) by mails.dpdk.org (Postfix) with ESMTP id 3637540ED1 for ; Wed, 12 Feb 2025 08:53:49 +0100 (CET) Received: by mail-yb1-f227.google.com with SMTP id 3f1490d57ef6-e5b1c4b952dso5296877276.0 for ; Tue, 11 Feb 2025 23:53:49 -0800 (PST) DKIM-Signature: v=1; a=rsa-sha256; c=relaxed/relaxed; d=iol.unh.edu; s=unh-iol; t=1739346828; x=1739951628; darn=dpdk.org; h=cc:to:from:subject:message-id:date:from:to:cc:subject:date :message-id:reply-to; bh=zutX3pLlj8r6Ylq/jVnDYQMk5r8vT6Tw7595iklhFug=; b=HNf+7rNbxFqb6LFLN1cns6rHTnpWCMNwGuQHYCKA4ZuWH9Ge5QAJIhTW0dvXfhpKxy Wat/ZvDAMCdQYgvfTMpxA1yH7FWeFAFO/WycfynScwtzE8+iVQBFDiqBZNZ2O8VXIUjW xUfujvC4AUOla6oUK0pObTypgqSHipOtvtrXI= X-Google-DKIM-Signature: v=1; a=rsa-sha256; c=relaxed/relaxed; d=1e100.net; s=20230601; t=1739346828; x=1739951628; h=cc:to:from:subject:message-id:date:x-gm-message-state:from:to:cc :subject:date:message-id:reply-to; bh=zutX3pLlj8r6Ylq/jVnDYQMk5r8vT6Tw7595iklhFug=; b=VpVYkerGzwVi/3jZsgoQvDX3Ochnl5bbdHOX9dZOWCfnNP3KgXJs85eCYOXqSOW0UL pYXy15eOSM6Db6HYbQwy30LJ6A//Dt1cTf/vSjw4G0+DkEnESWMJ31jKlVhzLi5STAdr ZgIGJFE/qYLp9JByNgRZnzHMiwaKg8nmmTE5+l86jOTCMr85vrv/Ud3GIV5yF5JHIXcY sqUKA/2wuGQCAEixP7QFQ62HQ6/iPKxKbyKUhUdvodaUx3veurIOihKaaLrzZRNyunwL hvc5jeI1GF0DsKO6P22715ExNS3i78ZmdFZVEJ6oxhVJTgPpXi0SwMRIOcLyuK0AZyf0 Kb0Q== X-Gm-Message-State: AOJu0Yw1JO+yxEktv81mf0ugXSQPB7ooIhB3bRdBWhU5WCSbHqNns7ud zrrsaM3WvrKiIDUiw5BjhZcbNXwxIjOpzQmz5wSVEguheuJlfoPbnjS1m+Oz+Il+p1cnpp1yY8G oFif/S4BuQFKiWDZFr+2OksHdmjXbvcZ3n99AtKbC/+Txcjob X-Gm-Gg: ASbGnctXD7/TEf4WepKBzwnGgU5UBjaAXQ5rBd+coqK1+HylHaeyORCc9ZQqxj83Npd bJXp7/sQUo4HAZb6z1JCykur9QZ51VzN2vPViD0FS1xcjTQSDnjEhV6z92Pcr6OOalvUjVpPNe1 MczxPnYJXmhuxtdcJ7uDU07Oun6ikmwaQi+NFxz9wSNSJKs4DRhd0Ty5w6pkgaMsaUp2nF01Vpr u9imjfvIYK14yGr16i1BefvuwD81xyUqXF0mcPqsece+m87s86dYXwxXMPcnJYwwAYG+v0W84Y8 jEv2idyxKOB+QSMYnRxkXkmFCNLj0d4W6VljCnQSyQ== X-Google-Smtp-Source: AGHT+IGxfdgr9b2P2EDMCsKQkdDlZn9x/wK65TVj/ooKWNKNNoGwOFLzBZ3xciAnVk9SBnBAacR2K/mK9dSb X-Received: by 2002:a05:6902:a86:b0:e5b:3495:4e64 with SMTP id 3f1490d57ef6-e5d9f1196b1mr2489223276.21.1739346828635; Tue, 11 Feb 2025 23:53:48 -0800 (PST) Received: from postal.iol.unh.edu (postal.iol.unh.edu. [2606:4100:3880:1234::84]) by smtp-relay.gmail.com with ESMTPS id 3f1490d57ef6-e5b3a471e36sm764194276.31.2025.02.11.23.53.48 (version=TLS1_2 cipher=ECDHE-ECDSA-AES128-GCM-SHA256 bits=128/128); Tue, 11 Feb 2025 23:53:48 -0800 (PST) X-Relaying-Domain: iol.unh.edu Date: Tue, 11 Feb 2025 23:53:48 -0800 (PST) Message-ID: <67ac538c.250a0220.c22c.8b95SMTPIN_ADDED_MISSING@mx.google.com> Received: from [172.21.0.5] (unknown [172.18.0.240]) by postal.iol.unh.edu (Postfix) with ESMTP id 499896052471; Wed, 12 Feb 2025 02:53:48 -0500 (EST) Subject: |SUCCESS| [GIT MASTER] c66daa12e76d7b4912cfb7109a761856a7a873ab From: dpdklab@iol.unh.edu To: Test Report Cc: dpdk-test-reports@iol.unh.edu, Xueming Li , Christian Ehrhardt , Kevin Traynor , Luca Boccassi Content-Type: text/plain X-BeenThere: test-report@dpdk.org X-Mailman-Version: 2.1.29 Precedence: list List-Id: automatic DPDK test reports List-Unsubscribe: , List-Archive: List-Post: List-Help: List-Subscribe: , Errors-To: test-report-bounces@dpdk.org _Testing PASS_ Branch: tags/v23.11 c66daa12e76d7b4912cfb7109a761856a7a873ab --> testing pass Upstream job id: Generic-Unit-Test-DPDK#314296 Test environment and result as below: +-----------------------------+----------------+--------------+---------------------------+------------------------------+ | Environment | dpdk_unit_test | lpm_autotest | cryptodev_sw_zuc_autotest | cryptodev_sw_snow3g_autotest | +=============================+================+==============+===========================+==============================+ | Debian 12 (arm) | PASS | SKIPPED | PASS | PASS | +-----------------------------+----------------+--------------+---------------------------+------------------------------+ | Debian 11 (Buster) (ARM) | PASS | SKIPPED | SKIPPED | SKIPPED | +-----------------------------+----------------+--------------+---------------------------+------------------------------+ | 32-bit Ubuntu 22.04.4 (ARM) | PASS | SKIPPED | SKIPPED | SKIPPED | +-----------------------------+----------------+--------------+---------------------------+------------------------------+ | Fedora 40 (ARM Clang) | PASS | SKIPPED | SKIPPED | SKIPPED | +-----------------------------+----------------+--------------+---------------------------+------------------------------+ | CentOS Stream 9 (ARM) | PASS | SKIPPED | SKIPPED | SKIPPED | +-----------------------------+----------------+--------------+---------------------------+------------------------------+ | Fedora 40 (ARM) | PASS | SKIPPED | SKIPPED | SKIPPED | +-----------------------------+----------------+--------------+---------------------------+------------------------------+ | CentOS Stream 10 (ARM) | PASS | SKIPPED | SKIPPED | SKIPPED | +-----------------------------+----------------+--------------+---------------------------+------------------------------+ | Fedora 41 (ARM) | PASS | SKIPPED | SKIPPED | SKIPPED | +-----------------------------+----------------+--------------+---------------------------+------------------------------+ | Ubuntu 22.04 (ARM) | PASS | SKIPPED | SKIPPED | SKIPPED | +-----------------------------+----------------+--------------+---------------------------+------------------------------+ | Fedora 41 (ARM Clang) | PASS | SKIPPED | SKIPPED | SKIPPED | +-----------------------------+----------------+--------------+---------------------------+------------------------------+ | RHEL9 (ARM) | PASS | SKIPPED | SKIPPED | SKIPPED | +-----------------------------+----------------+--------------+---------------------------+------------------------------+ | Ubuntu 20.04 (ARM) | PASS | SKIPPED | SKIPPED | SKIPPED | +-----------------------------+----------------+--------------+---------------------------+------------------------------+ | Ubuntu 24.04 (ARM) | PASS | SKIPPED | SKIPPED | SKIPPED | +-----------------------------+----------------+--------------+---------------------------+------------------------------+ | Ubuntu 20.04 ARM SVE | SKIPPED | PASS | SKIPPED | SKIPPED | +-----------------------------+----------------+--------------+---------------------------+------------------------------+ Debian 12 (arm) Kernel: Depends on container host Compiler: gcc (Debian 12.2.0-14) 12.2.0 Debian 11 (Buster) (ARM) Kernel: Depends on container host Compiler: gcc (Debian 10.2.1-6) 10.2.1 20210110 32-bit Ubuntu 22.04.4 (ARM) Kernel: 5.15.83+ aarch64 Compiler: gcc (Ubuntu 11.4.0-1ubuntu1~22.04) 11.4.0 Fedora 40 (ARM Clang) Kernel: Depends on container host Compiler: clang 18.1.8 (Fedora 18.1.8-1.fc40) CentOS Stream 9 (ARM) Kernel: Depends on container host Compiler: gcc 11.5.0 20240719 (Red Hat 11.5.0-2) Fedora 40 (ARM) Kernel: Depends on container host Compiler: gcc 14.2.1 20240912 (Red Hat 14.2.1-3) CentOS Stream 10 (ARM) Kernel: Depends on container host Compiler: gcc 14.2.1 20241104 (Red Hat 14.2.1-6) Fedora 41 (ARM) Kernel: Depends on container host Compiler: gcc 14.2.1 20240912 (Red Hat 14.2.1-3) Ubuntu 22.04 (ARM) Kernel: Depends on container host Compiler: gcc (Ubuntu 11.4.0-1ubuntu1~22.04) 11.4.0 Fedora 41 (ARM Clang) Kernel: Depends on container host Compiler: clang 19.1.5 (Fedora 19.1.5-1.fc41) RHEL9 (ARM) Kernel: Depends on container host Compiler: gcc 11.5.0 20240719 (Red Hat 11.5.0-2) Ubuntu 20.04 (ARM) Kernel: Depends on container host Compiler: gcc (Ubuntu 9.4.0-1ubuntu1~20.04.2) 9.4.0 Ubuntu 24.04 (ARM) Kernel: Depends on container host Compiler: gcc (Ubuntu 13.3.0-6ubuntu2~24.04) 13.3.0 Ubuntu 20.04 ARM SVE Kernel: Depends on container host Compiler: gcc (Ubuntu 10.5.0-1ubuntu1~20.04) 10.5.0 To view detailed results, visit: https://lab.dpdk.org/results/dashboard/tarballs/32550/ UNH-IOL DPDK Community Lab To manage your email subscriptions, visit: https://lab.dpdk.org/results/dashboard/preferences/subscriptions/