From mboxrd@z Thu Jan 1 00:00:00 1970 Return-Path: Received: from mails.dpdk.org (mails.dpdk.org [217.70.189.124]) by inbox.dpdk.org (Postfix) with ESMTP id E8E28461FF for ; Wed, 12 Feb 2025 08:56:29 +0100 (CET) Received: from mails.dpdk.org (localhost [127.0.0.1]) by mails.dpdk.org (Postfix) with ESMTP id E521040269; Wed, 12 Feb 2025 08:56:29 +0100 (CET) Received: from mail-il1-f228.google.com (mail-il1-f228.google.com [209.85.166.228]) by mails.dpdk.org (Postfix) with ESMTP id DCC5A40263 for ; Wed, 12 Feb 2025 08:56:28 +0100 (CET) Received: by mail-il1-f228.google.com with SMTP id e9e14a558f8ab-3ce87d31480so21299205ab.2 for ; Tue, 11 Feb 2025 23:56:28 -0800 (PST) DKIM-Signature: v=1; a=rsa-sha256; c=relaxed/relaxed; d=iol.unh.edu; s=unh-iol; t=1739346988; x=1739951788; darn=dpdk.org; h=cc:to:from:subject:message-id:date:from:to:cc:subject:date :message-id:reply-to; bh=YKw2f7AiAe9huBgZmN9krNeLBdSYr0UwsRpv/WmRMck=; b=jyKricgBAmbbdTNUu4VBuO3x+370/ajtO5Q4L4R3puIYqiE/UCpDl3Galo859RALgZ 96lPOD2BEQeAPOx1NkIbCJkyT5zvRqT6uau/u++aliDwkSnbhAZrbt7pui81MjPhyVgR E1j6D1FZuKepbNZMjuTz4kv7hXEzOPk+Cu1ww= X-Google-DKIM-Signature: v=1; a=rsa-sha256; c=relaxed/relaxed; d=1e100.net; s=20230601; t=1739346988; x=1739951788; h=cc:to:from:subject:message-id:date:x-gm-message-state:from:to:cc :subject:date:message-id:reply-to; bh=YKw2f7AiAe9huBgZmN9krNeLBdSYr0UwsRpv/WmRMck=; b=kFs7Uaardp7/Wt8RCSvp95KaqIrI3BXgZn3/cYCRBgvPuTDdflQws2LaV/FyrZpF6+ V0irIT/k1JcrSAAkf0mofGxN7tqVHIx5BHhu0BMPPX5dBk6WpoCrVP43qE2hmAHrZH9q xvoMvT/4NvVZtUeHlKI9zhrOJj5cJSA4c5eu94huht76JSy07rQg/cmvM2AhEbhtmT+G 0Od/wkeUeWfjIwesI+sT9ZeIg+FSH/GnMXmVmnz2jjZzic52WnFOgkwMa7jQIDjq+lic Y5yFJqlLrE+zaY3OjQjJHZqqyPrGDWqA6qjtSOFaSKczQm2scRJfzj9mLxvesnPARda5 cguA== X-Gm-Message-State: AOJu0YyxVYgTsw8WGpEM5vI8U0qN4UGCLh21JsQqLeuitoldvCTkrb8Q g3YviVbphDhDhWi3yBi3i9ki24MpUC0/POTrj6/QI+VCP0daxwjuPzD3a+zXq2Oq5uUgzQ7+162 D8yLN2Oo/czqJMbRuGXIcAJAsMrwcsB0I1ape8Hj4+orMBTnK X-Gm-Gg: ASbGncvzEWEI6/Ay0ebooR7TXbOcuoPrti9sZqSzaujCOBSzgrgzrUWkWbNJLpXuGBa 4gRopGPQLG1dodbNZ3i6J4rrXmMadDUFfpB7CnAXrnjajLtUIIkc1SnEZ29Gz9Rn+wEhnsvhtqY NMoHvuMNUsHoSbocu51E0/uYP1E9KSDd/l378NxVGlZMMLhxhpCKHReEuVu+K69hUktJlsxNctI 3oF1RRBVwOe0x6BqI28QS9kRvBK1y3/dOPogET9my0TmVu4EOqMfGzqd/KMZxRnOaNqYATd67NL ry9ionf5qzXdjffHpVH/90ay9dw4neQX9zI1xO97HA== X-Google-Smtp-Source: AGHT+IFRow707HAnSCnmSQnjwwQUdcdFDeeX9dysZPdLPn4Xh4vuPBYbPsLfk2+8dnA5GItsnFHfzdMC79jX X-Received: by 2002:a05:6e02:19cb:b0:3d0:2331:f809 with SMTP id e9e14a558f8ab-3d17be0ce1amr22411845ab.2.1739346987983; Tue, 11 Feb 2025 23:56:27 -0800 (PST) Received: from postal.iol.unh.edu (postal.iol.unh.edu. [2606:4100:3880:1234::84]) by smtp-relay.gmail.com with ESMTPS id e9e14a558f8ab-3d1624b9d40sm3357385ab.3.2025.02.11.23.56.27 (version=TLS1_2 cipher=ECDHE-ECDSA-AES128-GCM-SHA256 bits=128/128); Tue, 11 Feb 2025 23:56:27 -0800 (PST) X-Relaying-Domain: iol.unh.edu Date: Tue, 11 Feb 2025 23:56:27 -0800 (PST) Message-ID: <67ac542b.050a0220.10f6b3.1d39SMTPIN_ADDED_MISSING@mx.google.com> Received: from [172.21.0.6] (unknown [172.18.0.240]) by postal.iol.unh.edu (Postfix) with ESMTP id 78BFA6052471; Wed, 12 Feb 2025 02:56:27 -0500 (EST) Subject: |SUCCESS| [GIT MASTER] f2eea2f37a82bb73fb01d56350708f7d70e21379 From: dpdklab@iol.unh.edu To: Test Report Cc: dpdk-test-reports@iol.unh.edu, Xueming Li , Christian Ehrhardt , Kevin Traynor , Luca Boccassi Content-Type: text/plain X-BeenThere: test-report@dpdk.org X-Mailman-Version: 2.1.29 Precedence: list List-Id: automatic DPDK test reports List-Unsubscribe: , List-Archive: List-Post: List-Help: List-Subscribe: , Errors-To: test-report-bounces@dpdk.org _Testing PASS_ Branch: tags/v24.11 f2eea2f37a82bb73fb01d56350708f7d70e21379 --> testing pass Upstream job id: Generic-DPDK-Compile-ABI#115915 Test environment and result as below: +-------------------+----------+ | Environment | abi_test | +===================+==========+ | CentOS Stream 9 | PASS | +-------------------+----------+ | CentOS Stream 10 | PASS | +-------------------+----------+ | Debian Bullseye | PASS | +-------------------+----------+ | Fedora 40 (Clang) | PASS | +-------------------+----------+ | Fedora 41 | PASS | +-------------------+----------+ | RHEL9 | PASS | +-------------------+----------+ | Debian 12 | PASS | +-------------------+----------+ | openSUSE Leap 15 | PASS | +-------------------+----------+ | Fedora 40 | PASS | +-------------------+----------+ | Fedora 41 (Clang) | PASS | +-------------------+----------+ | RHEL8 | PASS | +-------------------+----------+ | Ubuntu 24.04 | PASS | +-------------------+----------+ | Ubuntu 22.04 | PASS | +-------------------+----------+ CentOS Stream 9 Kernel: Depends on container host Compiler: gcc 11.5.0 20240719 (Red Hat 11.5.0-2) CentOS Stream 10 Kernel: Depends on container host Compiler: gcc 14.2.1 20241104 (Red Hat 14.2.1-6) Debian Bullseye Kernel: Depends on container host Compiler: gcc (Debian 10.2.1-6) 10.2.1 20210110 Fedora 40 (Clang) Kernel: Depends on container host Compiler: clang 18.1.8 (Fedora 18.1.8-1.fc40) Fedora 41 Kernel: Depends on container host Compiler: gcc 14.2.1 20240912 (Red Hat 14.2.1-3) RHEL9 Kernel: Depends on container host Compiler: gcc 11.5.0 20240719 (Red Hat 11.5.0-2) Debian 12 Kernel: Depends on container host Compiler: gcc (Debian 12.2.0-14) 12.2.0 openSUSE Leap 15 Kernel: Depends on container host Compiler: gcc (SUSE Linux) 7.5.0 Fedora 40 Kernel: Depends on container host Compiler: gcc 14.2.1 20240912 (Red Hat 14.2.1-3) Fedora 41 (Clang) Kernel: Depends on container host Compiler: clang 19.1.5 (Fedora 19.1.5-1.fc41) RHEL8 Kernel: Depends on container host Compiler: gcc 8.5.0 20210514 (Red Hat 8.5.0-22) Ubuntu 24.04 Kernel: Depends on container host Compiler: gcc (Ubuntu 13.3.0-6ubuntu2~24.04) 13.3.0 Ubuntu 22.04 Kernel: Depends on container host Compiler: gcc (Ubuntu 11.4.0-1ubuntu1~22.04) 11.4.0 To view detailed results, visit: https://lab.dpdk.org/results/dashboard/tarballs/32549/ UNH-IOL DPDK Community Lab To manage your email subscriptions, visit: https://lab.dpdk.org/results/dashboard/preferences/subscriptions/