From mboxrd@z Thu Jan 1 00:00:00 1970 Return-Path: Received: from mails.dpdk.org (mails.dpdk.org [217.70.189.124]) by inbox.dpdk.org (Postfix) with ESMTP id 9AE16461FF for ; Wed, 12 Feb 2025 09:03:17 +0100 (CET) Received: from mails.dpdk.org (localhost [127.0.0.1]) by mails.dpdk.org (Postfix) with ESMTP id 974BF410FB; Wed, 12 Feb 2025 09:03:17 +0100 (CET) Received: from mail-pl1-f226.google.com (mail-pl1-f226.google.com [209.85.214.226]) by mails.dpdk.org (Postfix) with ESMTP id 108A140269 for ; Wed, 12 Feb 2025 09:03:17 +0100 (CET) Received: by mail-pl1-f226.google.com with SMTP id d9443c01a7336-21f7f03d7c0so72330925ad.3 for ; Wed, 12 Feb 2025 00:03:16 -0800 (PST) DKIM-Signature: v=1; a=rsa-sha256; c=relaxed/relaxed; d=iol.unh.edu; s=unh-iol; t=1739347396; x=1739952196; darn=dpdk.org; h=references:in-reply-to:cc:to:from:subject:message-id:date:from:to :cc:subject:date:message-id:reply-to; bh=LMVI0y4157U2LJGxKP2mZ26DZ+w6cbgYnGxvh2vfFeM=; b=F3GREWzhmD30xTLlfCoEV36Mx8sQT1eV0KJDdSWHvLpVdk/GXJxZthPvn0iQQDxDsZ gZI3G49KeT7l+9GM+PpcriJ6hpkUOvPNHyUHpTL8BSCSDwlUsi6lwuHIoZhyEm2xIPXM 9V0+VxP01TOpcQ4Ul+kBTQra+mWYUNh5EAl3I= X-Google-DKIM-Signature: v=1; a=rsa-sha256; c=relaxed/relaxed; d=1e100.net; s=20230601; t=1739347396; x=1739952196; h=references:in-reply-to:cc:to:from:subject:message-id:date :x-gm-message-state:from:to:cc:subject:date:message-id:reply-to; bh=LMVI0y4157U2LJGxKP2mZ26DZ+w6cbgYnGxvh2vfFeM=; b=Sdzbi5C4D01l1JYs7EYSZMhehubCwscNmN1k2KYCFFczbbJgyZRdVE3W09UV93glnl lcFieY4FDcMhghDGmgy0OuQP8l80EUGTYdpxwEBEgIiw3fWjmdvvXjp2S/433rodyrD8 PJfPkfKRpcjXMdL6tgluh2ezz8kYMXayQDWCs5smZdGSTm+Z+6XBG9SAEfkCXxhhKhKD 3yY4zvNv8toJupzx1hZVeTx4+FEK6VdsryzeImzKgi3rKDnvJkr/7HjGVQEGqOtidSUp dK8Zxw/zGXN2VTlEDtiaeVn2N2NRE6OF3qns8I3HDuSldw3fgOsTSJRdMWp0RAgEUg2q WqKQ== X-Gm-Message-State: AOJu0YwZDUx9Qkskd4X8LXhgo7BLbJKKF/KeYhbwAAdYvXiBfkMG6Xs8 O2IfG2vVRddKF7Z48lPXCR/nI2jtXAXd0XTPVKOl6MfkA+VSovqMIDJ6dFtFedMhfpXQ+Z2Fuwk dglDeMc1eGis6LtUCgO+c5KR3Fqlr4qc0Yb2vq6eUs5uAmJNJp97hYDxa X-Gm-Gg: ASbGncvlB7qg17u15i8mDX2dYcYaQERNV9TDY+X1P4AyAIpojcPFKTnC8DYFVsl72hQ THsAKxYhMWMDI9u3/PpBn4J9q/Wjy4gKTsHZHTeU0D2RNjcYX+TSLDCvRE5D5MfnAH1E8mQ2Ir0 Sbvw7xLKSvlbk4toP9g6je67X2YWL+mhg9yxjub5MpNkDS1hlkSzuJgWdUl3iSS4Qn+We6aLtlk gtAkWKPqvpjckE2NlKPFZ/+7Lix/Nm23+1FeVBD/wA5o6bopCLUr06vZiGbHI34Tjl5GaM7AJvW CeOzJGbKJkfLl0YO5MEziq49jfbUf+DX/wuYzizwGA== X-Google-Smtp-Source: AGHT+IFFO+5b2T3aGDZXlpQnUSjKVddeHij5jXa3QLSyqUvvGk9E902/qW+qeWFmXnyBOtno5nTdL12qVQn3 X-Received: by 2002:a05:6a21:6f10:b0:1e1:932e:b348 with SMTP id adf61e73a8af0-1ee5c887686mr4618948637.41.1739347396279; Wed, 12 Feb 2025 00:03:16 -0800 (PST) Received: from postal.iol.unh.edu (postal.iol.unh.edu. [2606:4100:3880:1234::84]) by smtp-relay.gmail.com with ESMTPS id d2e1a72fcca58-7308c600581sm360353b3a.8.2025.02.12.00.03.16 (version=TLS1_2 cipher=ECDHE-ECDSA-AES128-GCM-SHA256 bits=128/128); Wed, 12 Feb 2025 00:03:16 -0800 (PST) X-Relaying-Domain: iol.unh.edu Date: Wed, 12 Feb 2025 00:03:16 -0800 (PST) Message-ID: <67ac55c4.050a0220.860b4.3d37SMTPIN_ADDED_MISSING@mx.google.com> Received: from [172.21.0.8] (unknown [172.18.0.240]) by postal.iol.unh.edu (Postfix) with ESMTP id 73C1C6052471; Wed, 12 Feb 2025 03:03:15 -0500 (EST) Subject: |SUCCESS| pw151377 [PATCH] examples/l3fwd: adjust Tx burst size base From: dpdklab@iol.unh.edu To: Test Report Cc: dpdk-test-reports@iol.unh.edu In-Reply-To: <20250212045416.2393001-1-sivaprasad.tummala@amd.com> References: <20250212045416.2393001-1-sivaprasad.tummala@amd.com> Content-Type: text/plain X-BeenThere: test-report@dpdk.org X-Mailman-Version: 2.1.29 Precedence: list List-Id: automatic DPDK test reports List-Unsubscribe: , List-Archive: List-Post: List-Help: List-Subscribe: , Errors-To: test-report-bounces@dpdk.org Test-Label: iol-compile-amd64-testing Test-Status: SUCCESS http://dpdk.org/patch/151377 _Testing PASS_ Submitter: Sivaprasad Tummala Date: Wednesday, February 12 2025 04:54:16 DPDK git baseline: Repo:dpdk Branch: master CommitID:046cca99c3fd03bfb95d3e27a56aab40c2c8f45a 151377 --> testing pass Upstream job id: Windows-Compile-DPDK-Native#26641 Test environment and result as below: +---------------------+--------------------+-------------------+-------------------------+----------------------+ | Environment | dpdk_meson_compile | dpdk_msvc_compile | dpdk_llvm_clang_compile | dpdk_mingw64_compile | +=====================+====================+===================+=========================+======================+ | FreeBSD 13.4 | PASS | SKIPPED | SKIPPED | SKIPPED | +---------------------+--------------------+-------------------+-------------------------+----------------------+ | FreeBSD 14.2 | PASS | SKIPPED | SKIPPED | SKIPPED | +---------------------+--------------------+-------------------+-------------------------+----------------------+ | Windows Server 2022 | SKIPPED | PASS | PASS | PASS | +---------------------+--------------------+-------------------+-------------------------+----------------------+ FreeBSD 13.4 Kernel: 13.4-RELEASE-p1 Compiler: clang 18.1.6 FreeBSD 14.2 Kernel: 14.2-RELEASE Compiler: clang 18.1.6 Windows Server 2022 Kernel: 10.0.20348.2031 Compiler: clang 15.0.7, gcc 14.1.0 (MinGW), and MSVC VS 19.39.33521 To view detailed results, visit: https://lab.dpdk.org/results/dashboard/patchsets/32565/ UNH-IOL DPDK Community Lab To manage your email subscriptions, visit: https://lab.dpdk.org/results/dashboard/preferences/subscriptions/