From mboxrd@z Thu Jan 1 00:00:00 1970 Return-Path: Received: from mails.dpdk.org (mails.dpdk.org [217.70.189.124]) by inbox.dpdk.org (Postfix) with ESMTP id E9C8A461FF for ; Wed, 12 Feb 2025 09:05:19 +0100 (CET) Received: from mails.dpdk.org (localhost [127.0.0.1]) by mails.dpdk.org (Postfix) with ESMTP id CC2C0410FB; Wed, 12 Feb 2025 09:05:19 +0100 (CET) Received: from mail-il1-f225.google.com (mail-il1-f225.google.com [209.85.166.225]) by mails.dpdk.org (Postfix) with ESMTP id A2C2040269 for ; Wed, 12 Feb 2025 09:05:18 +0100 (CET) Received: by mail-il1-f225.google.com with SMTP id e9e14a558f8ab-3d03ac846a7so21120565ab.2 for ; Wed, 12 Feb 2025 00:05:18 -0800 (PST) DKIM-Signature: v=1; a=rsa-sha256; c=relaxed/relaxed; d=iol.unh.edu; s=unh-iol; t=1739347518; x=1739952318; darn=dpdk.org; h=cc:to:from:subject:message-id:date:from:to:cc:subject:date :message-id:reply-to; bh=wi5RR23p+3mZtYbKDy/jLLm+IgeKpKgSlIVi0MVN5oE=; b=gEEDlNn3eHRhQPl/YSSHG/mJ6vGycUWjLZY/Ilv67S3GeiPICovxcmN9j5JTnKDiKf iWhj9sLKJuZtqzN+ZzRm9P2mS/5sv4H0PHyYCRWsTo3o3tIaxIbyFqViYfS356qeeCGM dQJ3SKkHb/0TrDptsVBHgQV8xC4YECW20ig1Q= X-Google-DKIM-Signature: v=1; a=rsa-sha256; c=relaxed/relaxed; d=1e100.net; s=20230601; t=1739347518; x=1739952318; h=cc:to:from:subject:message-id:date:x-gm-message-state:from:to:cc :subject:date:message-id:reply-to; bh=wi5RR23p+3mZtYbKDy/jLLm+IgeKpKgSlIVi0MVN5oE=; b=DYYVgOG7PI0SA+UUCp0OCj9zY3ZYKu7rOorTbmT1FSxLxvOTd73kYTSVGwqqkg2jUE CjhhzVbd5+atdEudjVuLY2rtdzfGfTJ0wqDsHzPMbx0Wq2dbh7+uk0phi6t3dG3NY+Ul OWNh/shEEYDr2X9dzQrsUSKWwkmun4Of0h47OgZ+QT5JiHnVH0QtkIb5udMCC7aic+Md vk/sLtgcJQVoK5bx8WqBmNZBK8bzoSXEWs7ejzcE8AjySYsU7ogtcziaDw1rb21yZqwL kfp36CiXO0pbBxKR85NszhmdG3sRljZtTiNQQiYSQR0DvV5KAwngei/A0DMhwyUDLlWF iTSQ== X-Gm-Message-State: AOJu0Yy87tsEez8lBlY5xCfOGLUEx74aFEzSto4zXncNSfafboK0qXFo Bx1FMAL2PYJ5PR64otpsG+SQ0hnztCEfgOD/mW9MDbpTTLCmMub3qUoktkzva2EDU5uGWAFXUaK GcCQSpnqLF0oPfue9i7ik2nYlM9CBm9G83C1Ocn+oHIZBxzo4dFT2fnQz X-Gm-Gg: ASbGnctYWD/2x523BpecLwabysVrysYxIQn+waKeGgW1/C8ZQUFFnecJA1MbhMUWGGe DdpLgPoF0o/Gb9HtyMuuBO5x23VvsrX5z1gIi3wHSoeP3cp/J0xWKYoUo7AUQvBBsYusa3njHs5 Mj2zpJKt8lI/Emiu9K3U9SiGHiG38MXZjl+4WebENTDPxu9zoXOuWEZMjz0XZQJBzbDcO19sQPr PWU8KHj+PrJthe+vJajo7ZYT2Fj/gQrBMNcrvEvLACfUrNBNehe5cw64tJ/91uFz8FNglPRytys mVlnORLOPLd34G7iTje3Dm8w3XgjpPJzLmYR6lY2aA== X-Google-Smtp-Source: AGHT+IHdLi3YyS/UG9B5UX3Htu/WbwDIvv7FKxLLctCX8YAWy47vrGsHx6nnoleMQw4t7pYTJ6YGgCjh45Lp X-Received: by 2002:a05:6e02:17ce:b0:3d0:24c0:bd3e with SMTP id e9e14a558f8ab-3d17be19829mr24723835ab.7.1739347517960; Wed, 12 Feb 2025 00:05:17 -0800 (PST) Received: from postal.iol.unh.edu (postal.iol.unh.edu. [2606:4100:3880:1234::84]) by smtp-relay.gmail.com with ESMTPS id 8926c6da1cb9f-4ecf0d5b30bsm400558173.16.2025.02.12.00.05.17 (version=TLS1_2 cipher=ECDHE-ECDSA-AES128-GCM-SHA256 bits=128/128); Wed, 12 Feb 2025 00:05:17 -0800 (PST) X-Relaying-Domain: iol.unh.edu Date: Wed, 12 Feb 2025 00:05:17 -0800 (PST) Message-ID: <67ac563d.050a0220.de63.5b5aSMTPIN_ADDED_MISSING@mx.google.com> Received: from [172.21.0.5] (unknown [172.18.0.240]) by postal.iol.unh.edu (Postfix) with ESMTP id 6C3FA6052471; Wed, 12 Feb 2025 03:05:17 -0500 (EST) Subject: |SUCCESS| [GIT MASTER] 88e17c88943145bb956b5bf6059a8043dbd33a99 From: dpdklab@iol.unh.edu To: Test Report Cc: dpdk-test-reports@iol.unh.edu, Stephen Hemminger Content-Type: text/plain X-BeenThere: test-report@dpdk.org X-Mailman-Version: 2.1.29 Precedence: list List-Id: automatic DPDK test reports List-Unsubscribe: , List-Archive: List-Post: List-Help: List-Subscribe: , Errors-To: test-report-bounces@dpdk.org _Testing PASS_ Branch: dpdk-next-net 88e17c88943145bb956b5bf6059a8043dbd33a99 --> testing pass Upstream job id: Windows-Compile-DPDK-VS#4911 Test environment and result as below: +---------------------+-------------------+--------------------+ | Environment | dpdk_msvc_compile | dpdk_meson_compile | +=====================+===================+====================+ | Windows Server 2022 | PASS | SKIPPED | +---------------------+-------------------+--------------------+ | FreeBSD 13.4 | SKIPPED | PASS | +---------------------+-------------------+--------------------+ | FreeBSD 14.2 | SKIPPED | PASS | +---------------------+-------------------+--------------------+ Windows Server 2022 Kernel: 10.0.20348.2031 Compiler: clang 15.0.7, gcc 14.1.0 (MinGW), and MSVC VS 19.39.33521 FreeBSD 13.4 Kernel: 13.4-RELEASE-p1 Compiler: clang 18.1.6 FreeBSD 14.2 Kernel: 14.2-RELEASE Compiler: clang 18.1.6 To view detailed results, visit: https://lab.dpdk.org/results/dashboard/tarballs/32553/ UNH-IOL DPDK Community Lab To manage your email subscriptions, visit: https://lab.dpdk.org/results/dashboard/preferences/subscriptions/