From mboxrd@z Thu Jan 1 00:00:00 1970 Return-Path: Received: from mails.dpdk.org (mails.dpdk.org [217.70.189.124]) by inbox.dpdk.org (Postfix) with ESMTP id 3AF21461FF for ; Wed, 12 Feb 2025 09:15:57 +0100 (CET) Received: from mails.dpdk.org (localhost [127.0.0.1]) by mails.dpdk.org (Postfix) with ESMTP id 1134A410FB; Wed, 12 Feb 2025 09:15:57 +0100 (CET) Received: from mail-qv1-f97.google.com (mail-qv1-f97.google.com [209.85.219.97]) by mails.dpdk.org (Postfix) with ESMTP id D748B40269 for ; Wed, 12 Feb 2025 09:15:55 +0100 (CET) Received: by mail-qv1-f97.google.com with SMTP id 6a1803df08f44-6e46269d2c2so36622346d6.3 for ; Wed, 12 Feb 2025 00:15:55 -0800 (PST) DKIM-Signature: v=1; a=rsa-sha256; c=relaxed/relaxed; d=iol.unh.edu; s=unh-iol; t=1739348155; x=1739952955; darn=dpdk.org; h=cc:to:from:subject:message-id:date:from:to:cc:subject:date :message-id:reply-to; bh=b16f8f7qCLbPfZTwS/QIefhizhOSpqcC3GB5Yqcf1MA=; b=ihmagKPmI2Jc17pkk098uiAYBHFujTRCvWDmvBqpeY9qyIVnzw87oIaZNhuEFYxJ9Y 3CWgOSYGVKY9VSFgd++3O+cTTXQdGBY/NnLUDFODdo3XDLG0OR2gN4rXdKBtIYQ6dPIz CtJA7YTJy+MHcG0fC/VR0CMuZznZnGO12m6ik= X-Google-DKIM-Signature: v=1; a=rsa-sha256; c=relaxed/relaxed; d=1e100.net; s=20230601; t=1739348155; x=1739952955; h=cc:to:from:subject:message-id:date:x-gm-message-state:from:to:cc :subject:date:message-id:reply-to; bh=b16f8f7qCLbPfZTwS/QIefhizhOSpqcC3GB5Yqcf1MA=; b=MqmWPvTrKvCv36217/v9ONX54x6W+QxkYvL4MMzWWMa+PW0OjiYSlQ6p8okArAy8tB LqY5VCkXfk2zBK7cdGwHFiMbRqJcf9JPfFga4xYmglpxmVPwExECRoNVZBq97w/jQveO tNfaswy1Vvu86890JHl5zkckmlK/ii5EPjs8hHy0+JRWZwyRIQBH6a4D67LepbLXA9J2 N+jsn/b2l1xqFuVN8rWZ83k8HTEHRzm/SuFooPX54pyiU3mKY6HVSgpDwbN4bgHEq6vv NGtg2nfFhqVhhmlVJwnZJYwGHK4hMmgg4OVqb5LUZYEF28BA1ohz+ovLLkwzJ2FB9ks0 fQ0w== X-Gm-Message-State: AOJu0Yy7xlumYDxlskE6CptpcYrDuZ1ttLKxNgzAA6NuNhjnQB8NJY77 n4wL0wU14rR2OBXTypxxiiQ1zbXM3incb1u1UkaQL9oX3SXqvfqodDiGkU7l6ByuXSgGuuoblWv UU+MrASBHTiAsMwZeuHn0ERQRYi/i+dwyP4DaF4y2b2GxyrLP X-Gm-Gg: ASbGnct9pkwnj0vQRmiBi35yMJsD/jKTq88ArXHQwwor1QsxnWrw7AY0wnr9/5KOjU1 Tv2tlMVCPcjam51g30U6XwQF4SnJH6zwffNhAjoKu0qgQeJJC/S3aJwOFSB5E97zmCOGlnsxelF ozBCtDcRDL2j2vBFakdusUL4arw6hLO2X9/uHyPEdhgBQPUjv+bpRkyv1JoOv6CC8pcm5DXrEkW Lky8sYTQahKnfaC5Ae463SMR35fKQe0AS9GMAMHGli7EBcpH+WMEpJ7Sn/Y3Mng4tjU3nM08XU7 sg1CgBB6BcDvw0M+HR6VkYUt/CeiN4N94u1Gq8V9Rw== X-Google-Smtp-Source: AGHT+IHEIPeVI/ElMqN18/P0YEiT6OAE8WcQjD0rkIiFxbNYxQgFftAoPTfa0ZBZKEJG++VbbeFxdWFwuXkO X-Received: by 2002:a05:6214:4019:b0:6d4:238e:35b0 with SMTP id 6a1803df08f44-6e46ed7f4ccmr38068896d6.17.1739348155277; Wed, 12 Feb 2025 00:15:55 -0800 (PST) Received: from postal.iol.unh.edu (postal.iol.unh.edu. [2606:4100:3880:1234::84]) by smtp-relay.gmail.com with ESMTPS id 6a1803df08f44-6e45fa614d5sm4281016d6.48.2025.02.12.00.15.55 (version=TLS1_2 cipher=ECDHE-ECDSA-AES128-GCM-SHA256 bits=128/128); Wed, 12 Feb 2025 00:15:55 -0800 (PST) X-Relaying-Domain: iol.unh.edu Date: Wed, 12 Feb 2025 00:15:55 -0800 (PST) Message-ID: <67ac58bb.050a0220.6e6cd.6977SMTPIN_ADDED_MISSING@mx.google.com> Received: from [172.21.0.5] (unknown [172.18.0.240]) by postal.iol.unh.edu (Postfix) with ESMTP id E38A76052471; Wed, 12 Feb 2025 03:15:54 -0500 (EST) Subject: |SUCCESS| [GIT MASTER] f2eea2f37a82bb73fb01d56350708f7d70e21379 From: dpdklab@iol.unh.edu To: Test Report Cc: dpdk-test-reports@iol.unh.edu, Xueming Li , Christian Ehrhardt , Kevin Traynor , Luca Boccassi Content-Type: text/plain X-BeenThere: test-report@dpdk.org X-Mailman-Version: 2.1.29 Precedence: list List-Id: automatic DPDK test reports List-Unsubscribe: , List-Archive: List-Post: List-Help: List-Subscribe: , Errors-To: test-report-bounces@dpdk.org _Testing PASS_ Branch: tags/v24.11 f2eea2f37a82bb73fb01d56350708f7d70e21379 --> testing pass Upstream job id: Generic-Unit-Test-DPDK#314317 Test environment and result as below: +-----------------------------+----------------+--------------+---------------------------+------------------------------+ | Environment | dpdk_unit_test | lpm_autotest | cryptodev_sw_zuc_autotest | cryptodev_sw_snow3g_autotest | +=============================+================+==============+===========================+==============================+ | 32-bit Ubuntu 22.04.4 (ARM) | PASS | SKIPPED | SKIPPED | SKIPPED | +-----------------------------+----------------+--------------+---------------------------+------------------------------+ | CentOS Stream 9 (ARM) | PASS | SKIPPED | SKIPPED | SKIPPED | +-----------------------------+----------------+--------------+---------------------------+------------------------------+ | Debian 11 (Buster) (ARM) | PASS | SKIPPED | SKIPPED | SKIPPED | +-----------------------------+----------------+--------------+---------------------------+------------------------------+ | CentOS Stream 10 (ARM) | PASS | SKIPPED | SKIPPED | SKIPPED | +-----------------------------+----------------+--------------+---------------------------+------------------------------+ | Debian 12 (arm) | PASS | SKIPPED | PASS | PASS | +-----------------------------+----------------+--------------+---------------------------+------------------------------+ | Fedora 40 (ARM) | PASS | SKIPPED | SKIPPED | SKIPPED | +-----------------------------+----------------+--------------+---------------------------+------------------------------+ | Fedora 41 (ARM) | PASS | SKIPPED | SKIPPED | SKIPPED | +-----------------------------+----------------+--------------+---------------------------+------------------------------+ | Fedora 41 (ARM Clang) | PASS | SKIPPED | SKIPPED | SKIPPED | +-----------------------------+----------------+--------------+---------------------------+------------------------------+ | Ubuntu 22.04 (ARM) | PASS | SKIPPED | SKIPPED | SKIPPED | +-----------------------------+----------------+--------------+---------------------------+------------------------------+ | Ubuntu 20.04 (ARM) | PASS | SKIPPED | SKIPPED | SKIPPED | +-----------------------------+----------------+--------------+---------------------------+------------------------------+ | Fedora 40 (ARM Clang) | PASS | SKIPPED | SKIPPED | SKIPPED | +-----------------------------+----------------+--------------+---------------------------+------------------------------+ | RHEL9 (ARM) | PASS | SKIPPED | SKIPPED | SKIPPED | +-----------------------------+----------------+--------------+---------------------------+------------------------------+ | Ubuntu 24.04 (ARM) | PASS | SKIPPED | SKIPPED | SKIPPED | +-----------------------------+----------------+--------------+---------------------------+------------------------------+ | Ubuntu 20.04 ARM SVE | SKIPPED | PASS | SKIPPED | SKIPPED | +-----------------------------+----------------+--------------+---------------------------+------------------------------+ 32-bit Ubuntu 22.04.4 (ARM) Kernel: 5.15.83+ aarch64 Compiler: gcc (Ubuntu 11.4.0-1ubuntu1~22.04) 11.4.0 CentOS Stream 9 (ARM) Kernel: Depends on container host Compiler: gcc 11.5.0 20240719 (Red Hat 11.5.0-2) Debian 11 (Buster) (ARM) Kernel: Depends on container host Compiler: gcc (Debian 10.2.1-6) 10.2.1 20210110 CentOS Stream 10 (ARM) Kernel: Depends on container host Compiler: gcc 14.2.1 20241104 (Red Hat 14.2.1-6) Debian 12 (arm) Kernel: Depends on container host Compiler: gcc (Debian 12.2.0-14) 12.2.0 Fedora 40 (ARM) Kernel: Depends on container host Compiler: gcc 14.2.1 20240912 (Red Hat 14.2.1-3) Fedora 41 (ARM) Kernel: Depends on container host Compiler: gcc 14.2.1 20240912 (Red Hat 14.2.1-3) Fedora 41 (ARM Clang) Kernel: Depends on container host Compiler: clang 19.1.5 (Fedora 19.1.5-1.fc41) Ubuntu 22.04 (ARM) Kernel: Depends on container host Compiler: gcc (Ubuntu 11.4.0-1ubuntu1~22.04) 11.4.0 Ubuntu 20.04 (ARM) Kernel: Depends on container host Compiler: gcc (Ubuntu 9.4.0-1ubuntu1~20.04.2) 9.4.0 Fedora 40 (ARM Clang) Kernel: Depends on container host Compiler: clang 18.1.8 (Fedora 18.1.8-1.fc40) RHEL9 (ARM) Kernel: Depends on container host Compiler: gcc 11.5.0 20240719 (Red Hat 11.5.0-2) Ubuntu 24.04 (ARM) Kernel: Depends on container host Compiler: gcc (Ubuntu 13.3.0-6ubuntu2~24.04) 13.3.0 Ubuntu 20.04 ARM SVE Kernel: Depends on container host Compiler: gcc (Ubuntu 10.5.0-1ubuntu1~20.04) 10.5.0 To view detailed results, visit: https://lab.dpdk.org/results/dashboard/tarballs/32549/ UNH-IOL DPDK Community Lab To manage your email subscriptions, visit: https://lab.dpdk.org/results/dashboard/preferences/subscriptions/