From mboxrd@z Thu Jan 1 00:00:00 1970 Return-Path: Received: from mails.dpdk.org (mails.dpdk.org [217.70.189.124]) by inbox.dpdk.org (Postfix) with ESMTP id 46301461FF for ; Wed, 12 Feb 2025 09:16:52 +0100 (CET) Received: from mails.dpdk.org (localhost [127.0.0.1]) by mails.dpdk.org (Postfix) with ESMTP id 42AD8410FB; Wed, 12 Feb 2025 09:16:52 +0100 (CET) Received: from mail-pl1-f228.google.com (mail-pl1-f228.google.com [209.85.214.228]) by mails.dpdk.org (Postfix) with ESMTP id 318FA40269 for ; Wed, 12 Feb 2025 09:16:51 +0100 (CET) Received: by mail-pl1-f228.google.com with SMTP id d9443c01a7336-21f62cc4088so79240445ad.3 for ; Wed, 12 Feb 2025 00:16:51 -0800 (PST) DKIM-Signature: v=1; a=rsa-sha256; c=relaxed/relaxed; d=iol.unh.edu; s=unh-iol; t=1739348210; x=1739953010; darn=dpdk.org; h=cc:to:from:subject:message-id:date:from:to:cc:subject:date :message-id:reply-to; bh=TeWcUvLHuz6c57SRRsO85DHvxDhIGE2655pmBmrNL/Q=; b=e2Os7Z3O9IcUtY1nVjUCDIUCnoDisWBC5wW2DgT8BNeE9Oh6F/G01zRZlc5V/xk+nA 8pz8rWYDpgMxAIj9DSGustz5jwcVoBPMg+MrJyuIfe+JizIEuL0u3m/U4k/5oOBay6Wd pLFpw8ddxT+DiLWZOkQMvCEx53WcbP37AYbJA= X-Google-DKIM-Signature: v=1; a=rsa-sha256; c=relaxed/relaxed; d=1e100.net; s=20230601; t=1739348210; x=1739953010; h=cc:to:from:subject:message-id:date:x-gm-message-state:from:to:cc :subject:date:message-id:reply-to; bh=TeWcUvLHuz6c57SRRsO85DHvxDhIGE2655pmBmrNL/Q=; b=GJlwgwsECBSzARQdqydGvqPNoyIMu6W2s/ad9Y/NO/oSzBm9A5Zae7Y34pPzfiVdwi 3myBVc3lC2+yI7anQ+OC3r9owZQ3DUNnbXBd1F7qlfz5CPKPTCzc4gq6USAunrT/5Pxy z64nsZr3PYchSZVlhlze2t87AKFRkTrhw4oiN0lUfiF1kqSxqjoYvG9HKzpr56DepSDD +SmXAtxcrsQLlH4TykxoxdhxFIxuAgLME75G8OkVdwY0LwjIAAZSpLPrPgPDGnRWP0DS n1yvaJ9C/f2zfUsI04UYUOVTdWNFqXwQVW7TraO1OO+U+xkBAUyQj1K8Okt2rk0vWjj/ a7uA== X-Gm-Message-State: AOJu0YzRkBMUNg4tlptUHQpNRoXr0BK076PsjO7Af3h5XYkl2PUD+Nz0 exdr2OLR5MkUIfZLpFbxzgrGGnylZSwjB2EEboIiRNRPLw7ESztMP0E6bMcPB7R0tVP2zEEHw3E CXK1c2Zeob5ICkKW2HpfdFwhDFr/uFM7Bp4XEyhTu X-Gm-Gg: ASbGncvKGbgJ9Yt07yd3ERtAD1IRZHloMoHVxBGH4aEsdl0I1K5TXya7b8oCfs1ldPc mDc5gXLmnAnfXtvLCbGMju1tir9RNuy2HNMMqDzA316Md1f3bqCjTlYGuUJZqCjBiiLhSHBoOV5 a574Ejvun9WiLJpfUBFQCf5FglhFodCoL4mghHUMN5GCB7sHHI7snJERCue3tI9xcve5ScWs5Zh o+R9W4R1JYIXL6i1n2K/8fL4p/nHRtpJq8cJsGTzQFFvZ8dhHaNv9Izi3sRVLw8VAXobbDMCJPl Fslxzo2bZQYTdRip8k38+vQcy1rBlQ== X-Google-Smtp-Source: AGHT+IEsfWozse8sCE0mdixy7GBdqhkaZzMxG/LTd3ztemfa/FtRt89sNTWW5q5F3OnxJMy36Qm2KbdJ1kTz X-Received: by 2002:a17:903:32c8:b0:21f:5638:2d8 with SMTP id d9443c01a7336-220bbdd906dmr44370635ad.53.1739348210318; Wed, 12 Feb 2025 00:16:50 -0800 (PST) Received: from postal.iol.unh.edu (postal.iol.unh.edu. [132.177.123.84]) by smtp-relay.gmail.com with ESMTPS id d9443c01a7336-21f3653cfc5sm7040895ad.43.2025.02.12.00.16.47 (version=TLS1_2 cipher=ECDHE-ECDSA-AES128-GCM-SHA256 bits=128/128); Wed, 12 Feb 2025 00:16:47 -0800 (PST) X-Relaying-Domain: iol.unh.edu Date: Wed, 12 Feb 2025 00:16:47 -0800 (PST) Message-ID: <67ac58ef.170a0220.178fc.450aSMTPIN_ADDED_MISSING@mx.google.com> Received: from [172.21.0.5] (unknown [172.18.0.240]) by postal.iol.unh.edu (Postfix) with ESMTP id 56DC56052471; Wed, 12 Feb 2025 03:16:46 -0500 (EST) Subject: |SUCCESS| [GIT MASTER] 88e17c88943145bb956b5bf6059a8043dbd33a99 From: dpdklab@iol.unh.edu To: Test Report Cc: dpdk-test-reports@iol.unh.edu, Stephen Hemminger Content-Type: text/plain X-BeenThere: test-report@dpdk.org X-Mailman-Version: 2.1.29 Precedence: list List-Id: automatic DPDK test reports List-Unsubscribe: , List-Archive: List-Post: List-Help: List-Subscribe: , Errors-To: test-report-bounces@dpdk.org _Testing PASS_ Branch: dpdk-next-net 88e17c88943145bb956b5bf6059a8043dbd33a99 --> testing pass Upstream job id: Windows-Compile-DPDK-Native#26642 Test environment and result as below: +---------------------+-------------------+--------------------+-------------------------+ | Environment | dpdk_msvc_compile | dpdk_meson_compile | dpdk_llvm_clang_compile | +=====================+===================+====================+=========================+ | Windows Server 2022 | PASS | SKIPPED | PASS | +---------------------+-------------------+--------------------+-------------------------+ | FreeBSD 13.4 | SKIPPED | PASS | SKIPPED | +---------------------+-------------------+--------------------+-------------------------+ | FreeBSD 14.2 | SKIPPED | PASS | SKIPPED | +---------------------+-------------------+--------------------+-------------------------+ Windows Server 2022 Kernel: 10.0.20348.2031 Compiler: clang 15.0.7, gcc 14.1.0 (MinGW), and MSVC VS 19.39.33521 FreeBSD 13.4 Kernel: 13.4-RELEASE-p1 Compiler: clang 18.1.6 FreeBSD 14.2 Kernel: 14.2-RELEASE Compiler: clang 18.1.6 To view detailed results, visit: https://lab.dpdk.org/results/dashboard/tarballs/32553/ UNH-IOL DPDK Community Lab To manage your email subscriptions, visit: https://lab.dpdk.org/results/dashboard/preferences/subscriptions/