From mboxrd@z Thu Jan 1 00:00:00 1970 Return-Path: Received: from mails.dpdk.org (mails.dpdk.org [217.70.189.124]) by inbox.dpdk.org (Postfix) with ESMTP id 8F26F461FF for ; Wed, 12 Feb 2025 09:19:41 +0100 (CET) Received: from mails.dpdk.org (localhost [127.0.0.1]) by mails.dpdk.org (Postfix) with ESMTP id 89ACB410FB; Wed, 12 Feb 2025 09:19:41 +0100 (CET) Received: from mail-il1-f225.google.com (mail-il1-f225.google.com [209.85.166.225]) by mails.dpdk.org (Postfix) with ESMTP id E90E940269 for ; Wed, 12 Feb 2025 09:19:39 +0100 (CET) Received: by mail-il1-f225.google.com with SMTP id e9e14a558f8ab-3d0558c61f4so1700975ab.0 for ; Wed, 12 Feb 2025 00:19:39 -0800 (PST) DKIM-Signature: v=1; a=rsa-sha256; c=relaxed/relaxed; d=iol.unh.edu; s=unh-iol; t=1739348379; x=1739953179; darn=dpdk.org; h=cc:to:from:subject:message-id:date:from:to:cc:subject:date :message-id:reply-to; bh=UvbkQmrEeET0XzHlx+Md0oHncOuomXLwuoaQk7ypt8o=; b=UThQSG5F17B/UfH6TYFbjwNLW4fYOLzZt3iY1mBH6CQcTBFCh6OPMx4qnTQwXdncMN ZKnECRfybb7+d3DcWlI6h3GgkBjqkbhQxfYpNFPBpHR8r9vpCJxASlacMR+gEvjNzMAk e32dlH3xpBEXbwqSV84a8HETYkZxgp2KzTlLQ= X-Google-DKIM-Signature: v=1; a=rsa-sha256; c=relaxed/relaxed; d=1e100.net; s=20230601; t=1739348379; x=1739953179; h=cc:to:from:subject:message-id:date:x-gm-message-state:from:to:cc :subject:date:message-id:reply-to; bh=UvbkQmrEeET0XzHlx+Md0oHncOuomXLwuoaQk7ypt8o=; b=uZCzxTMEyumDJbPd/UOoSSOSIBjLUP7hm9LQbHnDQR+3NXXWMzKyTYOCQ2RhDyepc/ qhc0FBEJFNHgUjmTjvtOLbT2TE5eXQDQ2A15avaTcgxxqbJ7OlUIEoVijQGH3AQKuJmQ pdBaEU8WpVgyz4HDB5r74vKdyEq9jtXHdFXeU6ftaLQoj2yjyYw8HiLlWjUtuYXCw8zr B2zJZRO6uWHf9MVeI7EQhKo/Afu5zYoEkzyPYCICTdGvQD5zj8T5El9NoDAanomMEtq+ 9up2LYxIXbonuIEC2SqWZ3NX2mUd3Qf5ybFJp13adR9jrImelno5+HjSjVnFtE5PLsAw Shqw== X-Gm-Message-State: AOJu0Yzhm4+rtoQ+a06tu8jlSmglNw4pkpygdAuks5uf5gpuRm31/UQY 7Vnh8VWTKE5UB/pgoeQdxvPS1xxDQ/RHZ+4wL/YDNipb+YtfQGekapaFaDDpCRLMf0CnreNNom6 MYlmgtqCNOZf42ILL1fmgQhuQo/plUqdVVd8E+oMYfmyhOFSa/S/Z/2Bl X-Gm-Gg: ASbGncubV9ItOs3OLK8NqUq4DWRm2oLoxrzNpFNfuIhSGT/TNFq3Ar7jLSuI8CRl2pb GcJyytI2nEjFXG4zlSQNkL1mQuZ3o7Muiego9sDbrDIPClSa0IJIevYdoYBnLojhqaCQUGXpC42 MXBThB6w419NndFsnmwyUjKUjF9eN7+jki/8Gixy2DFxTj/fHs0fx08jsSqhIbgeTiGB/69eQGW JH8Wf+C5b5ssf7Za9u7DrgSqjyXXS0ZRoG+4M+iD9PxvutLeUxX0+e3FZIiXo4vKoi1jY8ABmh0 gxmTFAA4/0s+XjPlvJRx62QE2hw5dNgXrgXikds67Q== X-Google-Smtp-Source: AGHT+IHcLk8tLZSFf1vX7gEdCVN8fdXmlc9k+fRrqMf1ZM2gwDgydzTNAARLBGfE8AO6hbQ16mgVPUEIqGBi X-Received: by 2002:a05:6e02:1b07:b0:3cf:b2ca:39b7 with SMTP id e9e14a558f8ab-3d17cac2ceamr19020115ab.3.1739348379207; Wed, 12 Feb 2025 00:19:39 -0800 (PST) Received: from postal.iol.unh.edu (postal.iol.unh.edu. [2606:4100:3880:1234::84]) by smtp-relay.gmail.com with ESMTPS id e9e14a558f8ab-3d17a062449sm1096555ab.42.2025.02.12.00.19.39 (version=TLS1_2 cipher=ECDHE-ECDSA-AES128-GCM-SHA256 bits=128/128); Wed, 12 Feb 2025 00:19:39 -0800 (PST) X-Relaying-Domain: iol.unh.edu Date: Wed, 12 Feb 2025 00:19:39 -0800 (PST) Message-ID: <67ac599b.050a0220.18a597.5e17SMTPIN_ADDED_MISSING@mx.google.com> Received: from [172.21.0.5] (unknown [172.18.0.240]) by postal.iol.unh.edu (Postfix) with ESMTP id C481B6052471; Wed, 12 Feb 2025 03:19:38 -0500 (EST) Subject: |SUCCESS| [GIT MASTER] 88e17c88943145bb956b5bf6059a8043dbd33a99 From: dpdklab@iol.unh.edu To: Test Report Cc: dpdk-test-reports@iol.unh.edu, Stephen Hemminger Content-Type: text/plain X-BeenThere: test-report@dpdk.org X-Mailman-Version: 2.1.29 Precedence: list List-Id: automatic DPDK test reports List-Unsubscribe: , List-Archive: List-Post: List-Help: List-Subscribe: , Errors-To: test-report-bounces@dpdk.org _Testing PASS_ Branch: dpdk-next-net 88e17c88943145bb956b5bf6059a8043dbd33a99 --> testing pass Upstream job id: Windows-Compile-DPDK-Native#26643 Test environment and result as below: +---------------------+-------------------+--------------------+-------------------------+----------------------+ | Environment | dpdk_msvc_compile | dpdk_meson_compile | dpdk_llvm_clang_compile | dpdk_mingw64_compile | +=====================+===================+====================+=========================+======================+ | Windows Server 2022 | PASS | SKIPPED | PASS | PASS | +---------------------+-------------------+--------------------+-------------------------+----------------------+ | FreeBSD 13.4 | SKIPPED | PASS | SKIPPED | SKIPPED | +---------------------+-------------------+--------------------+-------------------------+----------------------+ | FreeBSD 14.2 | SKIPPED | PASS | SKIPPED | SKIPPED | +---------------------+-------------------+--------------------+-------------------------+----------------------+ Windows Server 2022 Kernel: 10.0.20348.2031 Compiler: clang 15.0.7, gcc 14.1.0 (MinGW), and MSVC VS 19.39.33521 FreeBSD 13.4 Kernel: 13.4-RELEASE-p1 Compiler: clang 18.1.6 FreeBSD 14.2 Kernel: 14.2-RELEASE Compiler: clang 18.1.6 To view detailed results, visit: https://lab.dpdk.org/results/dashboard/tarballs/32553/ UNH-IOL DPDK Community Lab To manage your email subscriptions, visit: https://lab.dpdk.org/results/dashboard/preferences/subscriptions/