From mboxrd@z Thu Jan 1 00:00:00 1970 Return-Path: Received: from mails.dpdk.org (mails.dpdk.org [217.70.189.124]) by inbox.dpdk.org (Postfix) with ESMTP id B56F746201 for ; Wed, 12 Feb 2025 10:05:16 +0100 (CET) Received: from mails.dpdk.org (localhost [127.0.0.1]) by mails.dpdk.org (Postfix) with ESMTP id 92F25410FB; Wed, 12 Feb 2025 10:05:16 +0100 (CET) Received: from mail-pj1-f97.google.com (mail-pj1-f97.google.com [209.85.216.97]) by mails.dpdk.org (Postfix) with ESMTP id 6253140269 for ; Wed, 12 Feb 2025 10:05:14 +0100 (CET) Received: by mail-pj1-f97.google.com with SMTP id 98e67ed59e1d1-2fa2c456816so7509456a91.1 for ; Wed, 12 Feb 2025 01:05:14 -0800 (PST) DKIM-Signature: v=1; a=rsa-sha256; c=relaxed/relaxed; d=iol.unh.edu; s=unh-iol; t=1739351113; x=1739955913; darn=dpdk.org; h=cc:to:from:subject:message-id:date:from:to:cc:subject:date :message-id:reply-to; bh=68nIV7PLOc5tZ8Ad6MWMH3uIni2GihWZvQVnwo1RSXQ=; b=L6lGccTNAjzBhVwty46ekSFqQ5vR5hcLD0Mn/QByfllVhkN+5OE+8RdiTwwasl/MSK H8Df+C3BgxTnRmY2TG0u6z50BqID9PvcKI8ROY9yCSmzti9I7e1aErS8PhorKCTZn612 kb9F3nwvwUf9NPHSX4KnJ7LeZJUCrPSZVqtiM= X-Google-DKIM-Signature: v=1; a=rsa-sha256; c=relaxed/relaxed; d=1e100.net; s=20230601; t=1739351113; x=1739955913; h=cc:to:from:subject:message-id:date:x-gm-message-state:from:to:cc :subject:date:message-id:reply-to; bh=68nIV7PLOc5tZ8Ad6MWMH3uIni2GihWZvQVnwo1RSXQ=; b=eXbvzxUM/c2hhJ0TP3wZZbPB+sTbaHyRKmg71baB5h9GwPsbC4l32oMRSxnbM8MjhU nz505JcyFrkB66whWzMfsi+DqmodY9eu8/MRcA2B7clnpoeCi5M63UyEvh4HYdSCjUJH tEmcoCmfGjHXW9dYLhD1SMa6/Ort7ew6tV5jDDZm74exrGIVsgKh5VDesWsPb9kwU9oc jAWIhxvB1xOc7b6QZksF7qmXHl4qA0Lx/jxNj7m1whSbTdeWloEhISm6t03wRArh5+WT KmheEruE1/djx4wpU9eXutSXRpcqUdNhHjBPNYtpECUfZrEHB44CEcM48hnXA8d7l5mF mLDQ== X-Gm-Message-State: AOJu0Yxva5B554jM0gueGBNQStXWSqmjwhUaptOcE+3KsrkTP65MuWO0 RId18C9+hfVTX2crTOz8ae+KpvM8CRScRv5p0fvnrmiitd0axyE4CgWCK1mRC/ggQfEHYF1FVMz vgxEzrr/SsaM+lwyAz0Q0aopiZ2+onW8z X-Gm-Gg: ASbGncsHF7IEn7HX37yjE9IM42fcHy44uN0mmV6HPsYni0VoFOdvls8ACYU1xd7vdiw r3LQ5AUMsPfmy/HnicBNhj8OHEYhM0PwcydKGtQobnkkyGrLpO+R6+YteSY3WMXObn7MRd4G0yh Su7KS2cCvh9S2L6znmXEi7qH1b1ovX5olxqLA6t91WNw+MuK/rd9HW8SIVeXMnz/e3EL6549O4H 1JGdlsQrFqc/l1Q7zEdokp75m51yxZrmrp8Q7uGVu/Rr5QGvJLm1vuzZaMB3Gr0hWZz7YARw6m5 idKM4JovRolDLOdYW5M4fShlXyTcgw== X-Google-Smtp-Source: AGHT+IGM+4efW98qlvdN/7UHUMb7j7kxALum6jczqYdX/VIOWGiRnIFdUzZLpf78OzCfwsMjb7zV+8YwT0VU X-Received: by 2002:a17:90b:2748:b0:2ee:f19b:86e5 with SMTP id 98e67ed59e1d1-2fbf5be96bbmr4394863a91.14.1739351113481; Wed, 12 Feb 2025 01:05:13 -0800 (PST) Received: from postal.iol.unh.edu (postal.iol.unh.edu. [132.177.123.84]) by smtp-relay.gmail.com with ESMTPS id 98e67ed59e1d1-2fbf9747610sm65094a91.0.2025.02.12.01.05.13 (version=TLS1_2 cipher=ECDHE-ECDSA-AES128-GCM-SHA256 bits=128/128); Wed, 12 Feb 2025 01:05:13 -0800 (PST) X-Relaying-Domain: iol.unh.edu Date: Wed, 12 Feb 2025 01:05:13 -0800 (PST) Message-ID: <67ac6449.170a0220.4822d.39e6SMTPIN_ADDED_MISSING@mx.google.com> Received: from [172.21.0.5] (unknown [172.18.0.240]) by postal.iol.unh.edu (Postfix) with ESMTP id 8DE466052471; Wed, 12 Feb 2025 04:05:12 -0500 (EST) Subject: |SUCCESS| [GIT MASTER] f2eea2f37a82bb73fb01d56350708f7d70e21379 From: dpdklab@iol.unh.edu To: Test Report Cc: dpdk-test-reports@iol.unh.edu, Xueming Li , Christian Ehrhardt , Kevin Traynor , Luca Boccassi Content-Type: text/plain X-BeenThere: test-report@dpdk.org X-Mailman-Version: 2.1.29 Precedence: list List-Id: automatic DPDK test reports List-Unsubscribe: , List-Archive: List-Post: List-Help: List-Subscribe: , Errors-To: test-report-bounces@dpdk.org _Testing PASS_ Branch: tags/v24.11 f2eea2f37a82bb73fb01d56350708f7d70e21379 --> testing pass Upstream job id: Generic-Unit-Test-DPDK#314325 Test environment and result as below: +---------------------+----------------+ | Environment | dpdk_unit_test | +=====================+================+ | CentOS Stream 10 | PASS | +---------------------+----------------+ | CentOS Stream 9 | PASS | +---------------------+----------------+ | Debian Bullseye | PASS | +---------------------+----------------+ | Fedora 40 | PASS | +---------------------+----------------+ | RHEL9 | PASS | +---------------------+----------------+ | Fedora 41 (Clang) | PASS | +---------------------+----------------+ | Fedora 41 | PASS | +---------------------+----------------+ | RHEL8 | PASS | +---------------------+----------------+ | Debian 12 | PASS | +---------------------+----------------+ | Fedora 40 (Clang) | PASS | +---------------------+----------------+ | Ubuntu 20.04 | PASS | +---------------------+----------------+ | Ubuntu 22.04 | PASS | +---------------------+----------------+ | Ubuntu 24.04 | PASS | +---------------------+----------------+ | Windows Server 2022 | PASS | +---------------------+----------------+ CentOS Stream 10 Kernel: Depends on container host Compiler: gcc 14.2.1 20241104 (Red Hat 14.2.1-6) CentOS Stream 9 Kernel: Depends on container host Compiler: gcc 11.5.0 20240719 (Red Hat 11.5.0-2) Debian Bullseye Kernel: Depends on container host Compiler: gcc (Debian 10.2.1-6) 10.2.1 20210110 Fedora 40 Kernel: Depends on container host Compiler: gcc 14.2.1 20240912 (Red Hat 14.2.1-3) RHEL9 Kernel: Depends on container host Compiler: gcc 11.5.0 20240719 (Red Hat 11.5.0-2) Fedora 41 (Clang) Kernel: Depends on container host Compiler: clang 19.1.5 (Fedora 19.1.5-1.fc41) Fedora 41 Kernel: Depends on container host Compiler: gcc 14.2.1 20240912 (Red Hat 14.2.1-3) RHEL8 Kernel: Depends on container host Compiler: gcc 8.5.0 20210514 (Red Hat 8.5.0-22) Debian 12 Kernel: Depends on container host Compiler: gcc (Debian 12.2.0-14) 12.2.0 Fedora 40 (Clang) Kernel: Depends on container host Compiler: clang 18.1.8 (Fedora 18.1.8-1.fc40) Ubuntu 20.04 Kernel: Depends on container host Compiler: gcc (Ubuntu 9.4.0-1ubuntu1~20.04.2) 9.4.0 Ubuntu 22.04 Kernel: Depends on container host Compiler: gcc (Ubuntu 11.4.0-1ubuntu1~22.04) 11.4.0 Ubuntu 24.04 Kernel: Depends on container host Compiler: gcc (Ubuntu 13.3.0-6ubuntu2~24.04) 13.3.0 Windows Server 2022 Kernel: 10.0.20348.2031 Compiler: clang 15.0.7, gcc 14.1.0 (MinGW), and MSVC VS 19.39.33521 To view detailed results, visit: https://lab.dpdk.org/results/dashboard/tarballs/32549/ UNH-IOL DPDK Community Lab To manage your email subscriptions, visit: https://lab.dpdk.org/results/dashboard/preferences/subscriptions/