From mboxrd@z Thu Jan 1 00:00:00 1970 Return-Path: Received: from mails.dpdk.org (mails.dpdk.org [217.70.189.124]) by inbox.dpdk.org (Postfix) with ESMTP id AEF6646201 for ; Wed, 12 Feb 2025 11:10:42 +0100 (CET) Received: from mails.dpdk.org (localhost [127.0.0.1]) by mails.dpdk.org (Postfix) with ESMTP id 8B99B402BC; Wed, 12 Feb 2025 11:10:42 +0100 (CET) Received: from mail-io1-f100.google.com (mail-io1-f100.google.com [209.85.166.100]) by mails.dpdk.org (Postfix) with ESMTP id 808AF40269 for ; Wed, 12 Feb 2025 11:10:41 +0100 (CET) Received: by mail-io1-f100.google.com with SMTP id ca18e2360f4ac-8550803e1afso373455539f.1 for ; Wed, 12 Feb 2025 02:10:41 -0800 (PST) DKIM-Signature: v=1; a=rsa-sha256; c=relaxed/relaxed; d=iol.unh.edu; s=unh-iol; t=1739355041; x=1739959841; darn=dpdk.org; h=cc:to:from:subject:message-id:date:from:to:cc:subject:date :message-id:reply-to; bh=DJFLpaNkHOTwqtXh2Zy8ZNBfwVTZFCoU1Uhk4ZduE2Q=; b=QakLMwBWaMQUUt2qYQ2HznEUkW0fYs88GpbCsb6bxVXPTxabPL6nQ1wOSLyC1a2G+h LHYQkrEh1U2BfEg6LHimk4f4yaunmZEMBuLbn4udcxZFxznDBhRTfIfdCxuonFqnqLOD 9pd4kWQazNu8fLOPoneGYE7glZKlEhJVCdbIo= X-Google-DKIM-Signature: v=1; a=rsa-sha256; c=relaxed/relaxed; d=1e100.net; s=20230601; t=1739355041; x=1739959841; h=cc:to:from:subject:message-id:date:x-gm-message-state:from:to:cc :subject:date:message-id:reply-to; bh=DJFLpaNkHOTwqtXh2Zy8ZNBfwVTZFCoU1Uhk4ZduE2Q=; b=YhRx/A9feseNMp434x8EzOvBrMjeE11FPXgO+VqriiHldpfR4l/dlNj4UpLAp3bhOR kBjUA2/phq5qKTKAFN/Qp0QpHwRAsaIyn/DgkF6NRXpTd58CxBr9Rz6MpfgXux9kge4q PP/TsjJwm9voM5wcmnDI76BQfJL4F6mAcN/H25yxmqgLROIWy7Ys9JfPmQcDZv4K0dVr KqvFkxeBgk41G+JoaKQJ/LCU0C3UUrUircvICmUQ2QgHKJHO4uetVkGnpBq9ZXYELatr hliunnqk4Zdnp9aMWY7F7Kquixo7ySoKIt3Dk8qYKJBP9tfb7X+S4g4LHA8kcZ48XYYf 30eg== X-Gm-Message-State: AOJu0YzP1jci6o6l65y9Pe5W7GKsuC5vIK2tUfy1QqBNJCN3pThIxLH4 tsGzWQNQGKUA1HJ8uvE+kDUYnDOO2DnqL2yHXwq46gVb0/JANJ9cXnlBf8IJ3NfUnFZzZ1fmiM5 CPT1fdgXK9EdIQONEpDZoN9WqLlMJ6GFlEEiW2r7ijBqAmcze X-Gm-Gg: ASbGncv099s0aEoAdd1c2cDh2JHyOVRvRTLLRcjLTpj9Ssq1RsZzOYjNQ9aaKOIiTb3 jThqUMl6lAO0V/pvKWvo/wANJvAi4dr9oQd1z6t8RzfpjTlS4cJY2zhNiUR95OUWoBrs5VqlV9R jlsS5IFlIUTv2QVaSKyRvz03CaSgUUZmCwxh+BDnjlM0QXfhzmjniABJjq9U33sGF3KRMnUwJw/ 6zVcYYVR5nyEZQ3JOntXg3W5fgTbesmNcVThpKAlJjtYcSESQrJb9WobCijcY6IMU56PerG4si/ qAuJ3DFgKz2g2DKLf4Ka3qQMWGAlFIIy1NKQCNdtJQ== X-Google-Smtp-Source: AGHT+IFNvtTAYZys2hp/YIYvyXmNMHqjyX4t7SKO/QDiUKEk19zZ/yMGe2pePRuTrmmO6aZYWFQufbqohwQb X-Received: by 2002:a05:6602:2dd5:b0:855:4f55:56c2 with SMTP id ca18e2360f4ac-85555c895f9mr247575739f.5.1739355040769; Wed, 12 Feb 2025 02:10:40 -0800 (PST) Received: from postal.iol.unh.edu (postal.iol.unh.edu. [2606:4100:3880:1234::84]) by smtp-relay.gmail.com with ESMTPS id ca18e2360f4ac-8552ded2950sm30521039f.27.2025.02.12.02.10.40 (version=TLS1_2 cipher=ECDHE-ECDSA-AES128-GCM-SHA256 bits=128/128); Wed, 12 Feb 2025 02:10:40 -0800 (PST) X-Relaying-Domain: iol.unh.edu Date: Wed, 12 Feb 2025 02:10:40 -0800 (PST) Message-ID: <67ac73a0.050a0220.1c243a.07e8SMTPIN_ADDED_MISSING@mx.google.com> Received: from [172.21.0.5] (unknown [172.18.0.240]) by postal.iol.unh.edu (Postfix) with ESMTP id 3C6806052471; Wed, 12 Feb 2025 05:10:40 -0500 (EST) Subject: |SUCCESS| [GIT MASTER] c66daa12e76d7b4912cfb7109a761856a7a873ab From: dpdklab@iol.unh.edu To: Test Report Cc: dpdk-test-reports@iol.unh.edu, Xueming Li , Christian Ehrhardt , Kevin Traynor , Luca Boccassi Content-Type: text/plain X-BeenThere: test-report@dpdk.org X-Mailman-Version: 2.1.29 Precedence: list List-Id: automatic DPDK test reports List-Unsubscribe: , List-Archive: List-Post: List-Help: List-Subscribe: , Errors-To: test-report-bounces@dpdk.org _Testing PASS_ Branch: tags/v23.11 c66daa12e76d7b4912cfb7109a761856a7a873ab --> testing pass Upstream job id: Generic-DPDK-Compile-Meson#360860 Test environment and result as below: +------------------------------------+--------------------+ | Environment | dpdk_meson_compile | +====================================+====================+ | Debian 12 with MUSDK | PASS | +------------------------------------+--------------------+ | RHEL9 (ARM) | PASS | +------------------------------------+--------------------+ | Ubuntu 20.04 ARM SVE | PASS | +------------------------------------+--------------------+ | Ubuntu 20.04 ARM GCC Cross Compile | PASS | +------------------------------------+--------------------+ | Ubuntu 22.04 (ARM) | PASS | +------------------------------------+--------------------+ | CentOS Stream 9 (ARM) | PASS | +------------------------------------+--------------------+ | CentOS Stream 10 (ARM) | PASS | +------------------------------------+--------------------+ | Fedora 41 (ARM Clang) | PASS | +------------------------------------+--------------------+ | Fedora 40 (ARM) | PASS | +------------------------------------+--------------------+ | Fedora 40 (ARM Clang) | PASS | +------------------------------------+--------------------+ | Fedora 41 (ARM) | PASS | +------------------------------------+--------------------+ | Debian 11 (Buster) (ARM) | PASS | +------------------------------------+--------------------+ | Debian 12 (arm) | PASS | +------------------------------------+--------------------+ | Ubuntu 24.04 (ARM) | PASS | +------------------------------------+--------------------+ | Ubuntu 20.04 (ARM) | PASS | +------------------------------------+--------------------+ Debian 12 with MUSDK Kernel: Depends on container host Compiler: gcc (Debian 12.2.0-14) 12.2.0 RHEL9 (ARM) Kernel: Depends on container host Compiler: gcc 11.5.0 20240719 (Red Hat 11.5.0-2) Ubuntu 20.04 ARM SVE Kernel: Depends on container host Compiler: gcc (Ubuntu 10.5.0-1ubuntu1~20.04) 10.5.0 Ubuntu 20.04 ARM GCC Cross Compile Kernel: Depends on container host Compiler: aarch64-linux-gnu-gcc (Ubuntu 9.4.0-1ubuntu1~20.04.2) 9.4.0 Ubuntu 22.04 (ARM) Kernel: Depends on container host Compiler: gcc (Ubuntu 11.4.0-1ubuntu1~22.04) 11.4.0 CentOS Stream 9 (ARM) Kernel: Depends on container host Compiler: gcc 11.5.0 20240719 (Red Hat 11.5.0-2) CentOS Stream 10 (ARM) Kernel: Depends on container host Compiler: gcc 14.2.1 20241104 (Red Hat 14.2.1-6) Fedora 41 (ARM Clang) Kernel: Depends on container host Compiler: clang 19.1.5 (Fedora 19.1.5-1.fc41) Fedora 40 (ARM) Kernel: Depends on container host Compiler: gcc 14.2.1 20240912 (Red Hat 14.2.1-3) Fedora 40 (ARM Clang) Kernel: Depends on container host Compiler: clang 18.1.8 (Fedora 18.1.8-1.fc40) Fedora 41 (ARM) Kernel: Depends on container host Compiler: gcc 14.2.1 20240912 (Red Hat 14.2.1-3) Debian 11 (Buster) (ARM) Kernel: Depends on container host Compiler: gcc (Debian 10.2.1-6) 10.2.1 20210110 Debian 12 (arm) Kernel: Depends on container host Compiler: gcc (Debian 12.2.0-14) 12.2.0 Ubuntu 24.04 (ARM) Kernel: Depends on container host Compiler: gcc (Ubuntu 13.3.0-6ubuntu2~24.04) 13.3.0 Ubuntu 20.04 (ARM) Kernel: Depends on container host Compiler: gcc (Ubuntu 9.4.0-1ubuntu1~20.04.2) 9.4.0 To view detailed results, visit: https://lab.dpdk.org/results/dashboard/tarballs/32550/ UNH-IOL DPDK Community Lab To manage your email subscriptions, visit: https://lab.dpdk.org/results/dashboard/preferences/subscriptions/