From mboxrd@z Thu Jan 1 00:00:00 1970 Return-Path: Received: from mails.dpdk.org (mails.dpdk.org [217.70.189.124]) by inbox.dpdk.org (Postfix) with ESMTP id 654C646201 for ; Wed, 12 Feb 2025 11:17:25 +0100 (CET) Received: from mails.dpdk.org (localhost [127.0.0.1]) by mails.dpdk.org (Postfix) with ESMTP id 3DE5E410FB; Wed, 12 Feb 2025 11:17:25 +0100 (CET) Received: from mail-pl1-f227.google.com (mail-pl1-f227.google.com [209.85.214.227]) by mails.dpdk.org (Postfix) with ESMTP id AC10F40269 for ; Wed, 12 Feb 2025 11:17:23 +0100 (CET) Received: by mail-pl1-f227.google.com with SMTP id d9443c01a7336-21f4af4f9ddso78333715ad.1 for ; Wed, 12 Feb 2025 02:17:23 -0800 (PST) DKIM-Signature: v=1; a=rsa-sha256; c=relaxed/relaxed; d=iol.unh.edu; s=unh-iol; t=1739355442; x=1739960242; darn=dpdk.org; h=cc:to:from:subject:message-id:date:from:to:cc:subject:date :message-id:reply-to; bh=0racFSg1XUsYTITqt0muF9eCLiUrzHeuvY5yGMFhdLU=; b=JQ9h8BH/5D5wCaTQg9YFp1x8uI6GopRilSLTntHPBv3pA/lbzy3SxkzRfsIzeTwuN/ Knpfpoe1sZgG3HZLNiP58Vb3WgZtXvv6/BH271loi6nLftbZ+MnObIJy2z1XqehSA4Xb vGjI+J7xMRS6QRyPerUhYyL5IX9gpf2vDwGEo= X-Google-DKIM-Signature: v=1; a=rsa-sha256; c=relaxed/relaxed; d=1e100.net; s=20230601; t=1739355442; x=1739960242; h=cc:to:from:subject:message-id:date:x-gm-message-state:from:to:cc :subject:date:message-id:reply-to; bh=0racFSg1XUsYTITqt0muF9eCLiUrzHeuvY5yGMFhdLU=; b=wC81yow/wNPjlSStJVKNiobT1t0RKjZ2MsFr1vSpi1rGGOnqAo+sly44nS+1PjLID2 4GSmLF4PVGt5rxvJAD3DOZ3KBInVss9g8NDaXA3ISneyGZaF40D2niu1Ne3AJVSyTwLe SlVZnotVmYRX1hCgAbcK+pBM6yFHHW+WmvAUOcfGdkLiEzjhQ+gzABnmuB4+1Iyodi7s ojL/CCDy4Xb7aZnZgxIs8spUE8QKquzBwbBmhXMEAztbhxmMdTsLwuDVK6xw1tz9h708 MlsU7IUjG0pav8DrANVljweev2YB+dFjlN9aKnhXtG21EXP+7RA9OfxarJDUffK08HyQ mQSA== X-Gm-Message-State: AOJu0YyMI4lizlnVxMnFoPwsRcck8t+t0cK1iRFOSzh3erQAenpt2sqf JRzIaw6TSjwuc0JAPaPv/8FQOFNoiI//CG1U5GOA3r8fpTSXfQ2r1Ow9S2Rh7hJH8Aj8jT8P9YM xPKNvNzNTvJjc51FJL3HPBZMhuhAzxxBySYvhqMCt X-Gm-Gg: ASbGncsxnkR4dNn0CWv8ZvnaY/tfqN75v5091HTsShHHHSEC/7M6Cyj9lg6hoKLtm02 OXvutHvXCj9EtObtXcqFpCTM2RPk8DgkdxmpJCMw9KGTz0BQV14UL+NYqfsCBOa6Q+uP5KRbPKc nveh5/sWWF32+8wv3oBxj5QxzvCPrSnMUfXiIEbRAeM+XG57oWCY9ogWA/qX/qGPCL0PUwgCFFr LyTAfykMj0owJ+E1QTybhojxqtTioH+aliNCrckAO2XnxVUsNZHTH1jXnsibMdOtuurd3gYQepa o0wn8kd+IeDw2o632OwjswJmaU7jPg== X-Google-Smtp-Source: AGHT+IEnJ2VknIZ7M6I1YXYGVGZ5AtbyCbInrksP7/yZQ+q2OFkfOiK0pbI7nXBzh7RKsIC84s1zz2sBkJxR X-Received: by 2002:a17:902:dac1:b0:216:1543:1962 with SMTP id d9443c01a7336-220bbb45e0amr38053025ad.23.1739355442318; Wed, 12 Feb 2025 02:17:22 -0800 (PST) Received: from postal.iol.unh.edu (postal.iol.unh.edu. [132.177.123.84]) by smtp-relay.gmail.com with ESMTPS id d9443c01a7336-21f3656138csm7560615ad.51.2025.02.12.02.17.22 (version=TLS1_2 cipher=ECDHE-ECDSA-AES128-GCM-SHA256 bits=128/128); Wed, 12 Feb 2025 02:17:22 -0800 (PST) X-Relaying-Domain: iol.unh.edu Date: Wed, 12 Feb 2025 02:17:22 -0800 (PST) Message-ID: <67ac7532.170a0220.399406.7306SMTPIN_ADDED_MISSING@mx.google.com> Received: from [172.21.0.5] (unknown [172.18.0.240]) by postal.iol.unh.edu (Postfix) with ESMTP id 657766052471; Wed, 12 Feb 2025 05:17:21 -0500 (EST) Subject: |SUCCESS| [GIT MASTER] 05db99c117e36c0cd28cda8f558309efd20055da From: dpdklab@iol.unh.edu To: Test Report Cc: dpdk-test-reports@iol.unh.edu Content-Type: text/plain X-BeenThere: test-report@dpdk.org X-Mailman-Version: 2.1.29 Precedence: list List-Id: automatic DPDK test reports List-Unsubscribe: , List-Archive: List-Post: List-Help: List-Subscribe: , Errors-To: test-report-bounces@dpdk.org _Testing PASS_ Branch: dpdk 05db99c117e36c0cd28cda8f558309efd20055da --> testing pass Upstream job id: ACVP-FIPS-testing#8885 Test environment and result as below: +--------------------+----------------------+----------------------+ | Environment | compressdev_zlib_pmd | dpdk_fips_validation | +====================+======================+======================+ | Ubuntu 22.04 (ARM) | PASS | SKIPPED | +--------------------+----------------------+----------------------+ | Ubuntu 22.04 | PASS | SKIPPED | +--------------------+----------------------+----------------------+ | Ubuntu 20.04 | SKIPPED | PASS | +--------------------+----------------------+----------------------+ Ubuntu 22.04 (ARM) Kernel: 5.15.0-97-generic Compiler: gcc gcc (Ubuntu 11.4.0-1ubuntu1~22.04) 11.4.0 Ubuntu 22.04 Kernel: 5.15.0-100-generic Compiler: gcc gcc (Ubuntu 11.4.0-1ubuntu1~22.04) 11.4.0 Ubuntu 20.04 Kernel: Depends on container host Compiler: gcc (Ubuntu 9.4.0-1ubuntu1~20.04.2) 9.4.0 To view detailed results, visit: https://lab.dpdk.org/results/dashboard/tarballs/32548/ UNH-IOL DPDK Community Lab To manage your email subscriptions, visit: https://lab.dpdk.org/results/dashboard/preferences/subscriptions/