From mboxrd@z Thu Jan 1 00:00:00 1970 Return-Path: Received: from mails.dpdk.org (mails.dpdk.org [217.70.189.124]) by inbox.dpdk.org (Postfix) with ESMTP id 3343E46201 for ; Wed, 12 Feb 2025 11:36:46 +0100 (CET) Received: from mails.dpdk.org (localhost [127.0.0.1]) by mails.dpdk.org (Postfix) with ESMTP id 12686410FB; Wed, 12 Feb 2025 11:36:46 +0100 (CET) Received: from mail-qv1-f98.google.com (mail-qv1-f98.google.com [209.85.219.98]) by mails.dpdk.org (Postfix) with ESMTP id 2B7FF40269 for ; Wed, 12 Feb 2025 11:36:45 +0100 (CET) Received: by mail-qv1-f98.google.com with SMTP id 6a1803df08f44-6e41e18137bso51025706d6.1 for ; Wed, 12 Feb 2025 02:36:45 -0800 (PST) DKIM-Signature: v=1; a=rsa-sha256; c=relaxed/relaxed; d=iol.unh.edu; s=unh-iol; t=1739356604; x=1739961404; darn=dpdk.org; h=references:in-reply-to:cc:to:from:subject:message-id:date:from:to :cc:subject:date:message-id:reply-to; bh=Io9IaKp2k8hWrniBkchIbE8MtcUCzVkop0zi0swnAaw=; b=e1tXWlZ5vS1RzGgXWjR1TaaZaJCf980D88QjoM1tixGN3w2SVFoE87HAPyIx3bAv8a b5pwqVHLKWQGaP9QyyKt6kZiFijbLiD9hPqstBzdaqx1//Rv6nXGEw6/Mwb1iRG8229D Thg/lwJj3XSaIjdRO2xA8/SDmjVw+Y57rqh8w= X-Google-DKIM-Signature: v=1; a=rsa-sha256; c=relaxed/relaxed; d=1e100.net; s=20230601; t=1739356604; x=1739961404; h=references:in-reply-to:cc:to:from:subject:message-id:date :x-gm-message-state:from:to:cc:subject:date:message-id:reply-to; bh=Io9IaKp2k8hWrniBkchIbE8MtcUCzVkop0zi0swnAaw=; b=n2A5/zaqiKkQLejHJeB2WmR1GN6V3TcENmKeOY76UaRdArq8IHXM5j4Zs1W7o2b1pg Gp0VCOOuiXFmeJO8Ojyn9afIQV8voMo6QIoHT/zgZ7YBY6LlX3fRGQ/DHKOwGPIE6bb2 jp+oXMPdmLLv25cr4lFlSilHKCmjITvIRn8Y+KQyF9si6FLLhUZiD7PZK3P3XnurnpXM W3Vt7fkWIautFWJERFNZXNkIOfkg2X9YYSq358R6+SRtXg/BImgkNks5isbBX/fJrTM6 hXfWCXvMaMYcJux4qca3rYj9sDfjArgCu/fk6NKlMz1AkfrM9IaTxzyJiAEzFJR+x0UN IDmw== X-Gm-Message-State: AOJu0YwkRa35QlL+LSIJZ3e8yfgzVWBvidic7kuHoO7y/pIGY/j6DdMM Kuququm1CeIgV8GlumCfUcCX7lpWjvjRQ6Ld2Xdlz3gM6KqknZA0Sb7yKJ/iVccqXGMK56/BjkH zNphHZRnYVLFBaMyYXaC5EtK7KhySY9V3uYc7IGp2oxpLmKzTAR1N+SQq X-Gm-Gg: ASbGncs60ZX5qDnb+7EdPWkI+EZwdnuFxpPF6EeygiDnlAVlbWR6v+CnWcsKqYAHu3f PobWk0RKcEs5cqnblCwNEBsGWW5Cix12TSZzLyIvSoouhvV0F9alNvxz+DKmSe8ddpzIJgGMoiW i4GxMp52+664FAZfcQI4xqmwU306NE028yLdC82YwG9w8wgzFHiqO2HeJUXZZddrl1ktlqUVd+N uRdBloOQWgu/7QyYrbx+hPwReyRJN0fzdDGUxTdcVtDn869TgWZYzY+bYV3utjShJXkgSiATsi/ Tc3Zo8XqbBsU0lh8YI94hiP4gMk8C33Y6EqIIO2TmA== X-Google-Smtp-Source: AGHT+IHWlCyYipg0JpCkOB4aEPEZiuMXBBpdl4gMKpppwdPF/DvFP+kGPj3rva75jnKb9H2tHanVekXJNfIi X-Received: by 2002:a05:6214:5098:b0:6d4:211c:dff0 with SMTP id 6a1803df08f44-6e46edad954mr37216656d6.29.1739356604475; Wed, 12 Feb 2025 02:36:44 -0800 (PST) Received: from postal.iol.unh.edu (postal.iol.unh.edu. [2606:4100:3880:1234::84]) by smtp-relay.gmail.com with ESMTPS id 6a1803df08f44-6e456899f95sm5579356d6.70.2025.02.12.02.36.44 (version=TLS1_2 cipher=ECDHE-ECDSA-AES128-GCM-SHA256 bits=128/128); Wed, 12 Feb 2025 02:36:44 -0800 (PST) X-Relaying-Domain: iol.unh.edu Date: Wed, 12 Feb 2025 02:36:44 -0800 (PST) Message-ID: <67ac79bc.d40a0220.25bf2.da97SMTPIN_ADDED_MISSING@mx.google.com> Received: from [172.21.0.6] (unknown [172.18.0.240]) by postal.iol.unh.edu (Postfix) with ESMTP id 1F5086052471; Wed, 12 Feb 2025 05:36:44 -0500 (EST) Subject: |SUCCESS| pw151377 [PATCH] examples/l3fwd: adjust Tx burst size base From: dpdklab@iol.unh.edu To: Test Report Cc: dpdk-test-reports@iol.unh.edu In-Reply-To: <20250212045416.2393001-1-sivaprasad.tummala@amd.com> References: <20250212045416.2393001-1-sivaprasad.tummala@amd.com> Content-Type: text/plain X-BeenThere: test-report@dpdk.org X-Mailman-Version: 2.1.29 Precedence: list List-Id: automatic DPDK test reports List-Unsubscribe: , List-Archive: List-Post: List-Help: List-Subscribe: , Errors-To: test-report-bounces@dpdk.org Test-Label: iol-unit-amd64-testing Test-Status: SUCCESS http://dpdk.org/patch/151377 _Testing PASS_ Submitter: Sivaprasad Tummala Date: Wednesday, February 12 2025 04:54:16 DPDK git baseline: Repo:dpdk Branch: master CommitID:046cca99c3fd03bfb95d3e27a56aab40c2c8f45a 151377 --> testing pass Upstream job id: Generic-Unit-Test-DPDK#314350 Test environment and result as below: +---------------------+----------------+ | Environment | dpdk_unit_test | +=====================+================+ | CentOS Stream 9 | PASS | +---------------------+----------------+ | CentOS Stream 10 | PASS | +---------------------+----------------+ | Fedora 40 | PASS | +---------------------+----------------+ | Fedora 40 (Clang) | PASS | +---------------------+----------------+ | Debian Bullseye | PASS | +---------------------+----------------+ | Ubuntu 20.04 | PASS | +---------------------+----------------+ | Fedora 41 (Clang) | PASS | +---------------------+----------------+ | RHEL8 | PASS | +---------------------+----------------+ | Debian 12 | PASS | +---------------------+----------------+ | Fedora 41 | PASS | +---------------------+----------------+ | RHEL9 | PASS | +---------------------+----------------+ | Ubuntu 22.04 | PASS | +---------------------+----------------+ | Ubuntu 24.04 | PASS | +---------------------+----------------+ | Windows Server 2022 | PASS | +---------------------+----------------+ CentOS Stream 9 Kernel: Depends on container host Compiler: gcc 11.5.0 20240719 (Red Hat 11.5.0-2) CentOS Stream 10 Kernel: Depends on container host Compiler: gcc 14.2.1 20241104 (Red Hat 14.2.1-6) Fedora 40 Kernel: Depends on container host Compiler: gcc 14.2.1 20240912 (Red Hat 14.2.1-3) Fedora 40 (Clang) Kernel: Depends on container host Compiler: clang 18.1.8 (Fedora 18.1.8-1.fc40) Debian Bullseye Kernel: Depends on container host Compiler: gcc (Debian 10.2.1-6) 10.2.1 20210110 Ubuntu 20.04 Kernel: Depends on container host Compiler: gcc (Ubuntu 9.4.0-1ubuntu1~20.04.2) 9.4.0 Fedora 41 (Clang) Kernel: Depends on container host Compiler: clang 19.1.5 (Fedora 19.1.5-1.fc41) RHEL8 Kernel: Depends on container host Compiler: gcc 8.5.0 20210514 (Red Hat 8.5.0-22) Debian 12 Kernel: Depends on container host Compiler: gcc (Debian 12.2.0-14) 12.2.0 Fedora 41 Kernel: Depends on container host Compiler: gcc 14.2.1 20240912 (Red Hat 14.2.1-3) RHEL9 Kernel: Depends on container host Compiler: gcc 11.5.0 20240719 (Red Hat 11.5.0-2) Ubuntu 22.04 Kernel: Depends on container host Compiler: gcc (Ubuntu 11.4.0-1ubuntu1~22.04) 11.4.0 Ubuntu 24.04 Kernel: Depends on container host Compiler: gcc (Ubuntu 13.3.0-6ubuntu2~24.04) 13.3.0 Windows Server 2022 Kernel: 10.0.20348.2031 Compiler: clang 15.0.7, gcc 14.1.0 (MinGW), and MSVC VS 19.39.33521 To view detailed results, visit: https://lab.dpdk.org/results/dashboard/patchsets/32565/ UNH-IOL DPDK Community Lab To manage your email subscriptions, visit: https://lab.dpdk.org/results/dashboard/preferences/subscriptions/