From mboxrd@z Thu Jan 1 00:00:00 1970 Return-Path: Received: from mails.dpdk.org (mails.dpdk.org [217.70.189.124]) by inbox.dpdk.org (Postfix) with ESMTP id BD0CF46201 for ; Wed, 12 Feb 2025 11:55:51 +0100 (CET) Received: from mails.dpdk.org (localhost [127.0.0.1]) by mails.dpdk.org (Postfix) with ESMTP id 9F9CB402D5; Wed, 12 Feb 2025 11:55:51 +0100 (CET) Received: from mail-il1-f225.google.com (mail-il1-f225.google.com [209.85.166.225]) by mails.dpdk.org (Postfix) with ESMTP id DCA6D40269 for ; Wed, 12 Feb 2025 11:55:49 +0100 (CET) Received: by mail-il1-f225.google.com with SMTP id e9e14a558f8ab-3d04fc1ea14so62307105ab.2 for ; Wed, 12 Feb 2025 02:55:49 -0800 (PST) DKIM-Signature: v=1; a=rsa-sha256; c=relaxed/relaxed; d=iol.unh.edu; s=unh-iol; t=1739357749; x=1739962549; darn=dpdk.org; h=references:in-reply-to:cc:to:from:subject:message-id:date:from:to :cc:subject:date:message-id:reply-to; bh=hCmdMa/rETp4ljZGmyX2z8r2U5AqNaLHzstDzWOa8uc=; b=g+5R27YQZTzh88qTM3Yyvgn49HydiuCwHg9EIb0QUZvdJ/VpbYAHHF2mr0B0Vo9Sfh Rkh1XPbW+bXv+OrcCFo/bWZ0XWMA2bpGm+X7SYOOmqxcTJ8UbJi2VGi8A3xLqTWzfh5Y z9poyLJrtkVgCsEk7r4vWi0kPHKWQsZKMN96o= X-Google-DKIM-Signature: v=1; a=rsa-sha256; c=relaxed/relaxed; d=1e100.net; s=20230601; t=1739357749; x=1739962549; h=references:in-reply-to:cc:to:from:subject:message-id:date :x-gm-message-state:from:to:cc:subject:date:message-id:reply-to; bh=hCmdMa/rETp4ljZGmyX2z8r2U5AqNaLHzstDzWOa8uc=; b=nhxEQBJsLRGCMm2BKYRgltusl3nJgwUNxmBqfhixLn/hBeGoj1yNUWMzxOSpaSgtT2 5HA0lE+/LRULpTkcamSIsnBHykEVpImDFu8vVb0ZFknBPUXqw606ubKBTPEKmcSNIL4D yv0bpon6hZ1q6N/SrkTlqXP2TcZSD7RAqWAna+No0dAkwjtd6g/2X8+Kl0IUrETFs9EE haexTUuNoSdrVQ0imnLsXIEc0BtH3m1+qSBdaP+qpHtkBciaqPbM1A0Y4/pLeGijfpN1 yNIh/f/KmBRCuZfY42ZpehR+5dLEKQp0f5gPLGYde0Q+U1yRSpZwOqZf5W7+y0Rg95x8 mt6A== X-Gm-Message-State: AOJu0Yz7oQFgr0cZlRMNzhTEFp/Avr+jQmtOb7hFPCjiJRsv4pL5+fwf ABWMREf2VCQwzYTVbXK+6uZ5V5/m12Mw2bmbwmArjooUVbQ8akGa6AvEyLkZ/7jjN2pdjJpWPm3 oRl7/rbb1Mb0FCJPG0XzINHuJdx4tpf9cnRshXW6LcCajf0KNx8Poht22 X-Gm-Gg: ASbGncsAoBnQHiCiRVn5wbK4drfBPvYUPxHpFG25TYta4785DBqxLnPDfUzky3TmBla 4Om/+sxBx2BJeRyiM6BRD+UAHyXrZV8i7PQM/IV793LOQqCB9jeb/pIYVuMQZF+UZyktk9qEd5g 0fU4o1ghb/w//sosDSZVPDfJf1QKdH7WXyHV8oN7M3EYZUUJe4GJHZ5XPxfaji4F6L0yePE3XRZ AqG9fg4LAdfeAWbrG+czgqz+wLlK/u7js+5c9qZwj0FtABbh+0g06zilYvLJVmdYwM6S00BFxvT 9Oc7LwHAXV+lFYvcimJHFTPlJKIKGYQ8SHedF++h9A== X-Google-Smtp-Source: AGHT+IEUG7tSFx3WiJCIQqShvcJwdQ+NwekLoEmFRDPAcqs1E6ZYbLalwT8NvbD6wwQgZAwgkq0ouZhdZOAc X-Received: by 2002:a05:6e02:b22:b0:3a7:e83c:2d08 with SMTP id e9e14a558f8ab-3d17d15a2b0mr18177975ab.22.1739357749225; Wed, 12 Feb 2025 02:55:49 -0800 (PST) Received: from postal.iol.unh.edu (postal.iol.unh.edu. [2606:4100:3880:1234::84]) by smtp-relay.gmail.com with ESMTPS id e9e14a558f8ab-3d153d25cb0sm5444305ab.5.2025.02.12.02.55.49 (version=TLS1_2 cipher=ECDHE-ECDSA-AES128-GCM-SHA256 bits=128/128); Wed, 12 Feb 2025 02:55:49 -0800 (PST) X-Relaying-Domain: iol.unh.edu Date: Wed, 12 Feb 2025 02:55:49 -0800 (PST) Message-ID: <67ac7e35.050a0220.21a90a.dc46SMTPIN_ADDED_MISSING@mx.google.com> Received: from [172.21.0.5] (unknown [172.18.0.240]) by postal.iol.unh.edu (Postfix) with ESMTP id 568756052471; Wed, 12 Feb 2025 05:55:48 -0500 (EST) Subject: |SUCCESS| pw151377 [PATCH] examples/l3fwd: adjust Tx burst size base From: dpdklab@iol.unh.edu To: Test Report Cc: dpdk-test-reports@iol.unh.edu In-Reply-To: <20250212045416.2393001-1-sivaprasad.tummala@amd.com> References: <20250212045416.2393001-1-sivaprasad.tummala@amd.com> Content-Type: text/plain X-BeenThere: test-report@dpdk.org X-Mailman-Version: 2.1.29 Precedence: list List-Id: automatic DPDK test reports List-Unsubscribe: , List-Archive: List-Post: List-Help: List-Subscribe: , Errors-To: test-report-bounces@dpdk.org Test-Label: iol-abi-testing Test-Status: SUCCESS http://dpdk.org/patch/151377 _Testing PASS_ Submitter: Sivaprasad Tummala Date: Wednesday, February 12 2025 04:54:16 DPDK git baseline: Repo:dpdk Branch: master CommitID:046cca99c3fd03bfb95d3e27a56aab40c2c8f45a 151377 --> testing pass Upstream job id: Generic-DPDK-Compile-ABI#115926 Test environment and result as below: +-------------------+----------+ | Environment | abi_test | +===================+==========+ | Debian 12 | PASS | +-------------------+----------+ | Fedora 40 | PASS | +-------------------+----------+ | Fedora 40 (Clang) | PASS | +-------------------+----------+ | CentOS Stream 10 | PASS | +-------------------+----------+ | Debian Bullseye | PASS | +-------------------+----------+ | openSUSE Leap 15 | PASS | +-------------------+----------+ | CentOS Stream 9 | PASS | +-------------------+----------+ | Fedora 41 (Clang) | PASS | +-------------------+----------+ | Fedora 41 | PASS | +-------------------+----------+ | RHEL9 | PASS | +-------------------+----------+ | Ubuntu 24.04 | PASS | +-------------------+----------+ | Ubuntu 22.04 | PASS | +-------------------+----------+ | RHEL8 | PASS | +-------------------+----------+ Debian 12 Kernel: Depends on container host Compiler: gcc (Debian 12.2.0-14) 12.2.0 Fedora 40 Kernel: Depends on container host Compiler: gcc 14.2.1 20240912 (Red Hat 14.2.1-3) Fedora 40 (Clang) Kernel: Depends on container host Compiler: clang 18.1.8 (Fedora 18.1.8-1.fc40) CentOS Stream 10 Kernel: Depends on container host Compiler: gcc 14.2.1 20241104 (Red Hat 14.2.1-6) Debian Bullseye Kernel: Depends on container host Compiler: gcc (Debian 10.2.1-6) 10.2.1 20210110 openSUSE Leap 15 Kernel: Depends on container host Compiler: gcc (SUSE Linux) 7.5.0 CentOS Stream 9 Kernel: Depends on container host Compiler: gcc 11.5.0 20240719 (Red Hat 11.5.0-2) Fedora 41 (Clang) Kernel: Depends on container host Compiler: clang 19.1.5 (Fedora 19.1.5-1.fc41) Fedora 41 Kernel: Depends on container host Compiler: gcc 14.2.1 20240912 (Red Hat 14.2.1-3) RHEL9 Kernel: Depends on container host Compiler: gcc 11.5.0 20240719 (Red Hat 11.5.0-2) Ubuntu 24.04 Kernel: Depends on container host Compiler: gcc (Ubuntu 13.3.0-6ubuntu2~24.04) 13.3.0 Ubuntu 22.04 Kernel: Depends on container host Compiler: gcc (Ubuntu 11.4.0-1ubuntu1~22.04) 11.4.0 RHEL8 Kernel: Depends on container host Compiler: gcc 8.5.0 20210514 (Red Hat 8.5.0-22) To view detailed results, visit: https://lab.dpdk.org/results/dashboard/patchsets/32565/ UNH-IOL DPDK Community Lab To manage your email subscriptions, visit: https://lab.dpdk.org/results/dashboard/preferences/subscriptions/