From mboxrd@z Thu Jan  1 00:00:00 1970
Return-Path: <test-report-bounces@dpdk.org>
Received: from mails.dpdk.org (mails.dpdk.org [217.70.189.124])
	by inbox.dpdk.org (Postfix) with ESMTP id 779B546202
	for <public@inbox.dpdk.org>; Wed, 12 Feb 2025 12:04:08 +0100 (CET)
Received: from mails.dpdk.org (localhost [127.0.0.1])
	by mails.dpdk.org (Postfix) with ESMTP id 5F876402D5;
	Wed, 12 Feb 2025 12:04:08 +0100 (CET)
Received: from mail-pl1-f228.google.com (mail-pl1-f228.google.com
 [209.85.214.228])
 by mails.dpdk.org (Postfix) with ESMTP id 6EC7840269
 for <test-report@dpdk.org>; Wed, 12 Feb 2025 12:04:07 +0100 (CET)
Received: by mail-pl1-f228.google.com with SMTP id
 d9443c01a7336-21f3c119fe6so150687435ad.0
 for <test-report@dpdk.org>; Wed, 12 Feb 2025 03:04:07 -0800 (PST)
DKIM-Signature: v=1; a=rsa-sha256; c=relaxed/relaxed;
 d=iol.unh.edu; s=unh-iol; t=1739358246; x=1739963046; darn=dpdk.org;
 h=references:in-reply-to:cc:to:from:subject:message-id:date:from:to
 :cc:subject:date:message-id:reply-to;
 bh=0abH5SlJhSmrUti7RmuZWe9/D4l6zW1I5/Ny3iKyz1w=;
 b=cTGt6ASN+AMWgnltr68SkfmAU/KK7jfWgd5zGrzIE+mttIvcZhyZPNZJoU6UsvHSTc
 yWHcdsDHEC0ExoT28YRnt4hyyu7GNkOiBeT3iVsWS0D/54wNEf9r+qOBNQxts7rDDZ2F
 6Ei/qZHjh9grjpDsHb97KqYz59BDDkK6Bm0Wk=
X-Google-DKIM-Signature: v=1; a=rsa-sha256; c=relaxed/relaxed;
 d=1e100.net; s=20230601; t=1739358246; x=1739963046;
 h=references:in-reply-to:cc:to:from:subject:message-id:date
 :x-gm-message-state:from:to:cc:subject:date:message-id:reply-to;
 bh=0abH5SlJhSmrUti7RmuZWe9/D4l6zW1I5/Ny3iKyz1w=;
 b=CYja1PusYMvTleA/wHPxAqUze8Iu7C99OWUHSYzcqLf0AGya7Smtahg2C8EYNkf+1S
 bDXeXfdopvkmE6eMV400MGjSGgg+NlEcHJinFG/oS4BV7NEe5Kz4sGp4y3+n0xyFGO++
 SN7JGsMxLp+JtKuD47mmm3gUaFvJYtrkxoRqsc9ElfNuD13g7FR5oMqZ6Ip6eia6V6vM
 54n0GHCnSoaEAlua4ZwRu14Ne4OEAXe6FoCakTc21nJYzLy3AGVKx/I2CrodzLm48Eqo
 mFD0xw0vDF1sQqkwqP0klTU4Rn385fkwTkNHhvaYRthLwjZz5GW3tmzKODOl3phZKJ8H
 tK5A==
X-Gm-Message-State: AOJu0YxHGlGNfkY4OgagxkDqkjNGuleeWY/46+hn/5DsrPWC22vKpNtF
 M98B5aYyOO/+Prb/uv2zrk2/jnyxm4xQx0iM36eCxaYRGMgrk3fbr+hKDumYZKju3INzStm+eO6
 IWFt6ep/h7Gy8gokW7fOi4djuid8gMPvwCWFkGOwcAN/RhQjhbU0hkCok
X-Gm-Gg: ASbGnctZKbq0KXgzR3aEZ33YpiMNsSXVuQmtyDjQmyDX0LkYB3/Z/8SCzZ7jHOZ+M5B
 bqXHUkWHk49YqNxFJmAN733V+VLbLKmSP1caTPfOXLZL4fHr1yhTTbmQJUTzZCfQ+y5XMM5eWCH
 A76ReX1ATyEfIumY2x5wFjFCSud6LMSHBUgOrFQhB/Z4PK5I1shdpJ2q9WDCFR5NO/ueEuAtz6y
 dpIJke/AEJXHYfCadRW00aH49kF4mPIq4SCaIg0V8seODmVRB4ZxRNEj2P4xzaZAVPgVndi9OnH
 worX2urSvrdgzhj4N2a4WH96mVaOzlYhuV1O5Upz6A==
X-Google-Smtp-Source: AGHT+IE7/Kvz9gtHVHeo1ZJ+ZGxrgJdxA2BfnRdD5jAvNNJy3wHdBGENNP/8Bk2ChmIKnI6Qg4qA79e0vWf2
X-Received: by 2002:a05:6300:95:b0:1e0:e07f:2f01 with SMTP id
 adf61e73a8af0-1ee5c52ef7bmr5246956637.0.1739358246333; 
 Wed, 12 Feb 2025 03:04:06 -0800 (PST)
Received: from postal.iol.unh.edu (postal.iol.unh.edu.
 [2606:4100:3880:1234::84]) by smtp-relay.gmail.com with ESMTPS id
 d2e1a72fcca58-730880ec341sm432092b3a.11.2025.02.12.03.04.06
 (version=TLS1_2 cipher=ECDHE-ECDSA-AES128-GCM-SHA256 bits=128/128);
 Wed, 12 Feb 2025 03:04:06 -0800 (PST)
X-Relaying-Domain: iol.unh.edu
Date: Wed, 12 Feb 2025 03:04:06 -0800 (PST)
Message-ID: <67ac8026.050a0220.f7d8f.714dSMTPIN_ADDED_MISSING@mx.google.com>
Received: from [172.21.0.5] (unknown [172.18.0.240])
 by postal.iol.unh.edu (Postfix) with ESMTP id 75C9A6052471;
 Wed, 12 Feb 2025 06:04:05 -0500 (EST)
Subject: |SUCCESS| pw151377 [PATCH] examples/l3fwd: adjust Tx burst size base
From: dpdklab@iol.unh.edu
To: Test Report <test-report@dpdk.org>
Cc: dpdk-test-reports@iol.unh.edu
In-Reply-To: <20250212045416.2393001-1-sivaprasad.tummala@amd.com>
References: <20250212045416.2393001-1-sivaprasad.tummala@amd.com>
Content-Type: text/plain
X-BeenThere: test-report@dpdk.org
X-Mailman-Version: 2.1.29
Precedence: list
List-Id: automatic DPDK test reports <test-report.dpdk.org>
List-Unsubscribe: <https://mails.dpdk.org/options/test-report>,
 <mailto:test-report-request@dpdk.org?subject=unsubscribe>
List-Archive: <http://mails.dpdk.org/archives/test-report/>
List-Post: <mailto:test-report@dpdk.org>
List-Help: <mailto:test-report-request@dpdk.org?subject=help>
List-Subscribe: <https://mails.dpdk.org/listinfo/test-report>,
 <mailto:test-report-request@dpdk.org?subject=subscribe>
Errors-To: test-report-bounces@dpdk.org

Test-Label: iol-unit-arm64-testing
Test-Status: SUCCESS
http://dpdk.org/patch/151377

_Testing PASS_

Submitter: Sivaprasad Tummala <Sivaprasad.Tummala@amd.com>
Date: Wednesday, February 12 2025 04:54:16 
DPDK git baseline: Repo:dpdk
  Branch: master
  CommitID:046cca99c3fd03bfb95d3e27a56aab40c2c8f45a

151377 --> testing pass

Upstream job id: Generic-Unit-Test-DPDK#314354

Test environment and result as below:

+-----------------------------+----------------+--------------+---------------------------+------------------------------+
|         Environment         | dpdk_unit_test | lpm_autotest | cryptodev_sw_zuc_autotest | cryptodev_sw_snow3g_autotest |
+=============================+================+==============+===========================+==============================+
| 32-bit Ubuntu 22.04.4 (ARM) | PASS           | SKIPPED      | SKIPPED                   | SKIPPED                      |
+-----------------------------+----------------+--------------+---------------------------+------------------------------+
| CentOS Stream 9 (ARM)       | PASS           | SKIPPED      | SKIPPED                   | SKIPPED                      |
+-----------------------------+----------------+--------------+---------------------------+------------------------------+
| CentOS Stream 10 (ARM)      | PASS           | SKIPPED      | SKIPPED                   | SKIPPED                      |
+-----------------------------+----------------+--------------+---------------------------+------------------------------+
| Debian 11 (Buster) (ARM)    | PASS           | SKIPPED      | SKIPPED                   | SKIPPED                      |
+-----------------------------+----------------+--------------+---------------------------+------------------------------+
| Fedora 40 (ARM)             | PASS           | SKIPPED      | SKIPPED                   | SKIPPED                      |
+-----------------------------+----------------+--------------+---------------------------+------------------------------+
| Debian 12 (arm)             | PASS           | SKIPPED      | PASS                      | PASS                         |
+-----------------------------+----------------+--------------+---------------------------+------------------------------+
| Fedora 41 (ARM Clang)       | PASS           | SKIPPED      | SKIPPED                   | SKIPPED                      |
+-----------------------------+----------------+--------------+---------------------------+------------------------------+
| Fedora 41 (ARM)             | PASS           | SKIPPED      | SKIPPED                   | SKIPPED                      |
+-----------------------------+----------------+--------------+---------------------------+------------------------------+
| Fedora 40 (ARM Clang)       | PASS           | SKIPPED      | SKIPPED                   | SKIPPED                      |
+-----------------------------+----------------+--------------+---------------------------+------------------------------+
| Ubuntu 20.04 (ARM)          | PASS           | SKIPPED      | SKIPPED                   | SKIPPED                      |
+-----------------------------+----------------+--------------+---------------------------+------------------------------+
| RHEL9 (ARM)                 | PASS           | SKIPPED      | SKIPPED                   | SKIPPED                      |
+-----------------------------+----------------+--------------+---------------------------+------------------------------+
| Ubuntu 22.04 (ARM)          | PASS           | SKIPPED      | SKIPPED                   | SKIPPED                      |
+-----------------------------+----------------+--------------+---------------------------+------------------------------+
| Ubuntu 24.04 (ARM)          | PASS           | SKIPPED      | SKIPPED                   | SKIPPED                      |
+-----------------------------+----------------+--------------+---------------------------+------------------------------+
| Ubuntu 20.04 ARM SVE        | SKIPPED        | PASS         | SKIPPED                   | SKIPPED                      |
+-----------------------------+----------------+--------------+---------------------------+------------------------------+


32-bit Ubuntu 22.04.4 (ARM)
	Kernel: 5.15.83+ aarch64
	Compiler: gcc (Ubuntu 11.4.0-1ubuntu1~22.04) 11.4.0

CentOS Stream 9 (ARM)
	Kernel: Depends on container host
	Compiler: gcc 11.5.0 20240719 (Red Hat 11.5.0-2)

CentOS Stream 10 (ARM)
	Kernel: Depends on container host
	Compiler: gcc 14.2.1 20241104 (Red Hat 14.2.1-6)

Debian 11 (Buster) (ARM)
	Kernel: Depends on container host
	Compiler: gcc (Debian 10.2.1-6) 10.2.1 20210110

Fedora 40 (ARM)
	Kernel: Depends on container host
	Compiler: gcc 14.2.1 20240912 (Red Hat 14.2.1-3)

Debian 12 (arm)
	Kernel: Depends on container host
	Compiler: gcc (Debian 12.2.0-14) 12.2.0

Fedora 41 (ARM Clang)
	Kernel: Depends on container host
	Compiler: clang 19.1.5 (Fedora 19.1.5-1.fc41)

Fedora 41 (ARM)
	Kernel: Depends on container host
	Compiler: gcc 14.2.1 20240912 (Red Hat 14.2.1-3)

Fedora 40 (ARM Clang)
	Kernel: Depends on container host
	Compiler: clang 18.1.8 (Fedora 18.1.8-1.fc40)

Ubuntu 20.04 (ARM)
	Kernel: Depends on container host
	Compiler: gcc (Ubuntu 9.4.0-1ubuntu1~20.04.2) 9.4.0

RHEL9 (ARM)
	Kernel: Depends on container host
	Compiler: gcc 11.5.0 20240719 (Red Hat 11.5.0-2)

Ubuntu 22.04 (ARM)
	Kernel: Depends on container host
	Compiler: gcc (Ubuntu 11.4.0-1ubuntu1~22.04) 11.4.0

Ubuntu 24.04 (ARM)
	Kernel: Depends on container host
	Compiler: gcc (Ubuntu 13.3.0-6ubuntu2~24.04) 13.3.0

Ubuntu 20.04 ARM SVE
	Kernel: Depends on container host
	Compiler: gcc (Ubuntu 10.5.0-1ubuntu1~20.04) 10.5.0

To view detailed results, visit:
https://lab.dpdk.org/results/dashboard/patchsets/32565/

UNH-IOL DPDK Community Lab

To manage your email subscriptions, visit: 
https://lab.dpdk.org/results/dashboard/preferences/subscriptions/