From mboxrd@z Thu Jan 1 00:00:00 1970 Return-Path: Received: from mails.dpdk.org (mails.dpdk.org [217.70.189.124]) by inbox.dpdk.org (Postfix) with ESMTP id 6756646202 for ; Wed, 12 Feb 2025 12:39:50 +0100 (CET) Received: from mails.dpdk.org (localhost [127.0.0.1]) by mails.dpdk.org (Postfix) with ESMTP id 61548410FB; Wed, 12 Feb 2025 12:39:50 +0100 (CET) Received: from mail-qk1-f227.google.com (mail-qk1-f227.google.com [209.85.222.227]) by mails.dpdk.org (Postfix) with ESMTP id 2D125402D5 for ; Wed, 12 Feb 2025 12:39:49 +0100 (CET) Received: by mail-qk1-f227.google.com with SMTP id af79cd13be357-7c05533c26aso196123685a.0 for ; Wed, 12 Feb 2025 03:39:49 -0800 (PST) DKIM-Signature: v=1; a=rsa-sha256; c=relaxed/relaxed; d=iol.unh.edu; s=unh-iol; t=1739360388; x=1739965188; darn=dpdk.org; h=cc:to:from:subject:message-id:date:from:to:cc:subject:date :message-id:reply-to; bh=fAV1N70/Sup9VebcGXbOuLiFzFPQTYibrKG9y3+jjpc=; b=RiPIVip7ye0z6OblCimYrgK3aTIJ7RdAloZc/QdiUogrkkgItvynbJjSTMOY1HhkLC Wq35Pi9HQc+dRfEQ6TWzbuew9JYCibrV/3/GTrY08Zive3dJtnc1+bciRAq2MvkyeYnt zGeYmPWMb+aXxOY3otg95mZX9qMLrwZoLFA+g= X-Google-DKIM-Signature: v=1; a=rsa-sha256; c=relaxed/relaxed; d=1e100.net; s=20230601; t=1739360388; x=1739965188; h=cc:to:from:subject:message-id:date:x-gm-message-state:from:to:cc :subject:date:message-id:reply-to; bh=fAV1N70/Sup9VebcGXbOuLiFzFPQTYibrKG9y3+jjpc=; b=Z4PGLtUzB6MvUcscT5BXIK6O1e3FtEQxTx3XtiJunqIJGI886TpHFNZtRT2y7JCJU2 5MTrCY7rw9Iv75sr9M8V2ZpqANcGtFh+Yx4KlLRnwCqpIiLEwJaY0hw+k2izTIXmZl4d 6bbExNv96CAWnuwMWuXCmfXSDT2Gmq0h1wKE8e7pLrZ0RfXCWJdaHM0rUtnM2cOAeOdm QbBLm7Sv1ztislDwDDgg8Il0bG9kH8Ie+gc5eDU/ppJSokI+g8+/or9ULiYrYGdxHkQB sYc8SedtMrvzxPO5SH7+zQ38aBFlVX6BoC+QX3VkDtGCbYPiipRqw/EiB3vvPDCWp1T7 pc1w== X-Gm-Message-State: AOJu0YyQ7X3R9rNFBXGimA+CwGI2zpNnPjAP1bOupLKPqHgo7NXdMGEa YagOD/IMb8yLzPWxW0pu0nUPMyTZ1WG4JgO3P4rg1t35f8hodYvxih9JSkNP5lMIwmaOZtY4xVB 4bOJRs8XJ+y0NRP4M/9ZYQHEi1mbXmlVUK5mOj/5T X-Gm-Gg: ASbGncspMpm6y8SPGqRsBTuSss2nwhNiMSX/qsZNxf30G8vQtY0IqvoBdVI8HyxCcrN dlee+CmIkJkkUEsFri0Np2Z17Rht4L9SJlQgtPGaPfDngzZS036u27XThHBXOSWEZoy7C/Nou4b SU6fXB/Txcx3RFvIWmzM4xPfqqDmioPyZFe+gV/fafTKjHQqZhcKjXf0Z+4kNFAoA84s4xWHZ68 NmFpXhfkW2Z31OakEJQb+azfn1fXYaAmTFEliLpkkuwGxjcmJAqc/JJaFWT9jkilTxbqth01Juw o4So5P3OIZEOQehMZQttp62SKMNONA== X-Google-Smtp-Source: AGHT+IEOuk39hHzeISYrupEwj4Oxd1wovHvl/mGO4Nv1ACajuMuV6uNOwx1WuhvRgrtATHI9ePaxOXAZj4VH X-Received: by 2002:a05:620a:28d3:b0:7c0:6c5b:d6ec with SMTP id af79cd13be357-7c06fccef1bmr442669185a.43.1739360388546; Wed, 12 Feb 2025 03:39:48 -0800 (PST) Received: from postal.iol.unh.edu (postal.iol.unh.edu. [132.177.123.84]) by smtp-relay.gmail.com with ESMTPS id 6a1803df08f44-6e45ccf58a0sm4949766d6.62.2025.02.12.03.39.48 (version=TLS1_2 cipher=ECDHE-ECDSA-AES128-GCM-SHA256 bits=128/128); Wed, 12 Feb 2025 03:39:48 -0800 (PST) X-Relaying-Domain: iol.unh.edu Date: Wed, 12 Feb 2025 03:39:48 -0800 (PST) Message-ID: <67ac8884.d40a0220.143cfd.add2SMTPIN_ADDED_MISSING@mx.google.com> Received: from [172.17.0.6] (unknown [172.18.0.217]) by postal.iol.unh.edu (Postfix) with ESMTP id 471166052471; Wed, 12 Feb 2025 06:39:48 -0500 (EST) Subject: |SUCCESS| [GIT MASTER] 88e17c88943145bb956b5bf6059a8043dbd33a99 From: dpdklab@iol.unh.edu To: Test Report Cc: dpdk-test-reports@iol.unh.edu, Stephen Hemminger Content-Type: text/plain X-BeenThere: test-report@dpdk.org X-Mailman-Version: 2.1.29 Precedence: list List-Id: automatic DPDK test reports List-Unsubscribe: , List-Archive: List-Post: List-Help: List-Subscribe: , Errors-To: test-report-bounces@dpdk.org _Testing PASS_ Branch: dpdk-next-net 88e17c88943145bb956b5bf6059a8043dbd33a99 --> testing pass Upstream job id: Generic-Unit-Test-DPDK#314381 Test environment and result as below: +---------------------+----------------+ | Environment | dpdk_unit_test | +=====================+================+ | Debian Bullseye | PASS | +---------------------+----------------+ | CentOS Stream 9 | PASS | +---------------------+----------------+ | CentOS Stream 10 | PASS | +---------------------+----------------+ | Fedora 40 | PASS | +---------------------+----------------+ | Fedora 40 (Clang) | PASS | +---------------------+----------------+ | Debian 12 | PASS | +---------------------+----------------+ | Fedora 41 | PASS | +---------------------+----------------+ | Fedora 41 (Clang) | PASS | +---------------------+----------------+ | RHEL8 | PASS | +---------------------+----------------+ | Ubuntu 20.04 | PASS | +---------------------+----------------+ | RHEL9 | PASS | +---------------------+----------------+ | Ubuntu 22.04 | PASS | +---------------------+----------------+ | Ubuntu 24.04 | PASS | +---------------------+----------------+ | Windows Server 2022 | PASS | +---------------------+----------------+ Debian Bullseye Kernel: Depends on container host Compiler: gcc (Debian 10.2.1-6) 10.2.1 20210110 CentOS Stream 9 Kernel: Depends on container host Compiler: gcc 11.5.0 20240719 (Red Hat 11.5.0-2) CentOS Stream 10 Kernel: Depends on container host Compiler: gcc 14.2.1 20241104 (Red Hat 14.2.1-6) Fedora 40 Kernel: Depends on container host Compiler: gcc 14.2.1 20240912 (Red Hat 14.2.1-3) Fedora 40 (Clang) Kernel: Depends on container host Compiler: clang 18.1.8 (Fedora 18.1.8-1.fc40) Debian 12 Kernel: Depends on container host Compiler: gcc (Debian 12.2.0-14) 12.2.0 Fedora 41 Kernel: Depends on container host Compiler: gcc 14.2.1 20240912 (Red Hat 14.2.1-3) Fedora 41 (Clang) Kernel: Depends on container host Compiler: clang 19.1.5 (Fedora 19.1.5-1.fc41) RHEL8 Kernel: Depends on container host Compiler: gcc 8.5.0 20210514 (Red Hat 8.5.0-22) Ubuntu 20.04 Kernel: Depends on container host Compiler: gcc (Ubuntu 9.4.0-1ubuntu1~20.04.2) 9.4.0 RHEL9 Kernel: Depends on container host Compiler: gcc 11.5.0 20240719 (Red Hat 11.5.0-2) Ubuntu 22.04 Kernel: Depends on container host Compiler: gcc (Ubuntu 11.4.0-1ubuntu1~22.04) 11.4.0 Ubuntu 24.04 Kernel: Depends on container host Compiler: gcc (Ubuntu 13.3.0-6ubuntu2~24.04) 13.3.0 Windows Server 2022 Kernel: 10.0.20348.2031 Compiler: clang 15.0.7, gcc 14.1.0 (MinGW), and MSVC VS 19.39.33521 To view detailed results, visit: https://lab.dpdk.org/results/dashboard/tarballs/32553/ UNH-IOL DPDK Community Lab To manage your email subscriptions, visit: https://lab.dpdk.org/results/dashboard/preferences/subscriptions/