From mboxrd@z Thu Jan 1 00:00:00 1970 Return-Path: Received: from mails.dpdk.org (mails.dpdk.org [217.70.189.124]) by inbox.dpdk.org (Postfix) with ESMTP id 5AE1246202 for ; Wed, 12 Feb 2025 12:49:17 +0100 (CET) Received: from mails.dpdk.org (localhost [127.0.0.1]) by mails.dpdk.org (Postfix) with ESMTP id 34903410FB; Wed, 12 Feb 2025 12:49:17 +0100 (CET) Received: from mail-pj1-f97.google.com (mail-pj1-f97.google.com [209.85.216.97]) by mails.dpdk.org (Postfix) with ESMTP id D9DE6402D5 for ; Wed, 12 Feb 2025 12:49:15 +0100 (CET) Received: by mail-pj1-f97.google.com with SMTP id 98e67ed59e1d1-2ee9a780de4so10145247a91.3 for ; Wed, 12 Feb 2025 03:49:15 -0800 (PST) DKIM-Signature: v=1; a=rsa-sha256; c=relaxed/relaxed; d=iol.unh.edu; s=unh-iol; t=1739360955; x=1739965755; darn=dpdk.org; h=cc:to:from:subject:message-id:date:from:to:cc:subject:date :message-id:reply-to; bh=GB36jGKVCwg2Gk2/LMnxj0EgeuQ7Rn+sf6dyqKvAj+E=; b=BxMIIsNXePgiZw0XGQOkWUDKKx3GJ/oWyV6bk8GiNuFuUu/Nmfkm7z2wcsU5UtAiWL 91Z9RBvGZWkFcLxywMcRmNlOCgoUzuQoWXeg7yZO+sCF1YEnXlJ3eY6u+xACfF+hrXno twqxZ1Q4OqcHd9WDYSZiySM6WtGA4eXQQq0ek= X-Google-DKIM-Signature: v=1; a=rsa-sha256; c=relaxed/relaxed; d=1e100.net; s=20230601; t=1739360955; x=1739965755; h=cc:to:from:subject:message-id:date:x-gm-message-state:from:to:cc :subject:date:message-id:reply-to; bh=GB36jGKVCwg2Gk2/LMnxj0EgeuQ7Rn+sf6dyqKvAj+E=; b=bmm1bgZVooNQJrYg2BY68RhUrdONzZzjYki7j3+Ps7jt0k70W7D2iPv9gERNQ8XfT+ XBDsXxQmNCiZHPxSUBkCc2MpbrSj8TViF1+zSNTBXIWiUagYb78+lMVfkMwy/YMpBqWZ tMoEylwEfhfw7kwCJof7RexbUqc9gHi6RXqxKJ6XctQq4yIFlNTgIL0pbDl2HOB0BcGD cuw4xTOSchPh6Inye5aa2KFDceKEZDHQaCvC+8pPeYbSx1veKukefmsGPFFrCjRW0DPM KCu8vPi/XLLaMYeR5ZRujFM6nGpC64jcxOc5LWVGJTlp6SfufuhsFz953tQW20KVRfZp Lh2A== X-Gm-Message-State: AOJu0YzBCAt88AWNd4Gwp9JYCeJXLz1HTPY6XlGfVDRcbUsP1oxlj/Zf rgjjGYCl6rFYkTyZT66TicfA3ANwFzZg0vATApPeWy5Fbs+kB6fxJd8UZN79vbX35uGnuEx5W3s /q8SBbjVtYgrUGSR8CxJ6YVXIVat10uos53OyDjXuHye6zM6wKsfPwBor X-Gm-Gg: ASbGnctBDsS1x6qf2n5CGoYIyuRuNfxTweb3AB4JsFUBTNwWeXPhj1Db5/27h7gLnHO s3fwY7GfvAWCsCsu3PWpY/KVdaU9XgU5pjj5uNgcDZCvvVQ2Zzn6OBNoU/eTdNQpthjA08zvuzU E19t1R1zyUp2EHTJY1VtgIvhYA0umy5+7Wvynltc+buRfIInBTAPmDXS+oHGCabRV5zYnNXomWB 0ITdfyJ4yjwj4YdVUHJwr8StdI1k4PHmDbj8OXIaUlNu1de1BhZwzwM3qORJ8VkwAv5HiKv7R6z HlmyTWDF5sdkZgQ2w3mM0diG0KA1cBnhrf7gzsu/+A== X-Google-Smtp-Source: AGHT+IGn7IzSd3C8YOP2xqvtCqCXlbJUvrK44OLzf+9CdqHKAln8kNr6fsi6vpwCP4jF4Doy9JykN5RclpAi X-Received: by 2002:a17:90b:2d44:b0:2ef:114d:7bf8 with SMTP id 98e67ed59e1d1-2fbf5baed84mr3784620a91.6.1739360954959; Wed, 12 Feb 2025 03:49:14 -0800 (PST) Received: from postal.iol.unh.edu (postal.iol.unh.edu. [2606:4100:3880:1234::84]) by smtp-relay.gmail.com with ESMTPS id 98e67ed59e1d1-2fbf98d473bsm84817a91.9.2025.02.12.03.49.14 (version=TLS1_2 cipher=ECDHE-ECDSA-AES128-GCM-SHA256 bits=128/128); Wed, 12 Feb 2025 03:49:14 -0800 (PST) X-Relaying-Domain: iol.unh.edu Date: Wed, 12 Feb 2025 03:49:14 -0800 (PST) Message-ID: <67ac8aba.170a0220.1b250d.4ceaSMTPIN_ADDED_MISSING@mx.google.com> Received: from [172.17.0.6] (unknown [172.18.0.217]) by postal.iol.unh.edu (Postfix) with ESMTP id 55FB36052471; Wed, 12 Feb 2025 06:49:14 -0500 (EST) Subject: |SUCCESS| [GIT MASTER] 88e17c88943145bb956b5bf6059a8043dbd33a99 From: dpdklab@iol.unh.edu To: Test Report Cc: dpdk-test-reports@iol.unh.edu, Stephen Hemminger Content-Type: text/plain X-BeenThere: test-report@dpdk.org X-Mailman-Version: 2.1.29 Precedence: list List-Id: automatic DPDK test reports List-Unsubscribe: , List-Archive: List-Post: List-Help: List-Subscribe: , Errors-To: test-report-bounces@dpdk.org _Testing PASS_ Branch: dpdk-next-net 88e17c88943145bb956b5bf6059a8043dbd33a99 --> testing pass Upstream job id: Generic-Unit-Test-DPDK#314382 Test environment and result as below: +-----------------------------+----------------+---------------------------+------------------------------+--------------+ | Environment | dpdk_unit_test | cryptodev_sw_zuc_autotest | cryptodev_sw_snow3g_autotest | lpm_autotest | +=============================+================+===========================+==============================+==============+ | 32-bit Ubuntu 22.04.4 (ARM) | PASS | SKIPPED | SKIPPED | SKIPPED | +-----------------------------+----------------+---------------------------+------------------------------+--------------+ | CentOS Stream 9 (ARM) | PASS | SKIPPED | SKIPPED | SKIPPED | +-----------------------------+----------------+---------------------------+------------------------------+--------------+ | CentOS Stream 10 (ARM) | PASS | SKIPPED | SKIPPED | SKIPPED | +-----------------------------+----------------+---------------------------+------------------------------+--------------+ | Debian 12 (arm) | PASS | PASS | PASS | SKIPPED | +-----------------------------+----------------+---------------------------+------------------------------+--------------+ | Debian 11 (Buster) (ARM) | PASS | SKIPPED | SKIPPED | SKIPPED | +-----------------------------+----------------+---------------------------+------------------------------+--------------+ | Fedora 41 (ARM) | PASS | SKIPPED | SKIPPED | SKIPPED | +-----------------------------+----------------+---------------------------+------------------------------+--------------+ | Fedora 40 (ARM Clang) | PASS | SKIPPED | SKIPPED | SKIPPED | +-----------------------------+----------------+---------------------------+------------------------------+--------------+ | Fedora 40 (ARM) | PASS | SKIPPED | SKIPPED | SKIPPED | +-----------------------------+----------------+---------------------------+------------------------------+--------------+ | RHEL9 (ARM) | PASS | SKIPPED | SKIPPED | SKIPPED | +-----------------------------+----------------+---------------------------+------------------------------+--------------+ | Fedora 41 (ARM Clang) | PASS | SKIPPED | SKIPPED | SKIPPED | +-----------------------------+----------------+---------------------------+------------------------------+--------------+ | Ubuntu 22.04 (ARM) | PASS | SKIPPED | SKIPPED | SKIPPED | +-----------------------------+----------------+---------------------------+------------------------------+--------------+ | Ubuntu 20.04 (ARM) | PASS | SKIPPED | SKIPPED | SKIPPED | +-----------------------------+----------------+---------------------------+------------------------------+--------------+ | Ubuntu 24.04 (ARM) | PASS | SKIPPED | SKIPPED | SKIPPED | +-----------------------------+----------------+---------------------------+------------------------------+--------------+ | Ubuntu 20.04 ARM SVE | SKIPPED | SKIPPED | SKIPPED | PASS | +-----------------------------+----------------+---------------------------+------------------------------+--------------+ 32-bit Ubuntu 22.04.4 (ARM) Kernel: 5.15.83+ aarch64 Compiler: gcc (Ubuntu 11.4.0-1ubuntu1~22.04) 11.4.0 CentOS Stream 9 (ARM) Kernel: Depends on container host Compiler: gcc 11.5.0 20240719 (Red Hat 11.5.0-2) CentOS Stream 10 (ARM) Kernel: Depends on container host Compiler: gcc 14.2.1 20241104 (Red Hat 14.2.1-6) Debian 12 (arm) Kernel: Depends on container host Compiler: gcc (Debian 12.2.0-14) 12.2.0 Debian 11 (Buster) (ARM) Kernel: Depends on container host Compiler: gcc (Debian 10.2.1-6) 10.2.1 20210110 Fedora 41 (ARM) Kernel: Depends on container host Compiler: gcc 14.2.1 20240912 (Red Hat 14.2.1-3) Fedora 40 (ARM Clang) Kernel: Depends on container host Compiler: clang 18.1.8 (Fedora 18.1.8-1.fc40) Fedora 40 (ARM) Kernel: Depends on container host Compiler: gcc 14.2.1 20240912 (Red Hat 14.2.1-3) RHEL9 (ARM) Kernel: Depends on container host Compiler: gcc 11.5.0 20240719 (Red Hat 11.5.0-2) Fedora 41 (ARM Clang) Kernel: Depends on container host Compiler: clang 19.1.5 (Fedora 19.1.5-1.fc41) Ubuntu 22.04 (ARM) Kernel: Depends on container host Compiler: gcc (Ubuntu 11.4.0-1ubuntu1~22.04) 11.4.0 Ubuntu 20.04 (ARM) Kernel: Depends on container host Compiler: gcc (Ubuntu 9.4.0-1ubuntu1~20.04.2) 9.4.0 Ubuntu 24.04 (ARM) Kernel: Depends on container host Compiler: gcc (Ubuntu 13.3.0-6ubuntu2~24.04) 13.3.0 Ubuntu 20.04 ARM SVE Kernel: Depends on container host Compiler: gcc (Ubuntu 10.5.0-1ubuntu1~20.04) 10.5.0 To view detailed results, visit: https://lab.dpdk.org/results/dashboard/tarballs/32553/ UNH-IOL DPDK Community Lab To manage your email subscriptions, visit: https://lab.dpdk.org/results/dashboard/preferences/subscriptions/