From mboxrd@z Thu Jan 1 00:00:00 1970 Return-Path: Received: from mails.dpdk.org (mails.dpdk.org [217.70.189.124]) by inbox.dpdk.org (Postfix) with ESMTP id 8679E46202 for ; Wed, 12 Feb 2025 12:50:31 +0100 (CET) Received: from mails.dpdk.org (localhost [127.0.0.1]) by mails.dpdk.org (Postfix) with ESMTP id 6A05E410FB; Wed, 12 Feb 2025 12:50:31 +0100 (CET) Received: from mail-qt1-f228.google.com (mail-qt1-f228.google.com [209.85.160.228]) by mails.dpdk.org (Postfix) with ESMTP id 62468402D5 for ; Wed, 12 Feb 2025 12:50:30 +0100 (CET) Received: by mail-qt1-f228.google.com with SMTP id d75a77b69052e-47182317174so42555031cf.2 for ; Wed, 12 Feb 2025 03:50:30 -0800 (PST) DKIM-Signature: v=1; a=rsa-sha256; c=relaxed/relaxed; d=iol.unh.edu; s=unh-iol; t=1739361029; x=1739965829; darn=dpdk.org; h=cc:to:from:subject:message-id:date:from:to:cc:subject:date :message-id:reply-to; bh=1DcTWlxt0RuXgPtFpTHmN+ebJs0kdDfN6uyjewV83k0=; b=BnFlhGrrqFI1Sbm990qtjbOqQUxojIdSZRnOsfME9Gr55n53U7pZrAZ47260aMMBXy BdcF/WXrKIJ7+vSf5CkzjfxGKpySXHWcbyiXVVikkpYP8a1yVp2SSgNLDHkKEXlX69ED 75VUdhl75oHIj0pmMJQE65tlFZ5nCeCsESIao= X-Google-DKIM-Signature: v=1; a=rsa-sha256; c=relaxed/relaxed; d=1e100.net; s=20230601; t=1739361029; x=1739965829; h=cc:to:from:subject:message-id:date:x-gm-message-state:from:to:cc :subject:date:message-id:reply-to; bh=1DcTWlxt0RuXgPtFpTHmN+ebJs0kdDfN6uyjewV83k0=; b=mnyeq33pWO71nG/WnDW+6lEVNC/wItKvRpcLWRYIRAKyt+T+viS4yxwNApTrS4UZlW WXLWHuyHQBZr47x8CZ4GdmczwE+hoTYso6Mq3AgsGFx3ThS1cvkHb+U8m2yxtTPQhs6f zeMRS7ugOMhpkBfJMlDxCcecjlAVMSVc6oJQeEKbc7LXjfwBdMIkhXgRITbuBjIPhbdx lnZW7eNuvAf9WR+yE7fZu07GJ8p2LTiKwphNFxtqndcDjhEUx3O2dLwj0qM3LLGCPINp u0CB2Xz+7LemZhasBH2Ny8mzrDCSVp91wPiXhoAYTlIEBeJaUjyZz+WAq7FS4thdIdLP n7nQ== X-Gm-Message-State: AOJu0YyzPFJXyGs5Ys7f1tmgqHB0z5XUZ+Rf6tuIFhucaZs5urEZTNEf uF9jKbb/eVssbf5SLbgCXusqVDaDrDgeKG9Ew4np8/FAZ2l+UfSnYgCUHwtuN1dmtJFnulBuoDS VgvycGTUWHnCFTCddBs0IKmsKF0+YateLirb4J3lF6cd5icCW X-Gm-Gg: ASbGncu3wOXPQritNy0zJRTpNDLlS5gfuX6iK3FpVknDt4xwnOurIEb8K5KuZUWn8Hg MEHAgXSAjPEqgnntneWs62aLJ3H+6MaHQjLTvm1ELO1zQI3Z2qPXGC2d837ppNw5dzKKI9TR2re 9QeuLsGsgTiKZAI0vGpt5H0vPYl1xYDhgOioQKlq1IdhDoS21d7eZXCpv8LQLjpqJrjJXFeBqrC JSDshK4ReKuu/z8nc6xhrNmaPu4Z3kphRoNkeUnzFkGF+qeD4GWnmtkdNYpXXnkzv5g06yULGyu smq9XPbNcGwwgTEvw4Y9u1p9B6DXniIm34DrcuMwwQ== X-Google-Smtp-Source: AGHT+IEJzvb3Ve08tlXoWklLLCfHuP9x0W24cUMc6PXqTqrIOrI1z5leq2gEMMTjotg0dAGOHAOJLs6SBWRe X-Received: by 2002:ad4:5bce:0:b0:6d8:9065:2033 with SMTP id 6a1803df08f44-6e46edaba34mr55851206d6.31.1739361029671; Wed, 12 Feb 2025 03:50:29 -0800 (PST) Received: from postal.iol.unh.edu (postal.iol.unh.edu. [2606:4100:3880:1234::84]) by smtp-relay.gmail.com with ESMTPS id 6a1803df08f44-6e44fb13bbbsm6028246d6.7.2025.02.12.03.50.29 (version=TLS1_2 cipher=ECDHE-ECDSA-AES128-GCM-SHA256 bits=128/128); Wed, 12 Feb 2025 03:50:29 -0800 (PST) X-Relaying-Domain: iol.unh.edu Date: Wed, 12 Feb 2025 03:50:29 -0800 (PST) Message-ID: <67ac8b05.050a0220.c748c.ef8eSMTPIN_ADDED_MISSING@mx.google.com> Received: from [172.17.0.6] (unknown [172.18.0.217]) by postal.iol.unh.edu (Postfix) with ESMTP id 5A79A6052471; Wed, 12 Feb 2025 06:50:29 -0500 (EST) Subject: |SUCCESS| [GIT MASTER] f2eea2f37a82bb73fb01d56350708f7d70e21379 From: dpdklab@iol.unh.edu To: Test Report Cc: dpdk-test-reports@iol.unh.edu, Xueming Li , Christian Ehrhardt , Kevin Traynor , Luca Boccassi Content-Type: text/plain X-BeenThere: test-report@dpdk.org X-Mailman-Version: 2.1.29 Precedence: list List-Id: automatic DPDK test reports List-Unsubscribe: , List-Archive: List-Post: List-Help: List-Subscribe: , Errors-To: test-report-bounces@dpdk.org _Testing PASS_ Branch: tags/v24.11 f2eea2f37a82bb73fb01d56350708f7d70e21379 --> testing pass Upstream job id: Generic-DPDK-Compile-Meson#360914 Test environment and result as below: +------------------------------------+--------------------+ | Environment | dpdk_meson_compile | +====================================+====================+ | RHEL9 (ARM) | PASS | +------------------------------------+--------------------+ | Ubuntu 20.04 ARM GCC Cross Compile | PASS | +------------------------------------+--------------------+ | Ubuntu 20.04 ARM SVE | PASS | +------------------------------------+--------------------+ | Fedora 40 (ARM Clang) | PASS | +------------------------------------+--------------------+ | Debian 12 with MUSDK | PASS | +------------------------------------+--------------------+ | Fedora 40 (ARM) | PASS | +------------------------------------+--------------------+ | Ubuntu 24.04 (ARM) | PASS | +------------------------------------+--------------------+ | Ubuntu 22.04 (ARM) | PASS | +------------------------------------+--------------------+ | Fedora 41 (ARM) | PASS | +------------------------------------+--------------------+ | Fedora 41 (ARM Clang) | PASS | +------------------------------------+--------------------+ | CentOS Stream 10 (ARM) | PASS | +------------------------------------+--------------------+ | Ubuntu 20.04 (ARM) | PASS | +------------------------------------+--------------------+ | CentOS Stream 9 (ARM) | PASS | +------------------------------------+--------------------+ | Debian 11 (Buster) (ARM) | PASS | +------------------------------------+--------------------+ | Debian 12 (arm) | PASS | +------------------------------------+--------------------+ RHEL9 (ARM) Kernel: Depends on container host Compiler: gcc 11.5.0 20240719 (Red Hat 11.5.0-2) Ubuntu 20.04 ARM GCC Cross Compile Kernel: Depends on container host Compiler: aarch64-linux-gnu-gcc (Ubuntu 9.4.0-1ubuntu1~20.04.2) 9.4.0 Ubuntu 20.04 ARM SVE Kernel: Depends on container host Compiler: gcc (Ubuntu 10.5.0-1ubuntu1~20.04) 10.5.0 Fedora 40 (ARM Clang) Kernel: Depends on container host Compiler: clang 18.1.8 (Fedora 18.1.8-1.fc40) Debian 12 with MUSDK Kernel: Depends on container host Compiler: gcc (Debian 12.2.0-14) 12.2.0 Fedora 40 (ARM) Kernel: Depends on container host Compiler: gcc 14.2.1 20240912 (Red Hat 14.2.1-3) Ubuntu 24.04 (ARM) Kernel: Depends on container host Compiler: gcc (Ubuntu 13.3.0-6ubuntu2~24.04) 13.3.0 Ubuntu 22.04 (ARM) Kernel: Depends on container host Compiler: gcc (Ubuntu 11.4.0-1ubuntu1~22.04) 11.4.0 Fedora 41 (ARM) Kernel: Depends on container host Compiler: gcc 14.2.1 20240912 (Red Hat 14.2.1-3) Fedora 41 (ARM Clang) Kernel: Depends on container host Compiler: clang 19.1.5 (Fedora 19.1.5-1.fc41) CentOS Stream 10 (ARM) Kernel: Depends on container host Compiler: gcc 14.2.1 20241104 (Red Hat 14.2.1-6) Ubuntu 20.04 (ARM) Kernel: Depends on container host Compiler: gcc (Ubuntu 9.4.0-1ubuntu1~20.04.2) 9.4.0 CentOS Stream 9 (ARM) Kernel: Depends on container host Compiler: gcc 11.5.0 20240719 (Red Hat 11.5.0-2) Debian 11 (Buster) (ARM) Kernel: Depends on container host Compiler: gcc (Debian 10.2.1-6) 10.2.1 20210110 Debian 12 (arm) Kernel: Depends on container host Compiler: gcc (Debian 12.2.0-14) 12.2.0 To view detailed results, visit: https://lab.dpdk.org/results/dashboard/tarballs/32549/ UNH-IOL DPDK Community Lab To manage your email subscriptions, visit: https://lab.dpdk.org/results/dashboard/preferences/subscriptions/