From mboxrd@z Thu Jan 1 00:00:00 1970 Return-Path: Received: from mails.dpdk.org (mails.dpdk.org [217.70.189.124]) by inbox.dpdk.org (Postfix) with ESMTP id 9CA2346202 for ; Wed, 12 Feb 2025 13:01:01 +0100 (CET) Received: from mails.dpdk.org (localhost [127.0.0.1]) by mails.dpdk.org (Postfix) with ESMTP id 7799B410FB; Wed, 12 Feb 2025 13:01:01 +0100 (CET) Received: from mail-io1-f98.google.com (mail-io1-f98.google.com [209.85.166.98]) by mails.dpdk.org (Postfix) with ESMTP id 0AE22402D5 for ; Wed, 12 Feb 2025 13:01:00 +0100 (CET) Received: by mail-io1-f98.google.com with SMTP id ca18e2360f4ac-85537bfe05aso78966239f.1 for ; Wed, 12 Feb 2025 04:00:59 -0800 (PST) DKIM-Signature: v=1; a=rsa-sha256; c=relaxed/relaxed; d=iol.unh.edu; s=unh-iol; t=1739361659; x=1739966459; darn=dpdk.org; h=cc:to:from:subject:message-id:date:from:to:cc:subject:date :message-id:reply-to; bh=7bfYiBv7eRbrKXujS+G3eHoFAe2UqBqP17T7dHBiZis=; b=fp5UVaWtjyVSgLvefrkTXDRnvkggmGiGnz2N/zkqrZcRgXPbCaeGmRi8y7U+DDYqnR mEl/Qd6Mzuh1DnUb/UTPi9tj4lqogJ97uL1/G3B4V0r09P42UP5fCCjVyiRCeGDge6VE pnvkPSgn1RHPBpH3xdFOW8BzbMZkjg+Pl/SNE= X-Google-DKIM-Signature: v=1; a=rsa-sha256; c=relaxed/relaxed; d=1e100.net; s=20230601; t=1739361659; x=1739966459; h=cc:to:from:subject:message-id:date:x-gm-message-state:from:to:cc :subject:date:message-id:reply-to; bh=7bfYiBv7eRbrKXujS+G3eHoFAe2UqBqP17T7dHBiZis=; b=EV+ekB7EjK7ev5Su/HW48R4YQjAKpZRXRZZTKNOR7wsPMLKUqZrk5V4aQMGD4Ds+om RpLcPrzsuLRk7M04IgPgJdS69oM4LgeJjkRlLQmZwfTxktU8XkfbUlGiyg3VIJ07R8bX RD9q+BBcKI8aZQHIiD2hZbHyXfU5uRGurTN+Uqn3ZFZ4LG3EYj4mkm7iFYzNaXY+xe7u c37SZLqmu/NFzMfHSFiRu7lQXCSGb8lZSrCTrd77KOvrlvyYKUpgJ5EgD3pt31qFh1yD nkisJ3obP+NMCDxnhQfTk9hm0p9Get49+okXY+JogyGdS5KiSL3KWZ14cMB3yPLGEkr4 JvTA== X-Gm-Message-State: AOJu0Yx4ia79JlfrHoPZL0JgdMiBTjl57QPsm7zgNju9Ule5OS+yF3WD yKAygr8bPUZb+gsB/RHOkL3V4zLReITabxqcWKUW4yAJBTYxU4J8ZZbL6S3gYVWPR370ydKYdYp zcmJjQiUU0KBm+T3U4hKR9HIL29I5v1UMDvlSsAi1wvbdEWED X-Gm-Gg: ASbGnctfs4j3zLQ/uaru7o0vJM4OlkgnzcrTrP+AN1fzWLMqYLOZBqWmX6gHiGGKpAg vcfLJIaOYmLDtPQi5QYP3NYfEMAib3kjwEV3/qFxPXryw1dI/Dtj2jGRsHcaDsy6kAaKB00E+v2 Mx8pSWnN8r/j+nrB8WlJdHLbHBZ6lqIou7gHgOgVMVgfnYmGbPlwCwGvSCdBKOeBQc4vtRAVi2c zyxs+st4Dhbn1se7tV3X5OKA32uS5EbzF9zfP98FbuNq42NHAvQur4XybYmLO9OGw8FHUm7Fz4f K6EhbXjlg5ctW6O26gxCKI1CEVMPkXmR/CODPpgBgQ== X-Google-Smtp-Source: AGHT+IEq4ywaAjnRmo9MCWj3vOk/JNQ0P2aEi/TiGccKU7+XTUno64McPtFyTyNGL5e4YhFvabXdz4yWEicr X-Received: by 2002:a05:6602:3fcc:b0:843:e908:db0b with SMTP id ca18e2360f4ac-85555df6c10mr212584439f.10.1739361659117; Wed, 12 Feb 2025 04:00:59 -0800 (PST) Received: from postal.iol.unh.edu (postal.iol.unh.edu. [2606:4100:3880:1234::84]) by smtp-relay.gmail.com with ESMTPS id 8926c6da1cb9f-4ed091433b9sm228653173.36.2025.02.12.04.00.59 (version=TLS1_2 cipher=ECDHE-ECDSA-AES128-GCM-SHA256 bits=128/128); Wed, 12 Feb 2025 04:00:59 -0800 (PST) X-Relaying-Domain: iol.unh.edu Date: Wed, 12 Feb 2025 04:00:59 -0800 (PST) Message-ID: <67ac8d7b.050a0220.121c0b.c40aSMTPIN_ADDED_MISSING@mx.google.com> Received: from [172.17.0.5] (unknown [172.18.0.217]) by postal.iol.unh.edu (Postfix) with ESMTP id 8A7776052471; Wed, 12 Feb 2025 07:00:58 -0500 (EST) Subject: |SUCCESS| [GIT MASTER] 7ce7d3341d7e21c2a81f2fea8e451681d7306d77 From: dpdklab@iol.unh.edu To: Test Report Cc: dpdk-test-reports@iol.unh.edu, Xueming Li , Christian Ehrhardt , Kevin Traynor , Luca Boccassi Content-Type: text/plain X-BeenThere: test-report@dpdk.org X-Mailman-Version: 2.1.29 Precedence: list List-Id: automatic DPDK test reports List-Unsubscribe: , List-Archive: List-Post: List-Help: List-Subscribe: , Errors-To: test-report-bounces@dpdk.org _Testing PASS_ Branch: tags/v22.11 7ce7d3341d7e21c2a81f2fea8e451681d7306d77 --> testing pass Upstream job id: ACVP-FIPS-testing#8886 Test environment and result as below: +--------------------+----------------------+----------------------+ | Environment | compressdev_zlib_pmd | dpdk_fips_validation | +====================+======================+======================+ | Ubuntu 22.04 (ARM) | PASS | SKIPPED | +--------------------+----------------------+----------------------+ | Ubuntu 22.04 | PASS | SKIPPED | +--------------------+----------------------+----------------------+ | Ubuntu 20.04 | SKIPPED | PASS | +--------------------+----------------------+----------------------+ Ubuntu 22.04 (ARM) Kernel: 5.15.0-97-generic Compiler: gcc gcc (Ubuntu 11.4.0-1ubuntu1~22.04) 11.4.0 Ubuntu 22.04 Kernel: 5.15.0-100-generic Compiler: gcc gcc (Ubuntu 11.4.0-1ubuntu1~22.04) 11.4.0 Ubuntu 20.04 Kernel: Depends on container host Compiler: gcc (Ubuntu 9.4.0-1ubuntu1~20.04.2) 9.4.0 To view detailed results, visit: https://lab.dpdk.org/results/dashboard/tarballs/32551/ UNH-IOL DPDK Community Lab To manage your email subscriptions, visit: https://lab.dpdk.org/results/dashboard/preferences/subscriptions/