From mboxrd@z Thu Jan 1 00:00:00 1970 Return-Path: Received: from mails.dpdk.org (mails.dpdk.org [217.70.189.124]) by inbox.dpdk.org (Postfix) with ESMTP id AC59D46202 for ; Wed, 12 Feb 2025 13:02:06 +0100 (CET) Received: from mails.dpdk.org (localhost [127.0.0.1]) by mails.dpdk.org (Postfix) with ESMTP id A2DB6410FB; Wed, 12 Feb 2025 13:02:06 +0100 (CET) Received: from mail-yw1-f226.google.com (mail-yw1-f226.google.com [209.85.128.226]) by mails.dpdk.org (Postfix) with ESMTP id 4AF32402D5 for ; Wed, 12 Feb 2025 13:02:05 +0100 (CET) Received: by mail-yw1-f226.google.com with SMTP id 00721157ae682-6f9cc6fefa8so30161617b3.3 for ; Wed, 12 Feb 2025 04:02:05 -0800 (PST) DKIM-Signature: v=1; a=rsa-sha256; c=relaxed/relaxed; d=iol.unh.edu; s=unh-iol; t=1739361724; x=1739966524; darn=dpdk.org; h=cc:to:from:subject:message-id:date:from:to:cc:subject:date :message-id:reply-to; bh=pD33YgnpZkrzLBn6rhVStz0QWfIbBPzxkiADzhDw4jU=; b=R1rvpwt+PPsM5skvBAKGBDtVdEAT+QzIv1dltERxppZ19dSsMEaYPSAQHL4/p+L+6H ZTEiq/5XxZV71DE6vgiFCg1dSzYaW8+vfUaKyC+H6Gf9g1FZVTCH+XdTxQTxkjUSj+mV COfaV86FoKASX/i5BdE54HYGW55ApJ20e3VVQ= X-Google-DKIM-Signature: v=1; a=rsa-sha256; c=relaxed/relaxed; d=1e100.net; s=20230601; t=1739361724; x=1739966524; h=cc:to:from:subject:message-id:date:x-gm-message-state:from:to:cc :subject:date:message-id:reply-to; bh=pD33YgnpZkrzLBn6rhVStz0QWfIbBPzxkiADzhDw4jU=; b=eWd8S2q4LcdfW2LUpTdlotuN/OkGl8xnnUAeTI/v6J9pSKiyXwGOJbvhdh5WN2lg8s 09f+Fva6LlEQmE7gHTm1mj4tXEc+ZnPd94LhOt+xI3ErAIcwNwq3mdE/NC/90QguoKLy V3Y1DYo6V/kYM5DjH09rJdhLtz4V1KgAzAaDAXyIO2E3cwlFSz8H8tLf2h0vxl8IUx1+ 8vcn55SIDmuI15Zbgd7uJKH0BiFHRlZMiWbz4VMzhNKSAJjBPAQQoB3vt1BxwEpSv0xi tqgQC/8ySHGnzhiJXEy9Qn1PTHD30jbf4eLFrh1vnizHjTpDheVxJkJAP0j6tu1VwRyR G1SA== X-Gm-Message-State: AOJu0Yxo9zF4im0lOiDjSq3xmlMtSb4u82ceQxiNxAXOVqxRGDjZUQTX vnDZPxgsJBtvcVUN25s4+mhNhK2+tEQHT8XoX3cXjxPCTQYAjmYVtbfZ9Di6NCmEKsZfhX5YXhA GNn/GLNbC+vInzHVxFbfkm8s5gNHY1A5Brws8hBKe X-Gm-Gg: ASbGnct8WWtzuf6bMjaN5yo/h/1ce+7qOwZB28RJ0/mAsKnNzTp7LzsF9yf0YIan6OL Is+7fovH+QAtaYuFoMHDHEeWbgU3/btvJ4RHNwhY7K47Y7Dbg9X1wfLG6xdK7tAlKJf7sXurtSw KxbUN8RrgX34DDP3/0zpCbmNgGgCVp1Cu/4AOW24bcD34XF8ckV10L8YTAOvD34pwOH1DuV2GKR 4QJf+7yqiGozDi2NlrQ7RgKZKuaJGez5hP4sFDHCSwxvvmvmkkBKXibjsghX/w3WsoUBl0NBXkC AqYJURyAI2jVLs6XE+7KWOhAJ9jfYg== X-Google-Smtp-Source: AGHT+IFE2BaTWVc22wnxG9hAgZdEnV0kIn4RF/aSREQfgV0+uSh00k3SW4gAWOGtSwzYdJq5a0z3AOp6Hawb X-Received: by 2002:a05:690c:304:b0:6e2:1527:446b with SMTP id 00721157ae682-6fb1f171e9bmr31613467b3.3.1739361724651; Wed, 12 Feb 2025 04:02:04 -0800 (PST) Received: from postal.iol.unh.edu (postal.iol.unh.edu. [132.177.123.84]) by smtp-relay.gmail.com with ESMTPS id 00721157ae682-6f99ff93d91sm1531717b3.54.2025.02.12.04.02.04 (version=TLS1_2 cipher=ECDHE-ECDSA-AES128-GCM-SHA256 bits=128/128); Wed, 12 Feb 2025 04:02:04 -0800 (PST) X-Relaying-Domain: iol.unh.edu Date: Wed, 12 Feb 2025 04:02:04 -0800 (PST) Message-ID: <67ac8dbc.050a0220.9390d.8424SMTPIN_ADDED_MISSING@mx.google.com> Received: from [172.17.0.5] (unknown [172.18.0.217]) by postal.iol.unh.edu (Postfix) with ESMTP id 566B26052471; Wed, 12 Feb 2025 07:02:04 -0500 (EST) Subject: |SUCCESS| [GIT MASTER] 88e17c88943145bb956b5bf6059a8043dbd33a99 From: dpdklab@iol.unh.edu To: Test Report Cc: dpdk-test-reports@iol.unh.edu, Stephen Hemminger Content-Type: text/plain X-BeenThere: test-report@dpdk.org X-Mailman-Version: 2.1.29 Precedence: list List-Id: automatic DPDK test reports List-Unsubscribe: , List-Archive: List-Post: List-Help: List-Subscribe: , Errors-To: test-report-bounces@dpdk.org _Testing PASS_ Branch: dpdk-next-net 88e17c88943145bb956b5bf6059a8043dbd33a99 --> testing pass Upstream job id: Generic-DPDK-Compile-Meson#360978 Test environment and result as below: +---------------------+-------------------+--------------------+-------------------------+----------------------+-------------------+------------------+ | Environment | dpdk_msvc_compile | dpdk_meson_compile | dpdk_llvm_clang_compile | dpdk_mingw64_compile | dpdk_compile_spdk | dpdk_compile_ovs | +=====================+===================+====================+=========================+======================+===================+==================+ | Windows Server 2022 | PASS | SKIPPED | PASS | PASS | SKIPPED | SKIPPED | +---------------------+-------------------+--------------------+-------------------------+----------------------+-------------------+------------------+ | FreeBSD 13.4 | SKIPPED | PASS | SKIPPED | SKIPPED | SKIPPED | SKIPPED | +---------------------+-------------------+--------------------+-------------------------+----------------------+-------------------+------------------+ | FreeBSD 14.2 | SKIPPED | PASS | SKIPPED | SKIPPED | SKIPPED | SKIPPED | +---------------------+-------------------+--------------------+-------------------------+----------------------+-------------------+------------------+ | CentOS Stream 9 | SKIPPED | PASS | SKIPPED | SKIPPED | PASS | SKIPPED | +---------------------+-------------------+--------------------+-------------------------+----------------------+-------------------+------------------+ | CentOS Stream 10 | SKIPPED | PASS | SKIPPED | SKIPPED | SKIPPED | SKIPPED | +---------------------+-------------------+--------------------+-------------------------+----------------------+-------------------+------------------+ | Debian Bullseye | SKIPPED | PASS | SKIPPED | SKIPPED | PASS | SKIPPED | +---------------------+-------------------+--------------------+-------------------------+----------------------+-------------------+------------------+ | Debian 12 | SKIPPED | PASS | SKIPPED | SKIPPED | PASS | SKIPPED | +---------------------+-------------------+--------------------+-------------------------+----------------------+-------------------+------------------+ | Fedora 40 (Clang) | SKIPPED | PASS | SKIPPED | SKIPPED | PASS | SKIPPED | +---------------------+-------------------+--------------------+-------------------------+----------------------+-------------------+------------------+ | Fedora 40 | SKIPPED | PASS | SKIPPED | SKIPPED | PASS | SKIPPED | +---------------------+-------------------+--------------------+-------------------------+----------------------+-------------------+------------------+ | Fedora 41 (Clang) | SKIPPED | PASS | SKIPPED | SKIPPED | PASS | PASS | +---------------------+-------------------+--------------------+-------------------------+----------------------+-------------------+------------------+ | Fedora 41 | SKIPPED | PASS | SKIPPED | SKIPPED | PASS | PASS | +---------------------+-------------------+--------------------+-------------------------+----------------------+-------------------+------------------+ | openSUSE Leap 15 | SKIPPED | PASS | SKIPPED | SKIPPED | SKIPPED | SKIPPED | +---------------------+-------------------+--------------------+-------------------------+----------------------+-------------------+------------------+ | RHEL8 | SKIPPED | PASS | SKIPPED | SKIPPED | SKIPPED | SKIPPED | +---------------------+-------------------+--------------------+-------------------------+----------------------+-------------------+------------------+ | RHEL9 | SKIPPED | PASS | SKIPPED | SKIPPED | SKIPPED | SKIPPED | +---------------------+-------------------+--------------------+-------------------------+----------------------+-------------------+------------------+ | Ubuntu 20.04 | SKIPPED | PASS | SKIPPED | SKIPPED | SKIPPED | SKIPPED | +---------------------+-------------------+--------------------+-------------------------+----------------------+-------------------+------------------+ | Ubuntu 22.04 | SKIPPED | PASS | SKIPPED | SKIPPED | PASS | SKIPPED | +---------------------+-------------------+--------------------+-------------------------+----------------------+-------------------+------------------+ | Ubuntu 24.04 | SKIPPED | PASS | SKIPPED | SKIPPED | PASS | PASS | +---------------------+-------------------+--------------------+-------------------------+----------------------+-------------------+------------------+ | Alpine | SKIPPED | PASS | SKIPPED | SKIPPED | SKIPPED | SKIPPED | +---------------------+-------------------+--------------------+-------------------------+----------------------+-------------------+------------------+ Windows Server 2022 Kernel: 10.0.20348.2031 Compiler: clang 15.0.7, gcc 14.1.0 (MinGW), and MSVC VS 19.39.33521 FreeBSD 13.4 Kernel: 13.4-RELEASE-p1 Compiler: clang 18.1.6 FreeBSD 14.2 Kernel: 14.2-RELEASE Compiler: clang 18.1.6 CentOS Stream 9 Kernel: Depends on container host Compiler: gcc 11.5.0 20240719 (Red Hat 11.5.0-2) CentOS Stream 10 Kernel: Depends on container host Compiler: gcc 14.2.1 20241104 (Red Hat 14.2.1-6) Debian Bullseye Kernel: Depends on container host Compiler: gcc (Debian 10.2.1-6) 10.2.1 20210110 Debian 12 Kernel: Depends on container host Compiler: gcc (Debian 12.2.0-14) 12.2.0 Fedora 40 (Clang) Kernel: Depends on container host Compiler: clang 18.1.8 (Fedora 18.1.8-1.fc40) Fedora 40 Kernel: Depends on container host Compiler: gcc 14.2.1 20240912 (Red Hat 14.2.1-3) Fedora 41 (Clang) Kernel: Depends on container host Compiler: clang 19.1.5 (Fedora 19.1.5-1.fc41) Fedora 41 Kernel: Depends on container host Compiler: gcc 14.2.1 20240912 (Red Hat 14.2.1-3) openSUSE Leap 15 Kernel: Depends on container host Compiler: gcc (SUSE Linux) 7.5.0 RHEL8 Kernel: Depends on container host Compiler: gcc 8.5.0 20210514 (Red Hat 8.5.0-22) RHEL9 Kernel: Depends on container host Compiler: gcc 11.5.0 20240719 (Red Hat 11.5.0-2) Ubuntu 20.04 Kernel: Depends on container host Compiler: gcc (Ubuntu 9.4.0-1ubuntu1~20.04.2) 9.4.0 Ubuntu 22.04 Kernel: Depends on container host Compiler: gcc (Ubuntu 11.4.0-1ubuntu1~22.04) 11.4.0 Ubuntu 24.04 Kernel: Depends on container host Compiler: gcc (Ubuntu 13.3.0-6ubuntu2~24.04) 13.3.0 Alpine Kernel: Depends on container host Compiler: gcc (Alpine 14.2.0) 14.2.0 To view detailed results, visit: https://lab.dpdk.org/results/dashboard/tarballs/32553/ UNH-IOL DPDK Community Lab To manage your email subscriptions, visit: https://lab.dpdk.org/results/dashboard/preferences/subscriptions/