From mboxrd@z Thu Jan 1 00:00:00 1970 Return-Path: Received: from mails.dpdk.org (mails.dpdk.org [217.70.189.124]) by inbox.dpdk.org (Postfix) with ESMTP id B62FA46202 for ; Wed, 12 Feb 2025 13:23:40 +0100 (CET) Received: from mails.dpdk.org (localhost [127.0.0.1]) by mails.dpdk.org (Postfix) with ESMTP id DFF30410FB; Wed, 12 Feb 2025 13:23:39 +0100 (CET) Received: from mail-pl1-f226.google.com (mail-pl1-f226.google.com [209.85.214.226]) by mails.dpdk.org (Postfix) with ESMTP id 64FFD402D5 for ; Wed, 12 Feb 2025 13:23:38 +0100 (CET) Received: by mail-pl1-f226.google.com with SMTP id d9443c01a7336-21f6f18b474so58621655ad.1 for ; Wed, 12 Feb 2025 04:23:38 -0800 (PST) DKIM-Signature: v=1; a=rsa-sha256; c=relaxed/relaxed; d=iol.unh.edu; s=unh-iol; t=1739363017; x=1739967817; darn=dpdk.org; h=cc:to:from:subject:message-id:date:from:to:cc:subject:date :message-id:reply-to; bh=b1caEsnvmNlWV7z7aI8Rvrb2jiGQ1sB7p5IlJRtAXIk=; b=DolhfrPveCQLEIk1C8WtwGfDjTSVFJbpVzXrjzL7/6lC6QJJN7zNb9STUbrB1Fv+JE gN8WLT2h+U/fkww6u9THtgOaBtsbCFN9h8mQGV+ggHm6ugIRVy1yv8okia+LO4J1H/4+ JbM5TC1ibBgZsH8u7XDyOU5J3atjzOZ0lqL7M= X-Google-DKIM-Signature: v=1; a=rsa-sha256; c=relaxed/relaxed; d=1e100.net; s=20230601; t=1739363017; x=1739967817; h=cc:to:from:subject:message-id:date:x-gm-message-state:from:to:cc :subject:date:message-id:reply-to; bh=b1caEsnvmNlWV7z7aI8Rvrb2jiGQ1sB7p5IlJRtAXIk=; b=uNN+29HHyZCD1rteDkdK4yvEOihLBA6Gm/JtICO8hNw1QHFOCESlrFSx20H8nD+Cz0 pHlGe21V+p9DE85wUhnQwURyfD4EbRuDqznPlxk1ojZOUsuMwxHVVl8UZDu/gpT3/ViT upuXONN41CANlEtGGAMOQsbmksBocZQgOSMy4dme7MhEvyhwlQel6nFoPLtH1sx3idy5 gVKcCVEvk/IY1Tno9Vp8WYnww+oeUsNNWfKONH8PASqbbUH6iQQ/UUQK/15oFmBrmKhH iOXkEesDHOtWClralfbUH0+oye30ONXWOaL42eQlxMu4TSQvTZXFqP8eMDm8r8+MjLlQ sjlg== X-Gm-Message-State: AOJu0YxOknjX/IZmEDNoLtgjngScYy4+NovM1hQgnn2bTdiLuxqUeQCB m90kw3IHIuBYI0vgKu91rQOf/vnqYAJTqfPfeaaOIr785XBiJf8p8PYbAnvUqGwPBr1W3EWrrRf 9q2h/CHpESRLyop+zCWHmVcD6ASGCtc4VRZ3DjtztA8oxzn9aqTkEbpmB X-Gm-Gg: ASbGncs9O/DNPPNCB+v/XgsgStK2pcGqEPBKWqW5tAMgD/l8JD3Ul0/JbTO4l3mv84I yJAS/ckFjLmYfTCaSlCIKoEmwAj0ZK/cTl7tNZNtJXwcg+TGZhWUz6rE4+NR8msGEov42EhJQY1 PoYpleM4zOalelVzaf2OaojWW4wEkEVsMXkdR2I5sQaCZHeeOntnUBWVpm1Tg3GPjRXRBgoe5rc bAFX5sPQ77kn+RTpJ7dLTnoN6BwwxqisybIJbyp5yS+dzwiPJdm+hdleyDgQy7aTkSYFkMHtxQd ytgNzr9JItCoRkCIVy6jly0yWAF7e9+u4beFogQWPw== X-Google-Smtp-Source: AGHT+IGzBUqy90D6dVzVJTfs+5lCDpFNY3bvSyn+Ap7+6rcoak+LqAimBZ+C9ZER4PRoWEqA/yGpQ2LDrikr X-Received: by 2002:a17:902:d4c4:b0:21f:14e8:e94 with SMTP id d9443c01a7336-220bbc64593mr46057015ad.33.1739363017413; Wed, 12 Feb 2025 04:23:37 -0800 (PST) Received: from postal.iol.unh.edu (postal.iol.unh.edu. [2606:4100:3880:1234::84]) by smtp-relay.gmail.com with ESMTPS id d9443c01a7336-21f3650cf47sm7442575ad.24.2025.02.12.04.23.37 (version=TLS1_2 cipher=ECDHE-ECDSA-AES128-GCM-SHA256 bits=128/128); Wed, 12 Feb 2025 04:23:37 -0800 (PST) X-Relaying-Domain: iol.unh.edu Date: Wed, 12 Feb 2025 04:23:37 -0800 (PST) Message-ID: <67ac92c9.170a0220.1d2f1b.6441SMTPIN_ADDED_MISSING@mx.google.com> Received: from [172.21.0.5] (unknown [172.18.0.240]) by postal.iol.unh.edu (Postfix) with ESMTP id CE8096052471; Wed, 12 Feb 2025 07:23:36 -0500 (EST) Subject: |SUCCESS| [GIT MASTER] 88e17c88943145bb956b5bf6059a8043dbd33a99 From: dpdklab@iol.unh.edu To: Test Report Cc: dpdk-test-reports@iol.unh.edu, Stephen Hemminger Content-Type: text/plain X-BeenThere: test-report@dpdk.org X-Mailman-Version: 2.1.29 Precedence: list List-Id: automatic DPDK test reports List-Unsubscribe: , List-Archive: List-Post: List-Help: List-Subscribe: , Errors-To: test-report-bounces@dpdk.org _Testing PASS_ Branch: dpdk-next-net 88e17c88943145bb956b5bf6059a8043dbd33a99 --> testing pass Upstream job id: Generic-DPDK-Compile-Meson#360955 Test environment and result as below: +----------------------------------------+--------------------+ | Environment | dpdk_meson_compile | +========================================+====================+ | RHEL9 (ARM) | PASS | +----------------------------------------+--------------------+ | Ubuntu 20.04 ARM GCC Cross Compile | PASS | +----------------------------------------+--------------------+ | Ubuntu 20.04 ARM SVE | PASS | +----------------------------------------+--------------------+ | Debian 12 with MUSDK | PASS | +----------------------------------------+--------------------+ | Fedora 40 (ARM) | PASS | +----------------------------------------+--------------------+ | Fedora 40 (ARM Clang) | PASS | +----------------------------------------+--------------------+ | Fedora 41 (ARM) | PASS | +----------------------------------------+--------------------+ | Fedora 41 (ARM Clang) | PASS | +----------------------------------------+--------------------+ | Ubuntu 20.04 (ARM) | PASS | +----------------------------------------+--------------------+ | Ubuntu 22.04 (ARM) | PASS | +----------------------------------------+--------------------+ | Ubuntu 24.04 (ARM) | PASS | +----------------------------------------+--------------------+ | CentOS Stream 9 (ARM) | PASS | +----------------------------------------+--------------------+ | CentOS Stream 10 (ARM) | PASS | +----------------------------------------+--------------------+ | Debian 11 (Buster) (ARM) | PASS | +----------------------------------------+--------------------+ | Debian 12 (arm) | PASS | +----------------------------------------+--------------------+ | Ubuntu 20.04 ARM Clang Cross Compile | PASS | +----------------------------------------+--------------------+ | Ubuntu 20.04 aarch32 GCC Cross Compile | PASS | +----------------------------------------+--------------------+ RHEL9 (ARM) Kernel: Depends on container host Compiler: gcc 11.5.0 20240719 (Red Hat 11.5.0-2) Ubuntu 20.04 ARM GCC Cross Compile Kernel: Depends on container host Compiler: aarch64-linux-gnu-gcc (Ubuntu 9.4.0-1ubuntu1~20.04.2) 9.4.0 Ubuntu 20.04 ARM SVE Kernel: Depends on container host Compiler: gcc (Ubuntu 10.5.0-1ubuntu1~20.04) 10.5.0 Debian 12 with MUSDK Kernel: Depends on container host Compiler: gcc (Debian 12.2.0-14) 12.2.0 Fedora 40 (ARM) Kernel: Depends on container host Compiler: gcc 14.2.1 20240912 (Red Hat 14.2.1-3) Fedora 40 (ARM Clang) Kernel: Depends on container host Compiler: clang 18.1.8 (Fedora 18.1.8-1.fc40) Fedora 41 (ARM) Kernel: Depends on container host Compiler: gcc 14.2.1 20240912 (Red Hat 14.2.1-3) Fedora 41 (ARM Clang) Kernel: Depends on container host Compiler: clang 19.1.5 (Fedora 19.1.5-1.fc41) Ubuntu 20.04 (ARM) Kernel: Depends on container host Compiler: gcc (Ubuntu 9.4.0-1ubuntu1~20.04.2) 9.4.0 Ubuntu 22.04 (ARM) Kernel: Depends on container host Compiler: gcc (Ubuntu 11.4.0-1ubuntu1~22.04) 11.4.0 Ubuntu 24.04 (ARM) Kernel: Depends on container host Compiler: gcc (Ubuntu 13.3.0-6ubuntu2~24.04) 13.3.0 CentOS Stream 9 (ARM) Kernel: Depends on container host Compiler: gcc 11.5.0 20240719 (Red Hat 11.5.0-2) CentOS Stream 10 (ARM) Kernel: Depends on container host Compiler: gcc 14.2.1 20241104 (Red Hat 14.2.1-6) Debian 11 (Buster) (ARM) Kernel: Depends on container host Compiler: gcc (Debian 10.2.1-6) 10.2.1 20210110 Debian 12 (arm) Kernel: Depends on container host Compiler: gcc (Debian 12.2.0-14) 12.2.0 Ubuntu 20.04 ARM Clang Cross Compile Kernel: Depends on container host Compiler: clang 10.0.0-4ubuntu1 Ubuntu 20.04 aarch32 GCC Cross Compile Kernel: Depends on container host Compiler: gcc 9.4.0 To view detailed results, visit: https://lab.dpdk.org/results/dashboard/tarballs/32553/ UNH-IOL DPDK Community Lab To manage your email subscriptions, visit: https://lab.dpdk.org/results/dashboard/preferences/subscriptions/