From mboxrd@z Thu Jan 1 00:00:00 1970 Return-Path: Received: from mails.dpdk.org (mails.dpdk.org [217.70.189.124]) by inbox.dpdk.org (Postfix) with ESMTP id 0F8C446203 for ; Wed, 12 Feb 2025 14:19:56 +0100 (CET) Received: from mails.dpdk.org (localhost [127.0.0.1]) by mails.dpdk.org (Postfix) with ESMTP id EBE8A4114B; Wed, 12 Feb 2025 14:19:55 +0100 (CET) Received: from mail-io1-f99.google.com (mail-io1-f99.google.com [209.85.166.99]) by mails.dpdk.org (Postfix) with ESMTP id D7F89410FB for ; Wed, 12 Feb 2025 14:19:54 +0100 (CET) Received: by mail-io1-f99.google.com with SMTP id ca18e2360f4ac-85532c7220cso216164439f.1 for ; Wed, 12 Feb 2025 05:19:54 -0800 (PST) DKIM-Signature: v=1; a=rsa-sha256; c=relaxed/relaxed; d=iol.unh.edu; s=unh-iol; t=1739366394; x=1739971194; darn=dpdk.org; h=cc:to:from:subject:message-id:date:from:to:cc:subject:date :message-id:reply-to; bh=r+XjS6Bxboz4V+aPPdxvDX2+0JcxsfbgxcgOsP5UHbU=; b=HNCep+E9glcgdVM2w+nUjCHAixEeOY8io9qA2+mKAlPofpv/i5l0HN/Pt9EXQZAsxb +ME/znHgTWihH+7uj3RFs8bjSAeHcgKS+BQt6TMh3pHAMrNqyznVZeqN7YqLKTxLsHyg 3+zurJvRCdFiCr15DLcGdPT34cuUx4zZbHguY= X-Google-DKIM-Signature: v=1; a=rsa-sha256; c=relaxed/relaxed; d=1e100.net; s=20230601; t=1739366394; x=1739971194; h=cc:to:from:subject:message-id:date:x-gm-message-state:from:to:cc :subject:date:message-id:reply-to; bh=r+XjS6Bxboz4V+aPPdxvDX2+0JcxsfbgxcgOsP5UHbU=; b=eQwXVb3GuTsTzA6ShiosXdMmf3f+l9O9TWbyPzQVrmEn9lZRP5NvfZMMiJ0eP8Iv8v 9HulLFMQRHioQXcbf914FUnuuqoxHUfv0qpsswOysSiN6EMMFg8/LRaKPL+1pgjDZaYV gxhuw3EOZ+cXyd2e95PY6tkpZswDfnSv59Pfp0maO9A2bIXoY0/yeQLUVn28Iszq+RCE hFVW/exmeiic3tBy1sILZd++sazGnSXKV6n5O+T+JS73sD9Tlo8Z0qK+XDuzVLf9TvH0 haUuk+mB3s5r2AnGib1/Ijo7vam3j9VDmKl7eJVB3ipioNtW+/Hlm+Ua/uwolff0vKHR IVoQ== X-Gm-Message-State: AOJu0Yx+JsrvQlqr+eUpAsgWBytAP9pe5cS+lmSqI6i2IP+TtJLocBcK SviAZMNGyBeBfmmTIU3nhbstZ88cC4TXUzg3DoxCqk772Da4k2M+72via6EBgy/1u6fuAeykB0B vJZTAi4cF7fHp8vzaHnTYpZcbLraTJpOuJFQ7Oq0o X-Gm-Gg: ASbGnctcZlCfAOtwJBGIQ/FgLtRqh9sMGer6TyfOr1leOL8H+GJsJ7cqHdIqMoT7oBd 5E/iYCwREHL1U8mYBvHbrl98dWiBtyYEQ77Q5yGlvUoxLjsoaGJJ7a3FUw/7umJEo/Flq2oGduv 8w6jO8Sp/9te4T1UjVkFubq6PjTmOibsKFywiEj+fm1556mXe76hYDI2cqUqm/CuiM9FO/RG/Pn q7HFMXUct5L2ZSIdOduv0zymkVgU3uLj77ifRhUtlZ9SOcVbLtkDojX1HUdcKBbEl5+6P0hU1z8 tzGQFq2q6dfvGZr0V4f8pmdeeXHmAQ== X-Google-Smtp-Source: AGHT+IHQnAr78mTA4PfN2KrMfOydApWfxAJUddD/NSeI0p2ibM+v7FxaA22+WL0eUqDJ6KmogPLiUdXY8YAa X-Received: by 2002:a05:6e02:2168:b0:3cf:fe21:af8 with SMTP id e9e14a558f8ab-3d17be00d79mr32484715ab.4.1739366394114; Wed, 12 Feb 2025 05:19:54 -0800 (PST) Received: from postal.iol.unh.edu (postal.iol.unh.edu. [132.177.123.84]) by smtp-relay.gmail.com with ESMTPS id e9e14a558f8ab-3d14cc8d906sm6424615ab.2.2025.02.12.05.19.54 (version=TLS1_2 cipher=ECDHE-ECDSA-AES128-GCM-SHA256 bits=128/128); Wed, 12 Feb 2025 05:19:54 -0800 (PST) X-Relaying-Domain: iol.unh.edu Date: Wed, 12 Feb 2025 05:19:54 -0800 (PST) Message-ID: <67ac9ffa.050a0220.18168f.2f3cSMTPIN_ADDED_MISSING@mx.google.com> Received: from [172.17.0.3] (unknown [172.18.0.217]) by postal.iol.unh.edu (Postfix) with ESMTP id A9D646052471; Wed, 12 Feb 2025 08:19:53 -0500 (EST) Subject: |SUCCESS| [GIT MASTER] 8a0e2577c4c27fbf1e5624986cd401314bb3f35e From: dpdklab@iol.unh.edu To: Test Report Cc: dpdk-test-reports@iol.unh.edu, Bruce Richardson Content-Type: text/plain X-BeenThere: test-report@dpdk.org X-Mailman-Version: 2.1.29 Precedence: list List-Id: automatic DPDK test reports List-Unsubscribe: , List-Archive: List-Post: List-Help: List-Subscribe: , Errors-To: test-report-bounces@dpdk.org _Testing PASS_ Branch: dpdk-next-net-intel 8a0e2577c4c27fbf1e5624986cd401314bb3f35e --> testing pass Upstream job id: Generic-Unit-Test-DPDK#314405 Test environment and result as below: +---------------------+----------------+ | Environment | dpdk_unit_test | +=====================+================+ | CentOS Stream 10 | PASS | +---------------------+----------------+ | CentOS Stream 9 | PASS | +---------------------+----------------+ | Debian 12 | PASS | +---------------------+----------------+ | Debian Bullseye | PASS | +---------------------+----------------+ | Fedora 40 (Clang) | PASS | +---------------------+----------------+ | Fedora 40 | PASS | +---------------------+----------------+ | RHEL8 | PASS | +---------------------+----------------+ | RHEL9 | PASS | +---------------------+----------------+ | Ubuntu 22.04 | PASS | +---------------------+----------------+ | Ubuntu 24.04 | PASS | +---------------------+----------------+ | Ubuntu 20.04 | PASS | +---------------------+----------------+ | Fedora 41 (Clang) | PASS | +---------------------+----------------+ | Fedora 41 | PASS | +---------------------+----------------+ | Windows Server 2022 | PASS | +---------------------+----------------+ CentOS Stream 10 Kernel: Depends on container host Compiler: gcc 14.2.1 20241104 (Red Hat 14.2.1-6) CentOS Stream 9 Kernel: Depends on container host Compiler: gcc 11.5.0 20240719 (Red Hat 11.5.0-2) Debian 12 Kernel: Depends on container host Compiler: gcc (Debian 12.2.0-14) 12.2.0 Debian Bullseye Kernel: Depends on container host Compiler: gcc (Debian 10.2.1-6) 10.2.1 20210110 Fedora 40 (Clang) Kernel: Depends on container host Compiler: clang 18.1.8 (Fedora 18.1.8-1.fc40) Fedora 40 Kernel: Depends on container host Compiler: gcc 14.2.1 20240912 (Red Hat 14.2.1-3) RHEL8 Kernel: Depends on container host Compiler: gcc 8.5.0 20210514 (Red Hat 8.5.0-22) RHEL9 Kernel: Depends on container host Compiler: gcc 11.5.0 20240719 (Red Hat 11.5.0-2) Ubuntu 22.04 Kernel: Depends on container host Compiler: gcc (Ubuntu 11.4.0-1ubuntu1~22.04) 11.4.0 Ubuntu 24.04 Kernel: Depends on container host Compiler: gcc (Ubuntu 13.3.0-6ubuntu2~24.04) 13.3.0 Ubuntu 20.04 Kernel: Depends on container host Compiler: gcc (Ubuntu 9.4.0-1ubuntu1~20.04.2) 9.4.0 Fedora 41 (Clang) Kernel: Depends on container host Compiler: clang 19.1.5 (Fedora 19.1.5-1.fc41) Fedora 41 Kernel: Depends on container host Compiler: gcc 14.2.1 20240912 (Red Hat 14.2.1-3) Windows Server 2022 Kernel: 10.0.20348.2031 Compiler: clang 15.0.7, gcc 14.1.0 (MinGW), and MSVC VS 19.39.33521 To view detailed results, visit: https://lab.dpdk.org/results/dashboard/tarballs/32554/ UNH-IOL DPDK Community Lab To manage your email subscriptions, visit: https://lab.dpdk.org/results/dashboard/preferences/subscriptions/