From mboxrd@z Thu Jan 1 00:00:00 1970 Return-Path: Received: from mails.dpdk.org (mails.dpdk.org [217.70.189.124]) by inbox.dpdk.org (Postfix) with ESMTP id 1778446203 for ; Wed, 12 Feb 2025 14:19:59 +0100 (CET) Received: from mails.dpdk.org (localhost [127.0.0.1]) by mails.dpdk.org (Postfix) with ESMTP id 12A724114B; Wed, 12 Feb 2025 14:19:59 +0100 (CET) Received: from mail-yw1-f226.google.com (mail-yw1-f226.google.com [209.85.128.226]) by mails.dpdk.org (Postfix) with ESMTP id A13A8410FB for ; Wed, 12 Feb 2025 14:19:57 +0100 (CET) Received: by mail-yw1-f226.google.com with SMTP id 00721157ae682-6f74b78df93so60565287b3.0 for ; Wed, 12 Feb 2025 05:19:57 -0800 (PST) DKIM-Signature: v=1; a=rsa-sha256; c=relaxed/relaxed; d=iol.unh.edu; s=unh-iol; t=1739366397; x=1739971197; darn=dpdk.org; h=cc:to:from:subject:message-id:date:from:to:cc:subject:date :message-id:reply-to; bh=XpWeor5bgfKCTcz7brhFjJ2OnSOmgheVsXZ9BjCbUOw=; b=a4ihNW4iqD7H+/Y+bjbklfZbggShkhN1pjjQBm/Vk+tUiIIxTobISGmXHTSQUPdBJT oFV97sPPF4KNW4xcpuRnRu/fUbrbs637Budv5ntpJDlFo61273eamb3Ay7kAFCSdOrJo ft/2dKDFhpnpugR8/jMCDEL0n2VfZU3QuethQ= X-Google-DKIM-Signature: v=1; a=rsa-sha256; c=relaxed/relaxed; d=1e100.net; s=20230601; t=1739366397; x=1739971197; h=cc:to:from:subject:message-id:date:x-gm-message-state:from:to:cc :subject:date:message-id:reply-to; bh=XpWeor5bgfKCTcz7brhFjJ2OnSOmgheVsXZ9BjCbUOw=; b=XE4dOC8maOlVwga5W52DwoYXOduFrGhXqHUyBAipeI7gKYVuyv9e+zw5NfPuVloC2a CFTjOgLzrPkB9N1wacrvni7/S24I1FBdL7ng85Q8qXpbkWdRSIcAEDQ02PWOecGjAq3k sYtD6biFAHMB68vIjxUtnpcDEcvY7O4RaYQI2moYWc0saaZPRRRlxOcSMmpXmouh59zF eaKosAcRa7upT+aYdznsxXavfKuTO+EZbwSsbDArlsSajIdXeF+Rl3nqTmy43YhPFHP9 6ZRAnF4mhHakLLwrEDJzO2NcdhYwASVy/r1EerYuZAuynT+zp5hRsdB1BYHl5Qnb3UC/ lmDw== X-Gm-Message-State: AOJu0YwzfNdtiCEvb1F+7votVh7acX4/EdB/xGFj3xLMKt6WE6CZRDMQ bGXjX4uFmnVaCFwp/P8fmHh51JssTlGjC0Ty9Wy4BwsxNfr7Kq4lYdiTfV2RmPxMpF0nl5An1JL mOMQWt8+pOVp0bW6vHEdXQFpT7YsjV4n12YMVELgP X-Gm-Gg: ASbGncsbp6HRlbhhWJ8UpNuBsENqwkYQj2cQLbzwN+BYH4L5PQBwjOybEv8QKzx/hvM fQnnUJF7vUA2GhErIIcEi6F05/97rseFc3ch/r1eGRAXq/cVlsBQBu1J2nRvDyX4ksx+IBgkF6N tITte5HBF28UCLIEUk4FboPUU8YlgpOBF3XtA//P01VGQnfpGgW6L/3ixpMq0qYCu7wiANU9LgF XW9YqPWBXissg2XHtLBVAE+v96p1xvf6H4bNrt+3RLbW3ZdH8fkUduzo5m75qTKpzWSZsQThmXP 1BY3UtQSCYi9Sziz1q7GRmutqq0TzA== X-Google-Smtp-Source: AGHT+IHwmuF0CGukX1iRwvwjkLaHmhwLn8rjET0BjbsieLJbhVgoX1jJFnQXXjtIh8JA8q/m/J75grV3L5OU X-Received: by 2002:a05:690c:6d93:b0:6f9:8916:3b69 with SMTP id 00721157ae682-6fb1f17e630mr31803017b3.5.1739366397067; Wed, 12 Feb 2025 05:19:57 -0800 (PST) Received: from postal.iol.unh.edu (postal.iol.unh.edu. [132.177.123.84]) by smtp-relay.gmail.com with ESMTPS id 00721157ae682-6f9a001ece0sm1696687b3.70.2025.02.12.05.19.56 (version=TLS1_2 cipher=ECDHE-ECDSA-AES128-GCM-SHA256 bits=128/128); Wed, 12 Feb 2025 05:19:57 -0800 (PST) X-Relaying-Domain: iol.unh.edu Date: Wed, 12 Feb 2025 05:19:57 -0800 (PST) Message-ID: <67ac9ffd.050a0220.13392.9032SMTPIN_ADDED_MISSING@mx.google.com> Received: from [172.21.0.5] (unknown [172.18.0.240]) by postal.iol.unh.edu (Postfix) with ESMTP id ABADA6052471; Wed, 12 Feb 2025 08:19:56 -0500 (EST) Subject: |SUCCESS| [GIT MASTER] 8a0e2577c4c27fbf1e5624986cd401314bb3f35e From: dpdklab@iol.unh.edu To: Test Report Cc: dpdk-test-reports@iol.unh.edu, Bruce Richardson Content-Type: text/plain X-BeenThere: test-report@dpdk.org X-Mailman-Version: 2.1.29 Precedence: list List-Id: automatic DPDK test reports List-Unsubscribe: , List-Archive: List-Post: List-Help: List-Subscribe: , Errors-To: test-report-bounces@dpdk.org _Testing PASS_ Branch: dpdk-next-net-intel 8a0e2577c4c27fbf1e5624986cd401314bb3f35e --> testing pass Upstream job id: Generic-Unit-Test-DPDK#314389 Test environment and result as below: +-----------------------------+----------------+--------------+------------------------------+---------------------------+ | Environment | dpdk_unit_test | lpm_autotest | cryptodev_sw_snow3g_autotest | cryptodev_sw_zuc_autotest | +=============================+================+==============+==============================+===========================+ | 32-bit Ubuntu 22.04.4 (ARM) | PASS | SKIPPED | SKIPPED | SKIPPED | +-----------------------------+----------------+--------------+------------------------------+---------------------------+ | CentOS Stream 9 (ARM) | PASS | SKIPPED | SKIPPED | SKIPPED | +-----------------------------+----------------+--------------+------------------------------+---------------------------+ | Debian 12 (arm) | PASS | SKIPPED | PASS | PASS | +-----------------------------+----------------+--------------+------------------------------+---------------------------+ | Debian 11 (Buster) (ARM) | PASS | SKIPPED | SKIPPED | SKIPPED | +-----------------------------+----------------+--------------+------------------------------+---------------------------+ | Fedora 40 (ARM Clang) | PASS | SKIPPED | SKIPPED | SKIPPED | +-----------------------------+----------------+--------------+------------------------------+---------------------------+ | Fedora 40 (ARM) | PASS | SKIPPED | SKIPPED | SKIPPED | +-----------------------------+----------------+--------------+------------------------------+---------------------------+ | Fedora 41 (ARM) | PASS | SKIPPED | SKIPPED | SKIPPED | +-----------------------------+----------------+--------------+------------------------------+---------------------------+ | RHEL9 (ARM) | PASS | SKIPPED | SKIPPED | SKIPPED | +-----------------------------+----------------+--------------+------------------------------+---------------------------+ | Fedora 41 (ARM Clang) | PASS | SKIPPED | SKIPPED | SKIPPED | +-----------------------------+----------------+--------------+------------------------------+---------------------------+ | CentOS Stream 10 (ARM) | PASS | SKIPPED | SKIPPED | SKIPPED | +-----------------------------+----------------+--------------+------------------------------+---------------------------+ | Ubuntu 22.04 (ARM) | PASS | SKIPPED | SKIPPED | SKIPPED | +-----------------------------+----------------+--------------+------------------------------+---------------------------+ | Ubuntu 20.04 (ARM) | PASS | SKIPPED | SKIPPED | SKIPPED | +-----------------------------+----------------+--------------+------------------------------+---------------------------+ | Ubuntu 24.04 (ARM) | PASS | SKIPPED | SKIPPED | SKIPPED | +-----------------------------+----------------+--------------+------------------------------+---------------------------+ | Ubuntu 20.04 ARM SVE | SKIPPED | PASS | SKIPPED | SKIPPED | +-----------------------------+----------------+--------------+------------------------------+---------------------------+ 32-bit Ubuntu 22.04.4 (ARM) Kernel: 5.15.83+ aarch64 Compiler: gcc (Ubuntu 11.4.0-1ubuntu1~22.04) 11.4.0 CentOS Stream 9 (ARM) Kernel: Depends on container host Compiler: gcc 11.5.0 20240719 (Red Hat 11.5.0-2) Debian 12 (arm) Kernel: Depends on container host Compiler: gcc (Debian 12.2.0-14) 12.2.0 Debian 11 (Buster) (ARM) Kernel: Depends on container host Compiler: gcc (Debian 10.2.1-6) 10.2.1 20210110 Fedora 40 (ARM Clang) Kernel: Depends on container host Compiler: clang 18.1.8 (Fedora 18.1.8-1.fc40) Fedora 40 (ARM) Kernel: Depends on container host Compiler: gcc 14.2.1 20240912 (Red Hat 14.2.1-3) Fedora 41 (ARM) Kernel: Depends on container host Compiler: gcc 14.2.1 20240912 (Red Hat 14.2.1-3) RHEL9 (ARM) Kernel: Depends on container host Compiler: gcc 11.5.0 20240719 (Red Hat 11.5.0-2) Fedora 41 (ARM Clang) Kernel: Depends on container host Compiler: clang 19.1.5 (Fedora 19.1.5-1.fc41) CentOS Stream 10 (ARM) Kernel: Depends on container host Compiler: gcc 14.2.1 20241104 (Red Hat 14.2.1-6) Ubuntu 22.04 (ARM) Kernel: Depends on container host Compiler: gcc (Ubuntu 11.4.0-1ubuntu1~22.04) 11.4.0 Ubuntu 20.04 (ARM) Kernel: Depends on container host Compiler: gcc (Ubuntu 9.4.0-1ubuntu1~20.04.2) 9.4.0 Ubuntu 24.04 (ARM) Kernel: Depends on container host Compiler: gcc (Ubuntu 13.3.0-6ubuntu2~24.04) 13.3.0 Ubuntu 20.04 ARM SVE Kernel: Depends on container host Compiler: gcc (Ubuntu 10.5.0-1ubuntu1~20.04) 10.5.0 To view detailed results, visit: https://lab.dpdk.org/results/dashboard/tarballs/32554/ UNH-IOL DPDK Community Lab To manage your email subscriptions, visit: https://lab.dpdk.org/results/dashboard/preferences/subscriptions/