From mboxrd@z Thu Jan 1 00:00:00 1970 Return-Path: Received: from mails.dpdk.org (mails.dpdk.org [217.70.189.124]) by inbox.dpdk.org (Postfix) with ESMTP id 87D0C46203 for ; Wed, 12 Feb 2025 14:33:29 +0100 (CET) Received: from mails.dpdk.org (localhost [127.0.0.1]) by mails.dpdk.org (Postfix) with ESMTP id 63D474114B; Wed, 12 Feb 2025 14:33:29 +0100 (CET) Received: from mail-qv1-f98.google.com (mail-qv1-f98.google.com [209.85.219.98]) by mails.dpdk.org (Postfix) with ESMTP id AA2AF410FB for ; Wed, 12 Feb 2025 14:33:27 +0100 (CET) Received: by mail-qv1-f98.google.com with SMTP id 6a1803df08f44-6dd43aa1558so52849666d6.0 for ; Wed, 12 Feb 2025 05:33:27 -0800 (PST) DKIM-Signature: v=1; a=rsa-sha256; c=relaxed/relaxed; d=iol.unh.edu; s=unh-iol; t=1739367207; x=1739972007; darn=dpdk.org; h=cc:to:from:subject:message-id:date:from:to:cc:subject:date :message-id:reply-to; bh=lc3LruKD9swVplIqObuIafsa6EO0nqXsGE7Bkepwtz4=; b=UBwrCRaEwOxxbUFysc81E4BO586xHcg58BuCudrMSGNNfj1mSMGiXMmEpKPRm4XhdQ /NopsJcE1uL2Fon7NwlcU38X4aqVJRR5Bvm2+Gqak54hTzU5OsrpKwQXYB67mYoIXlqE 10pIyeSE+BASzaAMuIPh8IG837VmKElYn2m+s= X-Google-DKIM-Signature: v=1; a=rsa-sha256; c=relaxed/relaxed; d=1e100.net; s=20230601; t=1739367207; x=1739972007; h=cc:to:from:subject:message-id:date:x-gm-message-state:from:to:cc :subject:date:message-id:reply-to; bh=lc3LruKD9swVplIqObuIafsa6EO0nqXsGE7Bkepwtz4=; b=Ib7ac8ZB1r72IKMIPRYwSfHM1fFa9QIxqh+1O8zIVjsJ9ZFyRyrXO6R5UWTZzvkDrG ks2HJorymxZomroHNDWJz47x2rGQwdXTcS43BubmCDoDdxALUpTxSA6hXGhBuiXBEeLZ MZ//rCy6J0rlyQvNliYFEuZXm8phD8kJZ2gmJ5FsVSRQb9PrB5g6Ys9pE8X8xBPHiNyQ rlG9b5jiicNPLrFsreT51ctUQ3XtxpCWzRFtmUHSoSdZPMS44pbp3NOcvclOU0ImJ5gM e4TeDfcJOx7MtuZv+y18ihRgtuIU0OELqMAsP5jxuJrzDiRIYguwTebcDN0fBzeqM3o/ Zp4w== X-Gm-Message-State: AOJu0YztaF4ZXWDVoA390PhhBjkULfYgA2sVQA1TqyezECRY01wXnOBo X8FpP1XxsDdUC/Ke7deIevPFGt3TLjzWZf+hobzcBmP3EPrUpb7gM3PEgt3bKUxry9IluFPus3h Kfn1iH4VEEQOnefxyy4uyMy/u+XlWGJfg+JR2cMabDJN9Si3y X-Gm-Gg: ASbGncumWsailKMetFVQyQA98ERe54Kc/XaSZsvEwjFoefsCizhy+mSRvEN6SFCcXji kZg+WDLeUAb5CqFgdrKIIY36WCtjI96kk3Z2cT7GHXqbLCRIKHqlN9Y9Mli/CNaeFXJod4WvxZ8 1ysz3Jb95svXonh0HSAkfjPaYh+rlk8Hxd7Kax4IJJTKT5azbGQ3AIVmPUSiDET/JVHEuymTW9I jxVTDO/+1ruU3LMZEwL8swQ2XRgUcqRalxUBSFUxigIb6Pk17+BRDIkWK7z2mEFtj8eeU2eoyuH yS1ESDi/unTkm/ltikMtOjrvsxAMeZiQaHoXO5S4oQ== X-Google-Smtp-Source: AGHT+IHWj3FGLoqtyTEQCUKgH48KxZsoqwyoMF4bPA2+0YW9QrglfF/YNXRxmzH4+2sZi9QLljYzmn/1kn1j X-Received: by 2002:a05:6214:d88:b0:6cb:edd7:ac32 with SMTP id 6a1803df08f44-6e46f877d46mr40184426d6.12.1739367207045; Wed, 12 Feb 2025 05:33:27 -0800 (PST) Received: from postal.iol.unh.edu (postal.iol.unh.edu. [2606:4100:3880:1234::84]) by smtp-relay.gmail.com with ESMTPS id 6a1803df08f44-6e453829986sm5830356d6.18.2025.02.12.05.33.26 (version=TLS1_2 cipher=ECDHE-ECDSA-AES128-GCM-SHA256 bits=128/128); Wed, 12 Feb 2025 05:33:27 -0800 (PST) X-Relaying-Domain: iol.unh.edu Date: Wed, 12 Feb 2025 05:33:27 -0800 (PST) Message-ID: <67aca327.d40a0220.106305.eeb9SMTPIN_ADDED_MISSING@mx.google.com> Received: from [172.17.0.3] (unknown [172.18.0.217]) by postal.iol.unh.edu (Postfix) with ESMTP id AA9AB6052471; Wed, 12 Feb 2025 08:33:26 -0500 (EST) Subject: |SUCCESS| [GIT MASTER] f2eea2f37a82bb73fb01d56350708f7d70e21379 From: dpdklab@iol.unh.edu To: Test Report Cc: dpdk-test-reports@iol.unh.edu, Xueming Li , Christian Ehrhardt , Kevin Traynor , Luca Boccassi Content-Type: text/plain X-BeenThere: test-report@dpdk.org X-Mailman-Version: 2.1.29 Precedence: list List-Id: automatic DPDK test reports List-Unsubscribe: , List-Archive: List-Post: List-Help: List-Subscribe: , Errors-To: test-report-bounces@dpdk.org _Testing PASS_ Branch: tags/v24.11 f2eea2f37a82bb73fb01d56350708f7d70e21379 --> testing pass Upstream job id: ACVP-FIPS-testing#8888 Test environment and result as below: +--------------------+----------------------+----------------------+ | Environment | compressdev_zlib_pmd | dpdk_fips_validation | +====================+======================+======================+ | Ubuntu 22.04 (ARM) | PASS | SKIPPED | +--------------------+----------------------+----------------------+ | Ubuntu 22.04 | PASS | SKIPPED | +--------------------+----------------------+----------------------+ | Ubuntu 20.04 | SKIPPED | PASS | +--------------------+----------------------+----------------------+ Ubuntu 22.04 (ARM) Kernel: 5.15.0-97-generic Compiler: gcc gcc (Ubuntu 11.4.0-1ubuntu1~22.04) 11.4.0 Ubuntu 22.04 Kernel: 5.15.0-100-generic Compiler: gcc gcc (Ubuntu 11.4.0-1ubuntu1~22.04) 11.4.0 Ubuntu 20.04 Kernel: Depends on container host Compiler: gcc (Ubuntu 9.4.0-1ubuntu1~20.04.2) 9.4.0 To view detailed results, visit: https://lab.dpdk.org/results/dashboard/tarballs/32549/ UNH-IOL DPDK Community Lab To manage your email subscriptions, visit: https://lab.dpdk.org/results/dashboard/preferences/subscriptions/