From mboxrd@z Thu Jan 1 00:00:00 1970 Return-Path: Received: from mails.dpdk.org (mails.dpdk.org [217.70.189.124]) by inbox.dpdk.org (Postfix) with ESMTP id 65FF946203 for ; Wed, 12 Feb 2025 15:12:11 +0100 (CET) Received: from mails.dpdk.org (localhost [127.0.0.1]) by mails.dpdk.org (Postfix) with ESMTP id 424724113C; Wed, 12 Feb 2025 15:12:11 +0100 (CET) Received: from mail-qk1-f227.google.com (mail-qk1-f227.google.com [209.85.222.227]) by mails.dpdk.org (Postfix) with ESMTP id D82424111B for ; Wed, 12 Feb 2025 15:12:09 +0100 (CET) Received: by mail-qk1-f227.google.com with SMTP id af79cd13be357-7c0771a2f3bso27445885a.0 for ; Wed, 12 Feb 2025 06:12:09 -0800 (PST) DKIM-Signature: v=1; a=rsa-sha256; c=relaxed/relaxed; d=iol.unh.edu; s=unh-iol; t=1739369529; x=1739974329; darn=dpdk.org; h=references:in-reply-to:cc:to:from:subject:message-id:date:from:to :cc:subject:date:message-id:reply-to; bh=YTDoFmO6xDUOJXcxBk4BnQf3eeGjh+BYC66gm2/dy0E=; b=DAHjncRjAd5vSN0taAcIlvX67Wiisee+v4dVBkQn5AD3JYeAFqAFa2UX2LkDe7rhEe 6fyM/GiXPLeJIpklTe7malkzg0Wc9YWRzJoEGfkbMegV+TWlPrAS7bO6Hqh46g+YXZtN DIMNPNKUmn763nmAwNDfWvmrV/LGN7sX7HlO4= X-Google-DKIM-Signature: v=1; a=rsa-sha256; c=relaxed/relaxed; d=1e100.net; s=20230601; t=1739369529; x=1739974329; h=references:in-reply-to:cc:to:from:subject:message-id:date :x-gm-message-state:from:to:cc:subject:date:message-id:reply-to; bh=YTDoFmO6xDUOJXcxBk4BnQf3eeGjh+BYC66gm2/dy0E=; b=JaozRoNyxtRcHSI9bozAKzSetd77WjXv/z63lP2yVR7SMgErqS2ywbnSf6qGqFtYPH 1eC75TgEDwU1zHCpdNpsu2lJar+MjacA1sAZTysPbnGRPIPtbGeuq73uezMJopc4Q0T7 q3Tk0qjyA0c58wtUK9t8CImdlgufTvwuj5fIztu9zwavX/VMh1/AGkcJ7vqltaGywh+y nuO0vRqOO/NlET5UEUqDLdZhLE0hDgXBpeHLiSdU0cQLffVtZrslPJVEcCtaF/RjLJ8B KMZ/5d1BJMZr9vRMKt0NlOYVuy2PMNfN69CENMrqxk5CreYMW45mwxY+6J9t8UjJ2bw2 Hg/Q== X-Gm-Message-State: AOJu0YxKZxo63vn3WqCgvwHgvXjIFfM284QDt0cikvwuHVIXHMClwlox 6FmVNYdmIBcpjZpatadQi0AyC0J9VImKTYKrmR9OdjztH9UbOkTHKT2szPu86L4jSAYNZii75Gk QBuSqS2roLEN7uadEI6yNKrX+P27Q9lxGwbtNOb1hQGAiCGYVk3yZp/Tf X-Gm-Gg: ASbGncsXUhl94mKQEReYGWukIPct5HRL6LQo3iJTCK5OfAnyYre2g1fWOvXLWWNDqrT /72Y+ed+puFe1gUPawqz/ZWTesBcJZ4TV58e8TFZR/E9wBVyIkI+HL3PyUMzFR6ga5OOpQKvDUv 3sdHelg5bDsEM3hjms/NljdiQF+X3EOPDqpdrAO+mktf6NRcLo56OsKxS46iiwC7UwOtA0xWxow UKJEMtrhSsz2JnrLA+gThnzw0FiR9OiEL4Gr4K9ocWr9eY9lVU4397xx3PtzIePagzAhN8vdXw/ UPIOg0xmw0OLOR+JDBD/JS4Y90IwsIydLP9w8EqycA== X-Google-Smtp-Source: AGHT+IGrtnGsxq6u0EgCTIJhkQ9JQm9sFn1cBZAKe8U91hSXnqzD8pZfTn9TLGXv7qqOXIxZtEy0q+WI+6/Y X-Received: by 2002:ad4:4eea:0:b0:6e4:2b7e:3992 with SMTP id 6a1803df08f44-6e46ed8345fmr63785596d6.16.1739369529217; Wed, 12 Feb 2025 06:12:09 -0800 (PST) Received: from postal.iol.unh.edu (postal.iol.unh.edu. [2606:4100:3880:1234::84]) by smtp-relay.gmail.com with ESMTPS id 6a1803df08f44-6e45e8b7e4dsm4589106d6.36.2025.02.12.06.12.09 (version=TLS1_2 cipher=ECDHE-ECDSA-AES128-GCM-SHA256 bits=128/128); Wed, 12 Feb 2025 06:12:09 -0800 (PST) X-Relaying-Domain: iol.unh.edu Date: Wed, 12 Feb 2025 06:12:09 -0800 (PST) Message-ID: <67acac39.050a0220.2d79e.8d9cSMTPIN_ADDED_MISSING@mx.google.com> Received: from [172.17.0.3] (unknown [172.18.0.217]) by postal.iol.unh.edu (Postfix) with ESMTP id E2F766052471; Wed, 12 Feb 2025 09:12:08 -0500 (EST) Subject: |SUCCESS| pw151377 [PATCH] examples/l3fwd: adjust Tx burst size base From: dpdklab@iol.unh.edu To: Test Report Cc: dpdk-test-reports@iol.unh.edu In-Reply-To: <20250212045416.2393001-1-sivaprasad.tummala@amd.com> References: <20250212045416.2393001-1-sivaprasad.tummala@amd.com> Content-Type: text/plain X-BeenThere: test-report@dpdk.org X-Mailman-Version: 2.1.29 Precedence: list List-Id: automatic DPDK test reports List-Unsubscribe: , List-Archive: List-Post: List-Help: List-Subscribe: , Errors-To: test-report-bounces@dpdk.org Test-Label: iol-sample-apps-testing Test-Status: SUCCESS http://dpdk.org/patch/151377 _Testing PASS_ Submitter: Sivaprasad Tummala Date: Wednesday, February 12 2025 04:54:16 DPDK git baseline: Repo:dpdk Branch: master CommitID:046cca99c3fd03bfb95d3e27a56aab40c2c8f45a 151377 --> testing pass Upstream job id: ACVP-FIPS-testing#8889 Test environment and result as below: +--------------------+----------------------+----------------------+ | Environment | compressdev_zlib_pmd | dpdk_fips_validation | +====================+======================+======================+ | Ubuntu 22.04 (ARM) | PASS | SKIPPED | +--------------------+----------------------+----------------------+ | Ubuntu 22.04 | PASS | SKIPPED | +--------------------+----------------------+----------------------+ | Ubuntu 20.04 | SKIPPED | PASS | +--------------------+----------------------+----------------------+ Ubuntu 22.04 (ARM) Kernel: 5.15.0-97-generic Compiler: gcc gcc (Ubuntu 11.4.0-1ubuntu1~22.04) 11.4.0 Ubuntu 22.04 Kernel: 5.15.0-100-generic Compiler: gcc gcc (Ubuntu 11.4.0-1ubuntu1~22.04) 11.4.0 Ubuntu 20.04 Kernel: Depends on container host Compiler: gcc (Ubuntu 9.4.0-1ubuntu1~20.04.2) 9.4.0 To view detailed results, visit: https://lab.dpdk.org/results/dashboard/patchsets/32565/ UNH-IOL DPDK Community Lab To manage your email subscriptions, visit: https://lab.dpdk.org/results/dashboard/preferences/subscriptions/