From mboxrd@z Thu Jan 1 00:00:00 1970 Return-Path: Received: from mails.dpdk.org (mails.dpdk.org [217.70.189.124]) by inbox.dpdk.org (Postfix) with ESMTP id C2F7646203 for ; Wed, 12 Feb 2025 15:47:35 +0100 (CET) Received: from mails.dpdk.org (localhost [127.0.0.1]) by mails.dpdk.org (Postfix) with ESMTP id 9AE3542789; Wed, 12 Feb 2025 15:47:35 +0100 (CET) Received: from mail-yw1-f225.google.com (mail-yw1-f225.google.com [209.85.128.225]) by mails.dpdk.org (Postfix) with ESMTP id 7A62C4111B for ; Wed, 12 Feb 2025 15:47:34 +0100 (CET) Received: by mail-yw1-f225.google.com with SMTP id 00721157ae682-6f77b9e0a34so50847467b3.2 for ; Wed, 12 Feb 2025 06:47:34 -0800 (PST) DKIM-Signature: v=1; a=rsa-sha256; c=relaxed/relaxed; d=iol.unh.edu; s=unh-iol; t=1739371654; x=1739976454; darn=dpdk.org; h=cc:to:from:subject:message-id:date:from:to:cc:subject:date :message-id:reply-to; bh=XvTmruMfKIG+hgro0Gx4vpYmCqG14sOBCJq3lzdSPn4=; b=Gmtzyu9dMwKoDxw8pyyWB17QpJZ/JhTc3tuY1wBwSagUkRRvRKPGW+likYcf2FBRkR nQ7iPt6KA+uU+fOsHXdWZaY/FXJbxb7Zo9anOSiMfE7yoD5u2cfQm+dfWtPcYrPyY9/n CPr13plJEJ1ti9Hr+JryOZWuggAhWzYOqIEZQ= X-Google-DKIM-Signature: v=1; a=rsa-sha256; c=relaxed/relaxed; d=1e100.net; s=20230601; t=1739371654; x=1739976454; h=cc:to:from:subject:message-id:date:x-gm-message-state:from:to:cc :subject:date:message-id:reply-to; bh=XvTmruMfKIG+hgro0Gx4vpYmCqG14sOBCJq3lzdSPn4=; b=HfHdvCxKIG2gcUhZn4MSyQhhx+Zvh3OKSpMrpkwsi/DTc906hPGQefV9oPS1qyv3f3 Fz8APwRbwg8v/xBtB5B1nkzCuzb46ZkrPIdQD6gVOOZ1KhrywzD3AQ8xOqQ4dzo0jvmE HNFhwiF4EkV3c3qE0XfFyYG5hW01CdeJXgv4hZpOlFS3q7CPL7nbp0U1Kldx0c6Fyiql r4a27sV6NCT9DoEodkXiMeJatcwdnaDST8Ja2ZO8V2YjuXBsvGVxWO1ST0CuAeFSduD2 BuiQP5I3i+7XI3Ss9ZkJg2TmGiSxDyhG5Kdi3d2gQ25to/wfzmAilQgrtRnITmLTQtPs icrg== X-Gm-Message-State: AOJu0YxMrZbVnGclI5oSbXZxQGTFwhIdKM26aIq3rmDRce9tbblyF7y9 ogtye6jko+sJjeLwz12JoWqFwyrC05fXbB0H/bCxMEDRJME1LSvD7XwxVgSjSkP5utwqquwfVaA Engu7kXZgv28jMEPw6W1uHEaIbgf2TDi5QnsYboNu X-Gm-Gg: ASbGnctfsfmA1gli0QXIlo1c1lzvd0evxTYGLwhbmmSzeIqbFSZxaEVpoBjwQwq1I1L 0Q7ox3sUc119B0xmYWcgEooiaAbGsRqQYFYPm0BGQ4KEAzmlpd7sMOjGL1fxv7Du2L4pJDdirCs 4OYDNtaewcWD89kl1BCr/HiXl3QaPX5HU8ytP97lZw27Hqgz2UU1tQTg66lwud03DQ+nso4GSI1 e+ZbOK7dkaOHuFDf1ZS08F711Q4pqooDSsQXoBQ+hQbMpcWc4YdNCTywbJKgUwklrn5jgfoOiIq +Rf/+VObXVPiDaxH8zd1W45Z9n0egA== X-Google-Smtp-Source: AGHT+IHlKrKxAPo33nbmWhL9/a74n881IFPkxjZnbW19x4NRTD+xZXAYxhmTt7oQKfD0xoXwtwfiJfDoNpSJ X-Received: by 2002:a05:690c:9a02:b0:6f9:7356:4662 with SMTP id 00721157ae682-6fb1f199042mr36615167b3.16.1739371653813; Wed, 12 Feb 2025 06:47:33 -0800 (PST) Received: from postal.iol.unh.edu (postal.iol.unh.edu. [132.177.123.84]) by smtp-relay.gmail.com with ESMTPS id 00721157ae682-6f99fa9f903sm1814827b3.0.2025.02.12.06.47.33 (version=TLS1_2 cipher=ECDHE-ECDSA-AES128-GCM-SHA256 bits=128/128); Wed, 12 Feb 2025 06:47:33 -0800 (PST) X-Relaying-Domain: iol.unh.edu Date: Wed, 12 Feb 2025 06:47:33 -0800 (PST) Message-ID: <67acb485.050a0220.9a825.949dSMTPIN_ADDED_MISSING@mx.google.com> Received: from [172.17.0.3] (unknown [172.18.0.217]) by postal.iol.unh.edu (Postfix) with ESMTP id 5EA546052471; Wed, 12 Feb 2025 09:47:33 -0500 (EST) Subject: |SUCCESS| [GIT MASTER] 88e17c88943145bb956b5bf6059a8043dbd33a99 From: dpdklab@iol.unh.edu To: Test Report Cc: dpdk-test-reports@iol.unh.edu, Stephen Hemminger Content-Type: text/plain X-BeenThere: test-report@dpdk.org X-Mailman-Version: 2.1.29 Precedence: list List-Id: automatic DPDK test reports List-Unsubscribe: , List-Archive: List-Post: List-Help: List-Subscribe: , Errors-To: test-report-bounces@dpdk.org _Testing PASS_ Branch: dpdk-next-net 88e17c88943145bb956b5bf6059a8043dbd33a99 --> testing pass Upstream job id: ACVP-FIPS-testing#8890 Test environment and result as below: +--------------------+----------------------+----------------------+ | Environment | compressdev_zlib_pmd | dpdk_fips_validation | +====================+======================+======================+ | Ubuntu 22.04 (ARM) | PASS | SKIPPED | +--------------------+----------------------+----------------------+ | Ubuntu 22.04 | PASS | SKIPPED | +--------------------+----------------------+----------------------+ | Ubuntu 20.04 | SKIPPED | PASS | +--------------------+----------------------+----------------------+ Ubuntu 22.04 (ARM) Kernel: 5.15.0-97-generic Compiler: gcc gcc (Ubuntu 11.4.0-1ubuntu1~22.04) 11.4.0 Ubuntu 22.04 Kernel: 5.15.0-100-generic Compiler: gcc gcc (Ubuntu 11.4.0-1ubuntu1~22.04) 11.4.0 Ubuntu 20.04 Kernel: Depends on container host Compiler: gcc (Ubuntu 9.4.0-1ubuntu1~20.04.2) 9.4.0 To view detailed results, visit: https://lab.dpdk.org/results/dashboard/tarballs/32553/ UNH-IOL DPDK Community Lab To manage your email subscriptions, visit: https://lab.dpdk.org/results/dashboard/preferences/subscriptions/