From mboxrd@z Thu Jan 1 00:00:00 1970 Return-Path: Received: from mails.dpdk.org (mails.dpdk.org [217.70.189.124]) by inbox.dpdk.org (Postfix) with ESMTP id 51F4646204 for ; Wed, 12 Feb 2025 16:15:11 +0100 (CET) Received: from mails.dpdk.org (localhost [127.0.0.1]) by mails.dpdk.org (Postfix) with ESMTP id 343CD42789; Wed, 12 Feb 2025 16:15:11 +0100 (CET) Received: from mail-oa1-f97.google.com (mail-oa1-f97.google.com [209.85.160.97]) by mails.dpdk.org (Postfix) with ESMTP id 89C194111B for ; Wed, 12 Feb 2025 16:15:09 +0100 (CET) Received: by mail-oa1-f97.google.com with SMTP id 586e51a60fabf-2b86794e3acso2107310fac.3 for ; Wed, 12 Feb 2025 07:15:09 -0800 (PST) DKIM-Signature: v=1; a=rsa-sha256; c=relaxed/relaxed; d=iol.unh.edu; s=unh-iol; t=1739373308; x=1739978108; darn=dpdk.org; h=cc:to:from:subject:message-id:date:from:to:cc:subject:date :message-id:reply-to; bh=NY38TypKJXTPzl88Voua+YhHg/RR8R9aCFH1oKeWBqg=; b=b3Zde1uRVKHw8KVkR4AFFcYj+Kf/42aNQoHsl8v4SPHp3sTmV5FBjnqoWVr8vO8JuH zeV9q3WbMTef5LQ6VXoP7KXhaBYraFf7cqEBlha/f44Dtpj0R6LmBDxyZOSkIM8vSeJF lypQee469arKKy03s+Pd532dAYCHvmxvI27bk= X-Google-DKIM-Signature: v=1; a=rsa-sha256; c=relaxed/relaxed; d=1e100.net; s=20230601; t=1739373308; x=1739978108; h=cc:to:from:subject:message-id:date:x-gm-message-state:from:to:cc :subject:date:message-id:reply-to; bh=NY38TypKJXTPzl88Voua+YhHg/RR8R9aCFH1oKeWBqg=; b=oq+p0/d3Qp5f0wNbrRH3ZIgcSSSM90PVv+Kgoqqlohq74xv43n3MRbRhRizvgmrBWx OlSyCAdWKYDSb19OJAKUgqtuWHWnaa6ZE4881nJs8Tt2+9G0D5h9JRA0298QQ5P0+ijG 4JiIzeaOAIUGpTGYc4XdFpGLA5In3uu35yxqUiCw8K9nHgmuUo4EMYOQQnHzUCh9DO20 O83aGZgiWKds0ZwZoAqGvTjJQYFqeHsorjArWr78fGvphVw+xjRlLSpZHZU7ZZh66xCm hMOtuaIj6grYJosPZInnMUNaHkCTobHvOrRvXmoiQKACfRkjjmUI+6dHbzdM6lo8oxl6 SqNg== X-Gm-Message-State: AOJu0Yw/FLGtZrzdHXmg1Hjia9HS5hRzRBGj+3nccyqlda6o09m7hAFo PUe/BsYeCpIGg8MJwfw7EX+GDA2d5JtLzxXgl95Qij+/BgClGF7lxnMj/uhuSah4NYkHrhWZVOm TVCA8iRYDWD6udD5k3voUFQdOAiSCMGuquSrF+WKTLqJbHDx8fSf/hCVA X-Gm-Gg: ASbGncvw6aWeWOvGpST05tsjdv4MUvFzv9SBJcstUlxIBHu4vbeKa3REzBsIbh8WK4l 2JyNEmk7Ng8dkIQ0t+brwbYDf0cAC6GB/ziI1ghrUE/XKjtxWI8Ep+u2ku3xSM7vCEngEW6cBMb tepWNag6qxUNWO85j9L1gVTXzv+hclbrtGOK8LfkEihTmRNbfH9T6ujLfa+BFJKg+lhYaB0nQ0c kugqRuVvQctK/E0FyMhLW0vyyidzsdG6yT3BMPvgBBjTGu4BvwKA53L5OOCG1trh9ETJAf5ZdCi vycsn1T5Ln4AkJufkCC24rw4FaTmaA0JNTTbr1Qm4w== X-Google-Smtp-Source: AGHT+IGb4tSMSKVLEt12HiqEcb7p58SjV6GHlA9dAZUaPojUYQYIYsIttVymLqGjbfGkBxbJAg1YSU1PMRA7 X-Received: by 2002:a05:6870:ec88:b0:29e:8485:197b with SMTP id 586e51a60fabf-2b8d642f531mr2351649fac.2.1739373308663; Wed, 12 Feb 2025 07:15:08 -0800 (PST) Received: from postal.iol.unh.edu (postal.iol.unh.edu. [2606:4100:3880:1234::84]) by smtp-relay.gmail.com with ESMTPS id 586e51a60fabf-2b88d7f753dsm291928fac.31.2025.02.12.07.15.08 (version=TLS1_2 cipher=ECDHE-ECDSA-AES128-GCM-SHA256 bits=128/128); Wed, 12 Feb 2025 07:15:08 -0800 (PST) X-Relaying-Domain: iol.unh.edu Date: Wed, 12 Feb 2025 07:15:08 -0800 (PST) Message-ID: <67acbafc.050a0220.1f110e.fbffSMTPIN_ADDED_MISSING@mx.google.com> Received: from [172.17.0.3] (unknown [172.18.0.217]) by postal.iol.unh.edu (Postfix) with ESMTP id 3F08A6052471; Wed, 12 Feb 2025 10:15:08 -0500 (EST) Subject: |SUCCESS| [GIT MASTER] 8a0e2577c4c27fbf1e5624986cd401314bb3f35e From: dpdklab@iol.unh.edu To: Test Report Cc: dpdk-test-reports@iol.unh.edu, Bruce Richardson Content-Type: text/plain X-BeenThere: test-report@dpdk.org X-Mailman-Version: 2.1.29 Precedence: list List-Id: automatic DPDK test reports List-Unsubscribe: , List-Archive: List-Post: List-Help: List-Subscribe: , Errors-To: test-report-bounces@dpdk.org _Testing PASS_ Branch: dpdk-next-net-intel 8a0e2577c4c27fbf1e5624986cd401314bb3f35e --> testing pass Upstream job id: ACVP-FIPS-testing#8891 Test environment and result as below: +--------------------+----------------------+----------------------+ | Environment | compressdev_zlib_pmd | dpdk_fips_validation | +====================+======================+======================+ | Ubuntu 22.04 (ARM) | PASS | SKIPPED | +--------------------+----------------------+----------------------+ | Ubuntu 22.04 | PASS | SKIPPED | +--------------------+----------------------+----------------------+ | Ubuntu 20.04 | SKIPPED | PASS | +--------------------+----------------------+----------------------+ Ubuntu 22.04 (ARM) Kernel: 5.15.0-97-generic Compiler: gcc gcc (Ubuntu 11.4.0-1ubuntu1~22.04) 11.4.0 Ubuntu 22.04 Kernel: 5.15.0-100-generic Compiler: gcc gcc (Ubuntu 11.4.0-1ubuntu1~22.04) 11.4.0 Ubuntu 20.04 Kernel: Depends on container host Compiler: gcc (Ubuntu 9.4.0-1ubuntu1~20.04.2) 9.4.0 To view detailed results, visit: https://lab.dpdk.org/results/dashboard/tarballs/32554/ UNH-IOL DPDK Community Lab To manage your email subscriptions, visit: https://lab.dpdk.org/results/dashboard/preferences/subscriptions/