From mboxrd@z Thu Jan 1 00:00:00 1970 Return-Path: Received: from mails.dpdk.org (mails.dpdk.org [217.70.189.124]) by inbox.dpdk.org (Postfix) with ESMTP id 0DDD746204 for ; Wed, 12 Feb 2025 16:22:19 +0100 (CET) Received: from mails.dpdk.org (localhost [127.0.0.1]) by mails.dpdk.org (Postfix) with ESMTP id DBF254279D; Wed, 12 Feb 2025 16:22:18 +0100 (CET) Received: from mail-pl1-f225.google.com (mail-pl1-f225.google.com [209.85.214.225]) by mails.dpdk.org (Postfix) with ESMTP id F226D42789 for ; Wed, 12 Feb 2025 16:22:16 +0100 (CET) Received: by mail-pl1-f225.google.com with SMTP id d9443c01a7336-21f48ebaadfso119611855ad.2 for ; Wed, 12 Feb 2025 07:22:16 -0800 (PST) DKIM-Signature: v=1; a=rsa-sha256; c=relaxed/relaxed; d=iol.unh.edu; s=unh-iol; t=1739373736; x=1739978536; darn=dpdk.org; h=references:in-reply-to:cc:to:from:subject:message-id:date:from:to :cc:subject:date:message-id:reply-to; bh=oPip8XyyF4DObpLdBtGYEDMKdHlO74+EGrltrvqiLNM=; b=JxhzduzkCOtuRRsc4mwbuR1kSzA3Yuc9QGJybc6kCGIMTPVCyUdymQgSuvLJME/Vh1 mjYZBIdZ29a69p+AbmUQlj1DHiHw2eKaSukGuSP2bFzzujFq7C+tvekEO9cRtOtvFekW NhtjtlUM14rwYDG3fgFxxc+pUBSXo8cYiwcv4= X-Google-DKIM-Signature: v=1; a=rsa-sha256; c=relaxed/relaxed; d=1e100.net; s=20230601; t=1739373736; x=1739978536; h=references:in-reply-to:cc:to:from:subject:message-id:date :x-gm-message-state:from:to:cc:subject:date:message-id:reply-to; bh=oPip8XyyF4DObpLdBtGYEDMKdHlO74+EGrltrvqiLNM=; b=vOiUBWMmRv/QFdpT8XVHO6L6iEN+mN2BuvyGRuD5Tltp8yLOEYawH9Xx8HuDOeDawS 0QYLIuglucWPk4afHCSX5pm7QVIxPVSgas6IvULy2zdfFHalUt4h8G9JdGz09aOXREA0 ChnYPAQh6cm0YEi2oa1m0yRuyN+ukmeessA2kxKwSV7Xnr9tJZ8ec6UKEBnkoqoBMETT 4eAYbBl8hqJ4k7mrDyqjch8cGHESyiUZfPlZHv8DI+D2XDqZLVHjBi3c8NlJWfuHwiiJ oIkN9E/oCNyMsT9mM7RhrItM9YsDiIoc4F1Hh5TVGPEMw5Fo6YhtLAcJKRFGplXthP5T TIJQ== X-Gm-Message-State: AOJu0YwVJBx2lcBdvzhMMTgwD/JXLunQkh8qduzbKRMR172yBlMXPNeN aQxS3hppDhp1a8JTC3XF1H4yEjxMavUfM0j9WRwZqdTPl2sxyMBKVKOolIDfxM1FdBoswmUZ2R1 jaI9bCi1mR/I4xkmEK/Zc3PQu02ux9eUxuKnte0A+sGtvw8aFusIrY2t3 X-Gm-Gg: ASbGncvracmM7VxJhnKi8BsMkQtTpZBag3oC5T0lHl+yxaTWX67LiyVI6F8jgJtcOpf vb/wZKMFZDwnLJC6vJTabHlxOcE5JzjhPygpktbUhHu96X+D1zpy9YvKEDzMWLzh8jvhO/5sRlu 09FWG48t8saaGK8+l2KRiBTxJg+7y9fwdszcMdibPpHjr/5qNWfL2aZa637OmRUbnEnQhyfnpzl QDEr2WYrl0P3nrsQrqXaeNFfENibwBpqu4JR/hxpRERS+NP8pu7xJkx69SxD2K8+S8fiRZ2wjF/ tGAnlVS8vBfl8OcdbA2a3eDypD6okVCSJrmUzmTcYQ== X-Google-Smtp-Source: AGHT+IEDYyyna3WKZM4e8y0XayHxt110rqWHtSVacf0R9NpNRsBteXh7RenIpkRs2z6biuJD2tRdn1WTfbjL X-Received: by 2002:a17:902:f601:b0:21f:4144:a06f with SMTP id d9443c01a7336-220bbad659cmr52539025ad.13.1739373736092; Wed, 12 Feb 2025 07:22:16 -0800 (PST) Received: from postal.iol.unh.edu (postal.iol.unh.edu. [2606:4100:3880:1234::84]) by smtp-relay.gmail.com with ESMTPS id d9443c01a7336-21f3653b0absm7500825ad.34.2025.02.12.07.22.15 (version=TLS1_2 cipher=ECDHE-ECDSA-AES128-GCM-SHA256 bits=128/128); Wed, 12 Feb 2025 07:22:16 -0800 (PST) X-Relaying-Domain: iol.unh.edu Date: Wed, 12 Feb 2025 07:22:16 -0800 (PST) Message-ID: <67acbca8.170a0220.1388aa.73dcSMTPIN_ADDED_MISSING@mx.google.com> Received: from [172.17.0.3] (unknown [172.18.0.217]) by postal.iol.unh.edu (Postfix) with ESMTP id 2A3C76052471; Wed, 12 Feb 2025 10:22:15 -0500 (EST) Subject: |SUCCESS| pw151377 [PATCH] examples/l3fwd: adjust Tx burst size base From: dpdklab@iol.unh.edu To: Test Report Cc: dpdk-test-reports@iol.unh.edu In-Reply-To: <20250212045416.2393001-1-sivaprasad.tummala@amd.com> References: <20250212045416.2393001-1-sivaprasad.tummala@amd.com> Content-Type: text/plain X-BeenThere: test-report@dpdk.org X-Mailman-Version: 2.1.29 Precedence: list List-Id: automatic DPDK test reports List-Unsubscribe: , List-Archive: List-Post: List-Help: List-Subscribe: , Errors-To: test-report-bounces@dpdk.org Test-Label: iol-compile-arm64-testing Test-Status: SUCCESS http://dpdk.org/patch/151377 _Testing PASS_ Submitter: Sivaprasad Tummala Date: Wednesday, February 12 2025 04:54:16 DPDK git baseline: Repo:dpdk Branch: master CommitID:046cca99c3fd03bfb95d3e27a56aab40c2c8f45a 151377 --> testing pass Upstream job id: Generic-DPDK-Compile-Meson#360943 Test environment and result as below: +----------------------------------------+--------------------+ | Environment | dpdk_meson_compile | +========================================+====================+ | Ubuntu 20.04 ARM GCC Cross Compile | PASS | +----------------------------------------+--------------------+ | Ubuntu 20.04 ARM SVE | PASS | +----------------------------------------+--------------------+ | Debian 12 with MUSDK | PASS | +----------------------------------------+--------------------+ | Fedora 40 (ARM) | PASS | +----------------------------------------+--------------------+ | Fedora 40 (ARM Clang) | PASS | +----------------------------------------+--------------------+ | Fedora 41 (ARM) | PASS | +----------------------------------------+--------------------+ | Fedora 41 (ARM Clang) | PASS | +----------------------------------------+--------------------+ | Ubuntu 20.04 (ARM) | PASS | +----------------------------------------+--------------------+ | Ubuntu 22.04 (ARM) | PASS | +----------------------------------------+--------------------+ | Ubuntu 24.04 (ARM) | PASS | +----------------------------------------+--------------------+ | CentOS Stream 9 (ARM) | PASS | +----------------------------------------+--------------------+ | CentOS Stream 10 (ARM) | PASS | +----------------------------------------+--------------------+ | Debian 11 (Buster) (ARM) | PASS | +----------------------------------------+--------------------+ | Debian 12 (arm) | PASS | +----------------------------------------+--------------------+ | Ubuntu 20.04 ARM Clang Cross Compile | PASS | +----------------------------------------+--------------------+ | Ubuntu 20.04 aarch32 GCC Cross Compile | PASS | +----------------------------------------+--------------------+ | RHEL9 (ARM) | PASS | +----------------------------------------+--------------------+ Ubuntu 20.04 ARM GCC Cross Compile Kernel: Depends on container host Compiler: aarch64-linux-gnu-gcc (Ubuntu 9.4.0-1ubuntu1~20.04.2) 9.4.0 Ubuntu 20.04 ARM SVE Kernel: Depends on container host Compiler: gcc (Ubuntu 10.5.0-1ubuntu1~20.04) 10.5.0 Debian 12 with MUSDK Kernel: Depends on container host Compiler: gcc (Debian 12.2.0-14) 12.2.0 Fedora 40 (ARM) Kernel: Depends on container host Compiler: gcc 14.2.1 20240912 (Red Hat 14.2.1-3) Fedora 40 (ARM Clang) Kernel: Depends on container host Compiler: clang 18.1.8 (Fedora 18.1.8-1.fc40) Fedora 41 (ARM) Kernel: Depends on container host Compiler: gcc 14.2.1 20240912 (Red Hat 14.2.1-3) Fedora 41 (ARM Clang) Kernel: Depends on container host Compiler: clang 19.1.5 (Fedora 19.1.5-1.fc41) Ubuntu 20.04 (ARM) Kernel: Depends on container host Compiler: gcc (Ubuntu 9.4.0-1ubuntu1~20.04.2) 9.4.0 Ubuntu 22.04 (ARM) Kernel: Depends on container host Compiler: gcc (Ubuntu 11.4.0-1ubuntu1~22.04) 11.4.0 Ubuntu 24.04 (ARM) Kernel: Depends on container host Compiler: gcc (Ubuntu 13.3.0-6ubuntu2~24.04) 13.3.0 CentOS Stream 9 (ARM) Kernel: Depends on container host Compiler: gcc 11.5.0 20240719 (Red Hat 11.5.0-2) CentOS Stream 10 (ARM) Kernel: Depends on container host Compiler: gcc 14.2.1 20241104 (Red Hat 14.2.1-6) Debian 11 (Buster) (ARM) Kernel: Depends on container host Compiler: gcc (Debian 10.2.1-6) 10.2.1 20210110 Debian 12 (arm) Kernel: Depends on container host Compiler: gcc (Debian 12.2.0-14) 12.2.0 Ubuntu 20.04 ARM Clang Cross Compile Kernel: Depends on container host Compiler: clang 10.0.0-4ubuntu1 Ubuntu 20.04 aarch32 GCC Cross Compile Kernel: Depends on container host Compiler: gcc 9.4.0 RHEL9 (ARM) Kernel: Depends on container host Compiler: gcc 11.5.0 20240719 (Red Hat 11.5.0-2) To view detailed results, visit: https://lab.dpdk.org/results/dashboard/patchsets/32565/ UNH-IOL DPDK Community Lab To manage your email subscriptions, visit: https://lab.dpdk.org/results/dashboard/preferences/subscriptions/