From mboxrd@z Thu Jan 1 00:00:00 1970 Return-Path: Received: from mails.dpdk.org (mails.dpdk.org [217.70.189.124]) by inbox.dpdk.org (Postfix) with ESMTP id 8F75A46204 for ; Wed, 12 Feb 2025 16:37:18 +0100 (CET) Received: from mails.dpdk.org (localhost [127.0.0.1]) by mails.dpdk.org (Postfix) with ESMTP id 8CEA942707; Wed, 12 Feb 2025 16:37:18 +0100 (CET) Received: from mail-pl1-f226.google.com (mail-pl1-f226.google.com [209.85.214.226]) by mails.dpdk.org (Postfix) with ESMTP id 43445427E5 for ; Wed, 12 Feb 2025 16:37:17 +0100 (CET) Received: by mail-pl1-f226.google.com with SMTP id d9443c01a7336-220c92c857aso7456335ad.0 for ; Wed, 12 Feb 2025 07:37:17 -0800 (PST) DKIM-Signature: v=1; a=rsa-sha256; c=relaxed/relaxed; d=iol.unh.edu; s=unh-iol; t=1739374636; x=1739979436; darn=dpdk.org; h=cc:to:from:subject:message-id:date:from:to:cc:subject:date :message-id:reply-to; bh=mUE6+QHJaej2MPuEgWOkmXBKRu65JWDLngNHeM2xhhA=; b=XQb40LO72iCXrTZbX3ny1zT0SXXZb832Dvaj+VzgDiUWrtnOAHFDMq+N9GoMnwmfVf 6xd7zbgylY9lVMZ35gPipZ2lyhcfdj2nrD+gCwXotaFKHUgEdopjSIvp5Uoaf0pZy/9n j772k/9Vqhiz6U5iXzXkPUidAaul8QELnmzlU= X-Google-DKIM-Signature: v=1; a=rsa-sha256; c=relaxed/relaxed; d=1e100.net; s=20230601; t=1739374636; x=1739979436; h=cc:to:from:subject:message-id:date:x-gm-message-state:from:to:cc :subject:date:message-id:reply-to; bh=mUE6+QHJaej2MPuEgWOkmXBKRu65JWDLngNHeM2xhhA=; b=CIsFErdpkWfK5mch85BaxxVYwEZqDrlrHO4FZ055LeQNyYh+4Z7zthsSTpwuJgQsif S8h5/aT2HltyhL6WSbeNJaafBOvamUtj6p3yiy3YM2UvJEOtTQ2tJ68Q0qIrBA68Yw+K 6E1af8CpY8mJsGSxq3SKT0PYCYg8GEiJAR2bWSRIMspH4yGH7gDsk3V+xwKHgxXhKS+y 8rKXvKNnaVzZSmgWQFFh2duCxL5+58QfIVoIm2o63ZJR2Ao0/2BWf6T+t6mXweuZXC9y GJ/7riHQYDS+AR/IdXzNPmv9+pW7rZm1uzxQHhj6RSC0oeIyHoudMD0i6Rw3W82HpUyd EpqA== X-Gm-Message-State: AOJu0Yych8b84trB3uB8x6OEZx6ELsRHvitwk5AkrCtwbTaZAXg2MMI6 BgB3czZoBxkbjMabGnXPf9RQzPVjAiZEr8aULmD6O4BiOcuTUEIv9IfJVXtIUTN82jMIHm0jXxf WvXMwkmizeBf6Zth99/EPC80Wafgzocmu8aF18502ExVQ2MeelrPZuk8a X-Gm-Gg: ASbGncsM9HjF/MblpClha5GozOC2FyvBBRh3pUGjnn8jO5VvbT9yiLSj6kqrxii8McF 4GHmgInh2Dodjbny3wSFnrMAHPActhrGRjwrzuhxnmUS7ifCOb/cDctNsJciSDmirxWCe+ApWxe TL2D1107e6hy21gajBWn5KN6q4cENfJpJ31LSQ+CnvYBzom870LqvEOHc699hghaAkC5RcDj3ls CVcaNE3I2MEgd2dlhDP0UELe+tWLT0PylPIAThy7szYlZyuZSrKjZH1X2aCOTQOzJ/0jY63sPW8 dzIckIprqQeffMdyoW9qIaFvxaunPQdJVt7OIuNGVw== X-Google-Smtp-Source: AGHT+IGT0BYrxbwIFs8DXnUtJoajCXdZrdLG6h+XusEgrh9cbjFVHWwnb8JlLoBmTYjDwtSR6N1/YD+fSPIz X-Received: by 2002:a17:902:e88b:b0:21f:6f33:f96 with SMTP id d9443c01a7336-21fb6c054d9mr125256355ad.6.1739374636422; Wed, 12 Feb 2025 07:37:16 -0800 (PST) Received: from postal.iol.unh.edu (postal.iol.unh.edu. [2606:4100:3880:1234::84]) by smtp-relay.gmail.com with ESMTPS id d9443c01a7336-21f3689056asm7092955ad.119.2025.02.12.07.37.16 (version=TLS1_2 cipher=ECDHE-ECDSA-AES128-GCM-SHA256 bits=128/128); Wed, 12 Feb 2025 07:37:16 -0800 (PST) X-Relaying-Domain: iol.unh.edu Date: Wed, 12 Feb 2025 07:37:16 -0800 (PST) Message-ID: <67acc02c.170a0220.3c32b3.4f29SMTPIN_ADDED_MISSING@mx.google.com> Received: from [172.17.0.3] (unknown [172.18.0.217]) by postal.iol.unh.edu (Postfix) with ESMTP id 7680B6052471; Wed, 12 Feb 2025 10:37:15 -0500 (EST) Subject: |SUCCESS| [GIT MASTER] 8a0e2577c4c27fbf1e5624986cd401314bb3f35e From: dpdklab@iol.unh.edu To: Test Report Cc: dpdk-test-reports@iol.unh.edu, Bruce Richardson Content-Type: text/plain X-BeenThere: test-report@dpdk.org X-Mailman-Version: 2.1.29 Precedence: list List-Id: automatic DPDK test reports List-Unsubscribe: , List-Archive: List-Post: List-Help: List-Subscribe: , Errors-To: test-report-bounces@dpdk.org _Testing PASS_ Branch: dpdk-next-net-intel 8a0e2577c4c27fbf1e5624986cd401314bb3f35e --> testing pass Upstream job id: Generic-DPDK-Compile-Meson#361002 Test environment and result as below: +----------------------------------------+--------------------+ | Environment | dpdk_meson_compile | +========================================+====================+ | RHEL9 (ARM) | PASS | +----------------------------------------+--------------------+ | Ubuntu 20.04 ARM SVE | PASS | +----------------------------------------+--------------------+ | Ubuntu 20.04 ARM GCC Cross Compile | PASS | +----------------------------------------+--------------------+ | Fedora 40 (ARM Clang) | PASS | +----------------------------------------+--------------------+ | Fedora 40 (ARM) | PASS | +----------------------------------------+--------------------+ | Debian 12 with MUSDK | PASS | +----------------------------------------+--------------------+ | Ubuntu 20.04 (ARM) | PASS | +----------------------------------------+--------------------+ | Fedora 41 (ARM Clang) | PASS | +----------------------------------------+--------------------+ | Ubuntu 24.04 (ARM) | PASS | +----------------------------------------+--------------------+ | Ubuntu 22.04 (ARM) | PASS | +----------------------------------------+--------------------+ | CentOS Stream 9 (ARM) | PASS | +----------------------------------------+--------------------+ | CentOS Stream 10 (ARM) | PASS | +----------------------------------------+--------------------+ | Debian 11 (Buster) (ARM) | PASS | +----------------------------------------+--------------------+ | Debian 12 (arm) | PASS | +----------------------------------------+--------------------+ | Ubuntu 20.04 aarch32 GCC Cross Compile | PASS | +----------------------------------------+--------------------+ | Ubuntu 20.04 ARM Clang Cross Compile | PASS | +----------------------------------------+--------------------+ | Fedora 41 (ARM) | PASS | +----------------------------------------+--------------------+ RHEL9 (ARM) Kernel: Depends on container host Compiler: gcc 11.5.0 20240719 (Red Hat 11.5.0-2) Ubuntu 20.04 ARM SVE Kernel: Depends on container host Compiler: gcc (Ubuntu 10.5.0-1ubuntu1~20.04) 10.5.0 Ubuntu 20.04 ARM GCC Cross Compile Kernel: Depends on container host Compiler: aarch64-linux-gnu-gcc (Ubuntu 9.4.0-1ubuntu1~20.04.2) 9.4.0 Fedora 40 (ARM Clang) Kernel: Depends on container host Compiler: clang 18.1.8 (Fedora 18.1.8-1.fc40) Fedora 40 (ARM) Kernel: Depends on container host Compiler: gcc 14.2.1 20240912 (Red Hat 14.2.1-3) Debian 12 with MUSDK Kernel: Depends on container host Compiler: gcc (Debian 12.2.0-14) 12.2.0 Ubuntu 20.04 (ARM) Kernel: Depends on container host Compiler: gcc (Ubuntu 9.4.0-1ubuntu1~20.04.2) 9.4.0 Fedora 41 (ARM Clang) Kernel: Depends on container host Compiler: clang 19.1.5 (Fedora 19.1.5-1.fc41) Ubuntu 24.04 (ARM) Kernel: Depends on container host Compiler: gcc (Ubuntu 13.3.0-6ubuntu2~24.04) 13.3.0 Ubuntu 22.04 (ARM) Kernel: Depends on container host Compiler: gcc (Ubuntu 11.4.0-1ubuntu1~22.04) 11.4.0 CentOS Stream 9 (ARM) Kernel: Depends on container host Compiler: gcc 11.5.0 20240719 (Red Hat 11.5.0-2) CentOS Stream 10 (ARM) Kernel: Depends on container host Compiler: gcc 14.2.1 20241104 (Red Hat 14.2.1-6) Debian 11 (Buster) (ARM) Kernel: Depends on container host Compiler: gcc (Debian 10.2.1-6) 10.2.1 20210110 Debian 12 (arm) Kernel: Depends on container host Compiler: gcc (Debian 12.2.0-14) 12.2.0 Ubuntu 20.04 aarch32 GCC Cross Compile Kernel: Depends on container host Compiler: gcc 9.4.0 Ubuntu 20.04 ARM Clang Cross Compile Kernel: Depends on container host Compiler: clang 10.0.0-4ubuntu1 Fedora 41 (ARM) Kernel: Depends on container host Compiler: gcc 14.2.1 20240912 (Red Hat 14.2.1-3) To view detailed results, visit: https://lab.dpdk.org/results/dashboard/tarballs/32554/ UNH-IOL DPDK Community Lab To manage your email subscriptions, visit: https://lab.dpdk.org/results/dashboard/preferences/subscriptions/