automatic DPDK test reports
 help / color / mirror / Atom feed
From: dpdklab@iol.unh.edu
To: Test Report <test-report@dpdk.org>
Cc: dpdk-test-reports@iol.unh.edu
Subject: |SUCCESS| pw151434-151437 [PATCH] [v7,4/4] lib: change find device a
Date: Wed, 12 Feb 2025 10:19:40 -0800 (PST)	[thread overview]
Message-ID: <67ace63c.050a0220.6e6cd.9f10SMTPIN_ADDED_MISSING@mx.google.com> (raw)
In-Reply-To: <20250212163836.178976-4-shperetz@nvidia.com>

Test-Label: iol-abi-testing
Test-Status: SUCCESS
http://dpdk.org/patch/151437

_Testing PASS_

Submitter: Shani Peretz <shperetz@nvidia.com>
Date: Wednesday, February 12 2025 16:38:35 
DPDK git baseline: Repo:dpdk
  Branch: master
  CommitID:e5176f23ae8b31437c3e5eb875c81f95bf3a9942

151434-151437 --> testing pass

Upstream job id: Generic-DPDK-Compile-ABI#115937

Test environment and result as below:

+-------------------+----------+
|    Environment    | abi_test |
+===================+==========+
| CentOS Stream 9   | PASS     |
+-------------------+----------+
| CentOS Stream 10  | PASS     |
+-------------------+----------+
| Debian Bullseye   | PASS     |
+-------------------+----------+
| Debian 12         | PASS     |
+-------------------+----------+
| Fedora 41         | PASS     |
+-------------------+----------+
| Fedora 40 (Clang) | PASS     |
+-------------------+----------+
| Fedora 41 (Clang) | PASS     |
+-------------------+----------+
| Fedora 40         | PASS     |
+-------------------+----------+
| RHEL9             | PASS     |
+-------------------+----------+
| RHEL8             | PASS     |
+-------------------+----------+
| openSUSE Leap 15  | PASS     |
+-------------------+----------+
| Ubuntu 22.04      | PASS     |
+-------------------+----------+
| Ubuntu 24.04      | PASS     |
+-------------------+----------+


CentOS Stream 9
	Kernel: Depends on container host
	Compiler: gcc 11.5.0 20240719 (Red Hat 11.5.0-2)

CentOS Stream 10
	Kernel: Depends on container host
	Compiler: gcc 14.2.1 20241104 (Red Hat 14.2.1-6)

Debian Bullseye
	Kernel: Depends on container host
	Compiler: gcc (Debian 10.2.1-6) 10.2.1 20210110

Debian 12
	Kernel: Depends on container host
	Compiler: gcc (Debian 12.2.0-14) 12.2.0

Fedora 41
	Kernel: Depends on container host
	Compiler: gcc 14.2.1 20240912 (Red Hat 14.2.1-3)

Fedora 40 (Clang)
	Kernel: Depends on container host
	Compiler: clang 18.1.8 (Fedora 18.1.8-1.fc40)

Fedora 41 (Clang)
	Kernel: Depends on container host
	Compiler: clang 19.1.5 (Fedora 19.1.5-1.fc41)

Fedora 40
	Kernel: Depends on container host
	Compiler: gcc 14.2.1 20240912 (Red Hat 14.2.1-3)

RHEL9
	Kernel: Depends on container host
	Compiler: gcc 11.5.0 20240719 (Red Hat 11.5.0-2)

RHEL8
	Kernel: Depends on container host
	Compiler: gcc 8.5.0 20210514 (Red Hat 8.5.0-22)

openSUSE Leap 15
	Kernel: Depends on container host
	Compiler: gcc (SUSE Linux) 7.5.0

Ubuntu 22.04
	Kernel: Depends on container host
	Compiler: gcc (Ubuntu 11.4.0-1ubuntu1~22.04) 11.4.0

Ubuntu 24.04
	Kernel: Depends on container host
	Compiler: gcc (Ubuntu 13.3.0-6ubuntu2~24.04) 13.3.0

To view detailed results, visit:
https://lab.dpdk.org/results/dashboard/patchsets/32568/

UNH-IOL DPDK Community Lab

To manage your email subscriptions, visit: 
https://lab.dpdk.org/results/dashboard/preferences/subscriptions/

  parent reply	other threads:[~2025-02-12 18:19 UTC|newest]

Thread overview: 20+ messages / expand[flat|nested]  mbox.gz  Atom feed  top
     [not found] <20250212163836.178976-4-shperetz@nvidia.com>
2025-02-12 16:05 ` |SUCCESS| pw151434-151437 [PATCH v7 4/4] lib: change find device and cmp dev name functions qemudev
2025-02-12 16:10 ` qemudev
2025-02-12 16:41 ` |SUCCESS| pw151437 " checkpatch
2025-02-12 17:16 ` |PENDING| pw151434-151437 [PATCH] [v7,4/4] lib: change find device a dpdklab
2025-02-12 17:20 ` dpdklab
2025-02-12 17:28 ` |SUCCESS| " dpdklab
2025-02-12 17:29 ` |PENDING| " dpdklab
2025-02-12 17:37 ` |SUCCESS| " dpdklab
2025-02-12 17:39 ` dpdklab
2025-02-12 17:39 ` |PENDING| " dpdklab
2025-02-12 17:46 ` |SUCCESS| " dpdklab
2025-02-12 17:46 ` dpdklab
2025-02-12 17:59 ` dpdklab
2025-02-12 18:07 ` |SUCCESS| pw151437 [PATCH v7 4/4] lib: change find device and cmp dev name functions 0-day Robot
2025-02-12 18:19 ` dpdklab [this message]
2025-02-12 18:21 ` |SUCCESS| pw151434-151437 [PATCH] [v7,4/4] lib: change find device a dpdklab
2025-02-12 18:39 ` dpdklab
2025-02-12 19:04 ` dpdklab
2025-02-12 19:39 ` dpdklab
2025-02-12 21:24 ` dpdklab

Reply instructions:

You may reply publicly to this message via plain-text email
using any one of the following methods:

* Save the following mbox file, import it into your mail client,
  and reply-to-all from there: mbox

  Avoid top-posting and favor interleaved quoting:
  https://en.wikipedia.org/wiki/Posting_style#Interleaved_style

* Reply using the --to, --cc, and --in-reply-to
  switches of git-send-email(1):

  git send-email \
    --in-reply-to=67ace63c.050a0220.6e6cd.9f10SMTPIN_ADDED_MISSING@mx.google.com \
    --to=dpdklab@iol.unh.edu \
    --cc=dpdk-test-reports@iol.unh.edu \
    --cc=test-report@dpdk.org \
    /path/to/YOUR_REPLY

  https://kernel.org/pub/software/scm/git/docs/git-send-email.html

* If your mail client supports setting the In-Reply-To header
  via mailto: links, try the mailto: link
Be sure your reply has a Subject: header at the top and a blank line before the message body.
This is a public inbox, see mirroring instructions
for how to clone and mirror all data and code used for this inbox;
as well as URLs for NNTP newsgroup(s).