From mboxrd@z Thu Jan 1 00:00:00 1970 Return-Path: Received: from mails.dpdk.org (mails.dpdk.org [217.70.189.124]) by inbox.dpdk.org (Postfix) with ESMTP id 123E346205 for ; Wed, 12 Feb 2025 19:19:43 +0100 (CET) Received: from mails.dpdk.org (localhost [127.0.0.1]) by mails.dpdk.org (Postfix) with ESMTP id 2622342D55; Wed, 12 Feb 2025 19:19:42 +0100 (CET) Received: from mail-qv1-f98.google.com (mail-qv1-f98.google.com [209.85.219.98]) by mails.dpdk.org (Postfix) with ESMTP id 3D440400D5 for ; Wed, 12 Feb 2025 19:19:41 +0100 (CET) Received: by mail-qv1-f98.google.com with SMTP id 6a1803df08f44-6dd420f82e2so1025806d6.1 for ; Wed, 12 Feb 2025 10:19:41 -0800 (PST) DKIM-Signature: v=1; a=rsa-sha256; c=relaxed/relaxed; d=iol.unh.edu; s=unh-iol; t=1739384380; x=1739989180; darn=dpdk.org; h=references:in-reply-to:cc:to:from:subject:message-id:date:from:to :cc:subject:date:message-id:reply-to; bh=RfPWogoKGB8OnDThYyGLxcERgBIn0vz0B4oYKk2TKDI=; b=Wv4mn0JQ4HAOy6UUxzWFzhOZ860ZnE61ntUPhZ64cg79+rxZjDiOw7sgWnPKd9lA5+ hjMmAFJuE/XXAEciQxWjp/gzPDUleaSpXZhuedSbZnP3EOOsRCvZQraup4lRpuebyLII 82PMZFsLtFTzd3WTVATqXRpm6o8fIJn3PE6PI= X-Google-DKIM-Signature: v=1; a=rsa-sha256; c=relaxed/relaxed; d=1e100.net; s=20230601; t=1739384380; x=1739989180; h=references:in-reply-to:cc:to:from:subject:message-id:date :x-gm-message-state:from:to:cc:subject:date:message-id:reply-to; bh=RfPWogoKGB8OnDThYyGLxcERgBIn0vz0B4oYKk2TKDI=; b=sFnB9Qi9l7tMu93JxAOiNGjH6rwor0pnBz1lS6keS3uEG3jsj5UozH74WXdlxS3KEn L6vzEr895zgyYSAwGcw/lmNLyJ3S6e/oO/rmLx6spT5+huWyRbBu5YvQyt7IzOC7JrWE rLKbkBo8oYXQEUPCJZ74+RIpewsfi0MD+IUy+J+8rWSQ/cO5Oi4Sk8TNlsKERwl4ZHpN 0fSC7K5km0G9eE8p2afE5zrYmBC5Mj5XRHSRGFjbNvb9bgmW1Tt61fTJCwVolgzwbVXQ ch5Vk9G6ow/PBw0kGjaJLqXlcBC5xHJ4frMfYGaY78DNqCsvwVv8hagWgxTh2D2L7fvl kSUg== X-Gm-Message-State: AOJu0YwAg1vX3eh4Mgi2v10WS6lIOfuiSZ8wL7blJ8cRsKxLwc/u3TxW DlomIdeC48mVXnIJS9XRBX1F3zVNJIeB/AtCCbK1O5mtmBVUm+9bzBg7mJ/LQZimTjtDu/+LW/t D9eWaqday3N2raPro6GGkku9nOo9ADrcYTVnaGJ4l X-Gm-Gg: ASbGncuxoPYsZ03kunKdyMh0HlsxAD6/geMuCFpaB00Txr4x06Si6CKJzrKBwzJslvH EPVUGfB84gvsoYvFh+AU5wF48xBlY9aE/O7JXceNLA5oeRNsey0eDaXkD0EXiRKj0CYaoCT7uOT iIAsfvAIbudp6z7f52reJEHIwVHNcTySPtgxAoVy+xTLQr4qg+qE0UvhM+214B6jFqVWI6kxs6c c15zZBI9db55cMcOB6H3X9K8vrRjGnbYr80kGaty0JezBTT7FtlvPylCDkjZTCe6qzZdKJyvaTa GETSjLsvlx5gRnC3kq2a90TL4kQrsg== X-Google-Smtp-Source: AGHT+IExqPSvm6bvta2JoHAXXZUi3+kjyEtqTn943WEXLhe7/qaqnzfxrXyNPOdPUjnnx+2wUBdg4oxVZhDz X-Received: by 2002:ad4:5ce7:0:b0:6e4:3e6d:2854 with SMTP id 6a1803df08f44-6e65c15afccmr8123816d6.41.1739384380618; Wed, 12 Feb 2025 10:19:40 -0800 (PST) Received: from postal.iol.unh.edu (postal.iol.unh.edu. [132.177.123.84]) by smtp-relay.gmail.com with ESMTPS id 6a1803df08f44-6e45fa614d5sm4857986d6.48.2025.02.12.10.19.40 (version=TLS1_2 cipher=ECDHE-ECDSA-AES128-GCM-SHA256 bits=128/128); Wed, 12 Feb 2025 10:19:40 -0800 (PST) X-Relaying-Domain: iol.unh.edu Date: Wed, 12 Feb 2025 10:19:40 -0800 (PST) Message-ID: <67ace63c.050a0220.6e6cd.9f10SMTPIN_ADDED_MISSING@mx.google.com> Received: from [172.21.0.6] (unknown [172.18.0.240]) by postal.iol.unh.edu (Postfix) with ESMTP id 49EB26052471; Wed, 12 Feb 2025 13:19:40 -0500 (EST) Subject: |SUCCESS| pw151434-151437 [PATCH] [v7,4/4] lib: change find device a From: dpdklab@iol.unh.edu To: Test Report Cc: dpdk-test-reports@iol.unh.edu In-Reply-To: <20250212163836.178976-4-shperetz@nvidia.com> References: <20250212163836.178976-4-shperetz@nvidia.com> Content-Type: text/plain X-BeenThere: test-report@dpdk.org X-Mailman-Version: 2.1.29 Precedence: list List-Id: automatic DPDK test reports List-Unsubscribe: , List-Archive: List-Post: List-Help: List-Subscribe: , Errors-To: test-report-bounces@dpdk.org Test-Label: iol-abi-testing Test-Status: SUCCESS http://dpdk.org/patch/151437 _Testing PASS_ Submitter: Shani Peretz Date: Wednesday, February 12 2025 16:38:35 DPDK git baseline: Repo:dpdk Branch: master CommitID:e5176f23ae8b31437c3e5eb875c81f95bf3a9942 151434-151437 --> testing pass Upstream job id: Generic-DPDK-Compile-ABI#115937 Test environment and result as below: +-------------------+----------+ | Environment | abi_test | +===================+==========+ | CentOS Stream 9 | PASS | +-------------------+----------+ | CentOS Stream 10 | PASS | +-------------------+----------+ | Debian Bullseye | PASS | +-------------------+----------+ | Debian 12 | PASS | +-------------------+----------+ | Fedora 41 | PASS | +-------------------+----------+ | Fedora 40 (Clang) | PASS | +-------------------+----------+ | Fedora 41 (Clang) | PASS | +-------------------+----------+ | Fedora 40 | PASS | +-------------------+----------+ | RHEL9 | PASS | +-------------------+----------+ | RHEL8 | PASS | +-------------------+----------+ | openSUSE Leap 15 | PASS | +-------------------+----------+ | Ubuntu 22.04 | PASS | +-------------------+----------+ | Ubuntu 24.04 | PASS | +-------------------+----------+ CentOS Stream 9 Kernel: Depends on container host Compiler: gcc 11.5.0 20240719 (Red Hat 11.5.0-2) CentOS Stream 10 Kernel: Depends on container host Compiler: gcc 14.2.1 20241104 (Red Hat 14.2.1-6) Debian Bullseye Kernel: Depends on container host Compiler: gcc (Debian 10.2.1-6) 10.2.1 20210110 Debian 12 Kernel: Depends on container host Compiler: gcc (Debian 12.2.0-14) 12.2.0 Fedora 41 Kernel: Depends on container host Compiler: gcc 14.2.1 20240912 (Red Hat 14.2.1-3) Fedora 40 (Clang) Kernel: Depends on container host Compiler: clang 18.1.8 (Fedora 18.1.8-1.fc40) Fedora 41 (Clang) Kernel: Depends on container host Compiler: clang 19.1.5 (Fedora 19.1.5-1.fc41) Fedora 40 Kernel: Depends on container host Compiler: gcc 14.2.1 20240912 (Red Hat 14.2.1-3) RHEL9 Kernel: Depends on container host Compiler: gcc 11.5.0 20240719 (Red Hat 11.5.0-2) RHEL8 Kernel: Depends on container host Compiler: gcc 8.5.0 20210514 (Red Hat 8.5.0-22) openSUSE Leap 15 Kernel: Depends on container host Compiler: gcc (SUSE Linux) 7.5.0 Ubuntu 22.04 Kernel: Depends on container host Compiler: gcc (Ubuntu 11.4.0-1ubuntu1~22.04) 11.4.0 Ubuntu 24.04 Kernel: Depends on container host Compiler: gcc (Ubuntu 13.3.0-6ubuntu2~24.04) 13.3.0 To view detailed results, visit: https://lab.dpdk.org/results/dashboard/patchsets/32568/ UNH-IOL DPDK Community Lab To manage your email subscriptions, visit: https://lab.dpdk.org/results/dashboard/preferences/subscriptions/