From mboxrd@z Thu Jan 1 00:00:00 1970 Return-Path: Received: from mails.dpdk.org (mails.dpdk.org [217.70.189.124]) by inbox.dpdk.org (Postfix) with ESMTP id 5F9B046205 for ; Wed, 12 Feb 2025 19:39:42 +0100 (CET) Received: from mails.dpdk.org (localhost [127.0.0.1]) by mails.dpdk.org (Postfix) with ESMTP id 51B9742D55; Wed, 12 Feb 2025 19:39:42 +0100 (CET) Received: from mail-yw1-f227.google.com (mail-yw1-f227.google.com [209.85.128.227]) by mails.dpdk.org (Postfix) with ESMTP id 68336400D5 for ; Wed, 12 Feb 2025 19:39:41 +0100 (CET) Received: by mail-yw1-f227.google.com with SMTP id 00721157ae682-6f768e9be1aso10533427b3.0 for ; Wed, 12 Feb 2025 10:39:41 -0800 (PST) DKIM-Signature: v=1; a=rsa-sha256; c=relaxed/relaxed; d=iol.unh.edu; s=unh-iol; t=1739385581; x=1739990381; darn=dpdk.org; h=references:in-reply-to:cc:to:from:subject:message-id:date:from:to :cc:subject:date:message-id:reply-to; bh=1LQbk9SjkF1f6PqV8n21ZSm3l5jIjr7jhUv5NBYirQk=; b=N0dLt+KZG/upEF0o09B8XcuErqFCMqNLnmT7gSTTt+vUMNKQJT9C3g59eNLmJXRY7k BNRXcyi5SNdvj3X5ooEWZyKAQkxpCVZ48NuG3Voydmeh4bqXeuJv6M7Y4pDDGwpdxNmM 50pSTVB8SDpsSLjhqO1j+W/WebXZsfJw2XbyI= X-Google-DKIM-Signature: v=1; a=rsa-sha256; c=relaxed/relaxed; d=1e100.net; s=20230601; t=1739385581; x=1739990381; h=references:in-reply-to:cc:to:from:subject:message-id:date :x-gm-message-state:from:to:cc:subject:date:message-id:reply-to; bh=1LQbk9SjkF1f6PqV8n21ZSm3l5jIjr7jhUv5NBYirQk=; b=nn/Pwa8NOblF6CMtJajIf2FLV2d2PEvJhxzXdc5yQBouI7qOiwi+HLs2zhKVT33xaA SUXOp0VhuHDfssnmhh+cPo4PoYI1S2wwa5AV6vehSdql+QixXmOa0IkwZ9B+HMLqbw0C 63or1R4eb3ujoxjEKlbXPs17FcrSXmL+6XotZyX7ye05NJ9yC6zNa0YMS2CdRxZtsBbD ov7bzSzX8OlcqkvaBEtpQVLiZHCa/h0uPUI0+dSKgTRgVUGixzKARsHJQy8rf0dOMYX7 dTytgs7yBr5GePvFs0hVexSLYHJFPNU7UtCZgF3zCI3uu16Wy1Bkz/vn+apGkDgbN6Yk E8BQ== X-Gm-Message-State: AOJu0Yw93HRJs3pNJK1TqUmP+cWACADD3i1aZQhHjeC/+738bzX6idzL 3B8WEfQONoWn8gVhLNLJ7FFytw+2JIwsTyyZ5vCfcJ3ubg4FNd31MUR0Upw6BXyJwJpCrxLYXZn C4HFhkvyWp7g/mIRZVdCus7Co+74Cuq6zGnm+jSk+uXDthFVQskSphM5H X-Gm-Gg: ASbGncswQf+tYfNEf8xIcThTbO0LR4tZUbuOB4kbB60JE5U2CJy4Bcygx+oIxZpVd83 5RfV+jLJaUtxR1QSWX6v6NipU7YRQw6kttmNB+ma/X/XeI3VCUdorWamb7XUi0Ry+gIPnWkXoUS ONMX8abZpMwTLWCjZ3RMtQ0KEkryi0AqeI46B7osSKS77hGMRwuRHqF+iJrcAod2dbxj5WKLDJr naLbK4GBuxzFtElrGyQNdyFDseqNXe0pDEGRRolKKHtg6+Tspf3NMKeDKrb54lfRhRA99PxrSL8 xqUvUuyJ92e4MUStNEAZu1kwXVxdphSX6OW5TD97ew== X-Google-Smtp-Source: AGHT+IFHcraF8gdXmjW5DDsySc+Lzj5HEa9RyTnjuCg8nnDCniVs0hQJ0jY7EwdXh8j/ZpbIf/WtKGKDrytd X-Received: by 2002:a05:690c:368f:b0:6fa:fd85:a2b6 with SMTP id 00721157ae682-6fb33d097e4mr207187b3.13.1739385580744; Wed, 12 Feb 2025 10:39:40 -0800 (PST) Received: from postal.iol.unh.edu (postal.iol.unh.edu. [2606:4100:3880:1234::84]) by smtp-relay.gmail.com with ESMTPS id 00721157ae682-6f99fd60df3sm1698307b3.30.2025.02.12.10.39.40 (version=TLS1_2 cipher=ECDHE-ECDSA-AES128-GCM-SHA256 bits=128/128); Wed, 12 Feb 2025 10:39:40 -0800 (PST) X-Relaying-Domain: iol.unh.edu Date: Wed, 12 Feb 2025 10:39:40 -0800 (PST) Message-ID: <67aceaec.050a0220.98749.936cSMTPIN_ADDED_MISSING@mx.google.com> Received: from [172.21.0.6] (unknown [172.18.0.240]) by postal.iol.unh.edu (Postfix) with ESMTP id 66FF26052471; Wed, 12 Feb 2025 13:39:40 -0500 (EST) Subject: |SUCCESS| pw151434-151437 [PATCH] [v7,4/4] lib: change find device a From: dpdklab@iol.unh.edu To: Test Report Cc: dpdk-test-reports@iol.unh.edu In-Reply-To: <20250212163836.178976-4-shperetz@nvidia.com> References: <20250212163836.178976-4-shperetz@nvidia.com> Content-Type: text/plain X-BeenThere: test-report@dpdk.org X-Mailman-Version: 2.1.29 Precedence: list List-Id: automatic DPDK test reports List-Unsubscribe: , List-Archive: List-Post: List-Help: List-Subscribe: , Errors-To: test-report-bounces@dpdk.org Test-Label: iol-unit-amd64-testing Test-Status: SUCCESS http://dpdk.org/patch/151437 _Testing PASS_ Submitter: Shani Peretz Date: Wednesday, February 12 2025 16:38:35 DPDK git baseline: Repo:dpdk Branch: master CommitID:e5176f23ae8b31437c3e5eb875c81f95bf3a9942 151434-151437 --> testing pass Upstream job id: Generic-Unit-Test-DPDK#314437 Test environment and result as below: +---------------------+----------------+ | Environment | dpdk_unit_test | +=====================+================+ | Debian Bullseye | PASS | +---------------------+----------------+ | Fedora 40 | PASS | +---------------------+----------------+ | CentOS Stream 10 | PASS | +---------------------+----------------+ | CentOS Stream 9 | PASS | +---------------------+----------------+ | Ubuntu 20.04 | PASS | +---------------------+----------------+ | Debian 12 | PASS | +---------------------+----------------+ | Fedora 41 | PASS | +---------------------+----------------+ | RHEL9 | PASS | +---------------------+----------------+ | Fedora 41 (Clang) | PASS | +---------------------+----------------+ | RHEL8 | PASS | +---------------------+----------------+ | Fedora 40 (Clang) | PASS | +---------------------+----------------+ | Ubuntu 22.04 | PASS | +---------------------+----------------+ | Ubuntu 24.04 | PASS | +---------------------+----------------+ | Windows Server 2022 | PASS | +---------------------+----------------+ Debian Bullseye Kernel: Depends on container host Compiler: gcc (Debian 10.2.1-6) 10.2.1 20210110 Fedora 40 Kernel: Depends on container host Compiler: gcc 14.2.1 20240912 (Red Hat 14.2.1-3) CentOS Stream 10 Kernel: Depends on container host Compiler: gcc 14.2.1 20241104 (Red Hat 14.2.1-6) CentOS Stream 9 Kernel: Depends on container host Compiler: gcc 11.5.0 20240719 (Red Hat 11.5.0-2) Ubuntu 20.04 Kernel: Depends on container host Compiler: gcc (Ubuntu 9.4.0-1ubuntu1~20.04.2) 9.4.0 Debian 12 Kernel: Depends on container host Compiler: gcc (Debian 12.2.0-14) 12.2.0 Fedora 41 Kernel: Depends on container host Compiler: gcc 14.2.1 20240912 (Red Hat 14.2.1-3) RHEL9 Kernel: Depends on container host Compiler: gcc 11.5.0 20240719 (Red Hat 11.5.0-2) Fedora 41 (Clang) Kernel: Depends on container host Compiler: clang 19.1.5 (Fedora 19.1.5-1.fc41) RHEL8 Kernel: Depends on container host Compiler: gcc 8.5.0 20210514 (Red Hat 8.5.0-22) Fedora 40 (Clang) Kernel: Depends on container host Compiler: clang 18.1.8 (Fedora 18.1.8-1.fc40) Ubuntu 22.04 Kernel: Depends on container host Compiler: gcc (Ubuntu 11.4.0-1ubuntu1~22.04) 11.4.0 Ubuntu 24.04 Kernel: Depends on container host Compiler: gcc (Ubuntu 13.3.0-6ubuntu2~24.04) 13.3.0 Windows Server 2022 Kernel: 10.0.20348.2031 Compiler: clang 15.0.7, gcc 14.1.0 (MinGW), and MSVC VS 19.39.33521 To view detailed results, visit: https://lab.dpdk.org/results/dashboard/patchsets/32568/ UNH-IOL DPDK Community Lab To manage your email subscriptions, visit: https://lab.dpdk.org/results/dashboard/preferences/subscriptions/