From mboxrd@z Thu Jan 1 00:00:00 1970 Return-Path: Received: from mails.dpdk.org (mails.dpdk.org [217.70.189.124]) by inbox.dpdk.org (Postfix) with ESMTP id AE30F46205 for ; Wed, 12 Feb 2025 20:04:34 +0100 (CET) Received: from mails.dpdk.org (localhost [127.0.0.1]) by mails.dpdk.org (Postfix) with ESMTP id 7BF1E42D55; Wed, 12 Feb 2025 20:04:34 +0100 (CET) Received: from mail-pj1-f99.google.com (mail-pj1-f99.google.com [209.85.216.99]) by mails.dpdk.org (Postfix) with ESMTP id 992A1400D5 for ; Wed, 12 Feb 2025 20:04:33 +0100 (CET) Received: by mail-pj1-f99.google.com with SMTP id 98e67ed59e1d1-2fa7465baceso283968a91.0 for ; Wed, 12 Feb 2025 11:04:33 -0800 (PST) DKIM-Signature: v=1; a=rsa-sha256; c=relaxed/relaxed; d=iol.unh.edu; s=unh-iol; t=1739387073; x=1739991873; darn=dpdk.org; h=references:in-reply-to:cc:to:from:subject:message-id:date:from:to :cc:subject:date:message-id:reply-to; bh=aN9DkR9TffgLkVWXTXy3CEMffTrSjh5gYzHr8ugD0CI=; b=ghM2BPPgP/fhoV53NUd5WxOJplS6yoH4wZUVukuGv7f3lYNTdJLe4OABV58gWiTTyD m6Rs4316XVfLQbBDPZxnej4h03CoPgnvsH9MMiznPRVWpGaB3p7R7T9JLwchO/rzTS1l bTnlMwZccpMX3RdKRCVSGuiCfZhYlOryC3IoQ= X-Google-DKIM-Signature: v=1; a=rsa-sha256; c=relaxed/relaxed; d=1e100.net; s=20230601; t=1739387073; x=1739991873; h=references:in-reply-to:cc:to:from:subject:message-id:date :x-gm-message-state:from:to:cc:subject:date:message-id:reply-to; bh=aN9DkR9TffgLkVWXTXy3CEMffTrSjh5gYzHr8ugD0CI=; b=AvyGufrt4T8UgZ7Y4dk7y03CA5H8o9f78qxREw5SW6waXiL2VTDqatGWcHeRWCz9g3 8IseJH5ImrLifa+7gED5hGOyv4rJGpO6VlT1qzBfkW65zqXlWhrv0hQF1xjjt0BqUkDk qFLUL95+d3Q/pVK7paY4YtVsKa5csxsl1DWIcPiUOy1nBy7mtJdsiCJI0x5HXpfZQJlZ PmidqE1vtXMopJ4Kdbv70iNJPHzpZtPhs3ESufjd+mkdf4Eyw7eZPfLWBFb73rQtuQFS X7C2g1XHLjw6L+lQ06lPYML99aTQtjYdCIhXjfKP5TQZXDzTzsjFFFjiUFPOkCQMlfVD 0nDA== X-Gm-Message-State: AOJu0YxY56CMgk6A//Jyxw/EZtaqbAkyvFZvbSL81wGlQWfvTslYP0sU 4FlP3fhUX9/KsSrZJguKyK0dUMqluk5BYxjIRazvTf+mzCQFccdhfrOk9egL6OxXlJJ4h010xm8 5P2qRPjGavQNQQFN3V8otrHRzFiGIxcEA8fhfvleG X-Gm-Gg: ASbGncszHsdWhcl6lWyAc/N1YBgiFk1v7qW38gg5XFqD2UVkbPCAaK1BNiMd7jZge9/ +4ccrjQ13b2F/Uw7bxqTbzeWhtB6pJ1JQO7TQKYXSWU8MajUXgJGYS7Am0MiLQ1m6HPcsRMu6hC b2HAlvd0d7pqOJtOLTR2AHZzhDMN0vJufG/y5x5NLhJp62kIGsdgw2QjW+hLvnrfp2Sqj1toQsX Px32Lk6iVR+Jp7zh1WXr57s84d+TZgnJnLKSbu0sg7+iyLLrw40LtmhRwUeEf2s0yO74C3qB4tc Wp4wJzecoyHPs4aULLZQ2LgChqiWpA== X-Google-Smtp-Source: AGHT+IGqXUE0xp6Xm9/3S1VxileUvjNIK8ZpqrBiagNP6JFAuHrYTRDMmgISLJ8EIP9f72trPzRNXbtmPG7M X-Received: by 2002:a17:90b:3b8b:b0:2ee:f687:6acb with SMTP id 98e67ed59e1d1-2fc0e2c0d22mr510061a91.13.1739387072670; Wed, 12 Feb 2025 11:04:32 -0800 (PST) Received: from postal.iol.unh.edu (postal.iol.unh.edu. [132.177.123.84]) by smtp-relay.gmail.com with ESMTPS id 98e67ed59e1d1-2fbf989b8f2sm125517a91.3.2025.02.12.11.04.32 (version=TLS1_2 cipher=ECDHE-ECDSA-AES128-GCM-SHA256 bits=128/128); Wed, 12 Feb 2025 11:04:32 -0800 (PST) X-Relaying-Domain: iol.unh.edu Date: Wed, 12 Feb 2025 11:04:32 -0800 (PST) Message-ID: <67acf0c0.170a0220.ed8df.8272SMTPIN_ADDED_MISSING@mx.google.com> Received: from [172.21.0.6] (unknown [172.18.0.240]) by postal.iol.unh.edu (Postfix) with ESMTP id 2153D6052471; Wed, 12 Feb 2025 14:04:32 -0500 (EST) Subject: |SUCCESS| pw151434-151437 [PATCH] [v7,4/4] lib: change find device a From: dpdklab@iol.unh.edu To: Test Report Cc: dpdk-test-reports@iol.unh.edu In-Reply-To: <20250212163836.178976-4-shperetz@nvidia.com> References: <20250212163836.178976-4-shperetz@nvidia.com> Content-Type: text/plain X-BeenThere: test-report@dpdk.org X-Mailman-Version: 2.1.29 Precedence: list List-Id: automatic DPDK test reports List-Unsubscribe: , List-Archive: List-Post: List-Help: List-Subscribe: , Errors-To: test-report-bounces@dpdk.org Test-Label: iol-compile-amd64-testing Test-Status: SUCCESS http://dpdk.org/patch/151437 _Testing PASS_ Submitter: Shani Peretz Date: Wednesday, February 12 2025 16:38:35 DPDK git baseline: Repo:dpdk Branch: master CommitID:e5176f23ae8b31437c3e5eb875c81f95bf3a9942 151434-151437 --> testing pass Upstream job id: Generic-DPDK-Compile-Meson#361043 Test environment and result as below: +---------------------+--------------------+-------------------+------------------+-------------------------+-------------------+----------------------+ | Environment | dpdk_meson_compile | dpdk_compile_spdk | dpdk_compile_ovs | dpdk_llvm_clang_compile | dpdk_msvc_compile | dpdk_mingw64_compile | +=====================+====================+===================+==================+=========================+===================+======================+ | Debian Bullseye | PASS | PASS | SKIPPED | SKIPPED | SKIPPED | SKIPPED | +---------------------+--------------------+-------------------+------------------+-------------------------+-------------------+----------------------+ | CentOS Stream 9 | PASS | PASS | SKIPPED | SKIPPED | SKIPPED | SKIPPED | +---------------------+--------------------+-------------------+------------------+-------------------------+-------------------+----------------------+ | CentOS Stream 10 | PASS | SKIPPED | SKIPPED | SKIPPED | SKIPPED | SKIPPED | +---------------------+--------------------+-------------------+------------------+-------------------------+-------------------+----------------------+ | Fedora 41 | PASS | PASS | PASS | SKIPPED | SKIPPED | SKIPPED | +---------------------+--------------------+-------------------+------------------+-------------------------+-------------------+----------------------+ | Ubuntu 22.04 | PASS | PASS | SKIPPED | SKIPPED | SKIPPED | SKIPPED | +---------------------+--------------------+-------------------+------------------+-------------------------+-------------------+----------------------+ | Ubuntu 20.04 | PASS | SKIPPED | SKIPPED | SKIPPED | SKIPPED | SKIPPED | +---------------------+--------------------+-------------------+------------------+-------------------------+-------------------+----------------------+ | Fedora 40 | PASS | PASS | SKIPPED | SKIPPED | SKIPPED | SKIPPED | +---------------------+--------------------+-------------------+------------------+-------------------------+-------------------+----------------------+ | Debian 12 | PASS | PASS | SKIPPED | SKIPPED | SKIPPED | SKIPPED | +---------------------+--------------------+-------------------+------------------+-------------------------+-------------------+----------------------+ | Fedora 40 (Clang) | PASS | PASS | SKIPPED | SKIPPED | SKIPPED | SKIPPED | +---------------------+--------------------+-------------------+------------------+-------------------------+-------------------+----------------------+ | openSUSE Leap 15 | PASS | SKIPPED | SKIPPED | SKIPPED | SKIPPED | SKIPPED | +---------------------+--------------------+-------------------+------------------+-------------------------+-------------------+----------------------+ | RHEL9 | PASS | SKIPPED | SKIPPED | SKIPPED | SKIPPED | SKIPPED | +---------------------+--------------------+-------------------+------------------+-------------------------+-------------------+----------------------+ | Ubuntu 24.04 | PASS | PASS | PASS | SKIPPED | SKIPPED | SKIPPED | +---------------------+--------------------+-------------------+------------------+-------------------------+-------------------+----------------------+ | RHEL8 | PASS | SKIPPED | SKIPPED | SKIPPED | SKIPPED | SKIPPED | +---------------------+--------------------+-------------------+------------------+-------------------------+-------------------+----------------------+ | Fedora 41 (Clang) | PASS | PASS | PASS | SKIPPED | SKIPPED | SKIPPED | +---------------------+--------------------+-------------------+------------------+-------------------------+-------------------+----------------------+ | Alpine | PASS | SKIPPED | SKIPPED | SKIPPED | SKIPPED | SKIPPED | +---------------------+--------------------+-------------------+------------------+-------------------------+-------------------+----------------------+ | FreeBSD 13.4 | PASS | SKIPPED | SKIPPED | SKIPPED | SKIPPED | SKIPPED | +---------------------+--------------------+-------------------+------------------+-------------------------+-------------------+----------------------+ | FreeBSD 14.2 | PASS | SKIPPED | SKIPPED | SKIPPED | SKIPPED | SKIPPED | +---------------------+--------------------+-------------------+------------------+-------------------------+-------------------+----------------------+ | Windows Server 2022 | SKIPPED | SKIPPED | SKIPPED | PASS | PASS | PASS | +---------------------+--------------------+-------------------+------------------+-------------------------+-------------------+----------------------+ Debian Bullseye Kernel: Depends on container host Compiler: gcc (Debian 10.2.1-6) 10.2.1 20210110 CentOS Stream 9 Kernel: Depends on container host Compiler: gcc 11.5.0 20240719 (Red Hat 11.5.0-2) CentOS Stream 10 Kernel: Depends on container host Compiler: gcc 14.2.1 20241104 (Red Hat 14.2.1-6) Fedora 41 Kernel: Depends on container host Compiler: gcc 14.2.1 20240912 (Red Hat 14.2.1-3) Ubuntu 22.04 Kernel: Depends on container host Compiler: gcc (Ubuntu 11.4.0-1ubuntu1~22.04) 11.4.0 Ubuntu 20.04 Kernel: Depends on container host Compiler: gcc (Ubuntu 9.4.0-1ubuntu1~20.04.2) 9.4.0 Fedora 40 Kernel: Depends on container host Compiler: gcc 14.2.1 20240912 (Red Hat 14.2.1-3) Debian 12 Kernel: Depends on container host Compiler: gcc (Debian 12.2.0-14) 12.2.0 Fedora 40 (Clang) Kernel: Depends on container host Compiler: clang 18.1.8 (Fedora 18.1.8-1.fc40) openSUSE Leap 15 Kernel: Depends on container host Compiler: gcc (SUSE Linux) 7.5.0 RHEL9 Kernel: Depends on container host Compiler: gcc 11.5.0 20240719 (Red Hat 11.5.0-2) Ubuntu 24.04 Kernel: Depends on container host Compiler: gcc (Ubuntu 13.3.0-6ubuntu2~24.04) 13.3.0 RHEL8 Kernel: Depends on container host Compiler: gcc 8.5.0 20210514 (Red Hat 8.5.0-22) Fedora 41 (Clang) Kernel: Depends on container host Compiler: clang 19.1.5 (Fedora 19.1.5-1.fc41) Alpine Kernel: Depends on container host Compiler: gcc (Alpine 14.2.0) 14.2.0 FreeBSD 13.4 Kernel: 13.4-RELEASE-p1 Compiler: clang 18.1.6 FreeBSD 14.2 Kernel: 14.2-RELEASE Compiler: clang 18.1.6 Windows Server 2022 Kernel: 10.0.20348.2031 Compiler: clang 15.0.7, gcc 14.1.0 (MinGW), and MSVC VS 19.39.33521 To view detailed results, visit: https://lab.dpdk.org/results/dashboard/patchsets/32568/ UNH-IOL DPDK Community Lab To manage your email subscriptions, visit: https://lab.dpdk.org/results/dashboard/preferences/subscriptions/