From mboxrd@z Thu Jan 1 00:00:00 1970 Return-Path: Received: from mails.dpdk.org (mails.dpdk.org [217.70.189.124]) by inbox.dpdk.org (Postfix) with ESMTP id CB95E46205 for ; Wed, 12 Feb 2025 20:37:38 +0100 (CET) Received: from mails.dpdk.org (localhost [127.0.0.1]) by mails.dpdk.org (Postfix) with ESMTP id A33E042D55; Wed, 12 Feb 2025 20:37:38 +0100 (CET) Received: from mail-pl1-f226.google.com (mail-pl1-f226.google.com [209.85.214.226]) by mails.dpdk.org (Postfix) with ESMTP id 9ABC5400D5 for ; Wed, 12 Feb 2025 20:37:36 +0100 (CET) Received: by mail-pl1-f226.google.com with SMTP id d9443c01a7336-21f40deb941so766655ad.2 for ; Wed, 12 Feb 2025 11:37:36 -0800 (PST) DKIM-Signature: v=1; a=rsa-sha256; c=relaxed/relaxed; d=iol.unh.edu; s=unh-iol; t=1739389056; x=1739993856; darn=dpdk.org; h=cc:to:from:subject:message-id:date:from:to:cc:subject:date :message-id:reply-to; bh=m6S4rZQN/6vBmhy5URO9jG3WYJaPm+V+R2p53yQBmdg=; b=HQwu56G/IrzeI5KFjmca/eKYfuWFBadHh16uXnv44lKa3Bf0m2ghmFUIlMDJGAZnOb feZuh1yrtsOu3RRswXkBqLtMESJXozGyDhyANh+ueZvP7WLatEVQHRX+QhaSh2AMsifv LKREJAlR42rzDu6MXO4dEVPlH1vL+uQaihRSg= X-Google-DKIM-Signature: v=1; a=rsa-sha256; c=relaxed/relaxed; d=1e100.net; s=20230601; t=1739389056; x=1739993856; h=cc:to:from:subject:message-id:date:x-gm-message-state:from:to:cc :subject:date:message-id:reply-to; bh=m6S4rZQN/6vBmhy5URO9jG3WYJaPm+V+R2p53yQBmdg=; b=ZUQHopw6q6HhML3h+Ve8Y6c6jaMjqkVyddhtfxsY4mTy4MdJs4cb7/Z3YhH7+rHPyT Fcc8ANb5AjteU4cyqcizNbanSifi3ei/k49u/jR7v00cbkxL2ZAzwUiOGbOGuX0dAroU BGPv4oO8OcqDl//IEvZj0grnqqZoJrh9pCFMMvAu7VXcB1JqHveoPerhfMujP5dCuo10 L2JzAcZUbIKFdYy5rtXh/qW8Co0ndTThin/joLV1FTgQ26gVqeRozg28+K+HR1dI9YBm Romo1xgCxAOKAdUV/o1KMMH6tbJ50quK1tenzxZ2xEfiS7aR/5PFu1PqbAegb8KvJCcH 34qQ== X-Gm-Message-State: AOJu0Yz1xwju+4NJ2o3YHjqe0FJ11nAGvc/nhyr72D0cIvIFUNqd/o0d AJitIzm1wHRGmhb4qk4Ssb3NyglbYoZoFv2Q6TUeL2zSxuIAB0UL2WXh9ebuEVZn7jennUZA5cw i5CGQo7HwoKq3hMQJcxFy7MwQFEj07J2X X-Gm-Gg: ASbGncssE19SblWTKchv9xfdqrGEQAIaGzWnE6zj4/MCFuAqzJzhgVN9obqqVAogiZh o853ISvejddwnJSKmEedeIOSNTBBdIBmFocpzHRyWnVJJWSuejqQAB6G43xJ7ocSxhaqQsYIIvd X4tUrFvw2DD5VOeGEpSRahVBR2fJktDu1IC9eHgSBPj0ZPJpGDL8PsT5BLaWfAEmFi4Qjpj0zNd e9H7gRMm11xCl7iv4FnspzfYAUXTT0H3P2Gh7tZfre5ZPsdmCFYZB1LNXjjGBL1ml1ZbwO5ixzh 86pQbP+hg46VrwS6AQHBskjrNsNb1w== X-Google-Smtp-Source: AGHT+IFoeSR5a1IcoLVnX1fZi26kRECW0wYa83y0655gNh0tQEbIV4HlMtSQoCbwmskxDhVQu4GheHqNXP9I X-Received: by 2002:a05:6a20:cd8f:b0:1dc:790e:3bd0 with SMTP id adf61e73a8af0-1ee6b33e920mr1280302637.15.1739389055712; Wed, 12 Feb 2025 11:37:35 -0800 (PST) Received: from postal.iol.unh.edu (postal.iol.unh.edu. [132.177.123.84]) by smtp-relay.gmail.com with ESMTPS id 41be03b00d2f7-ad555bebfa2sm332898a12.10.2025.02.12.11.37.35 (version=TLS1_2 cipher=ECDHE-ECDSA-AES128-GCM-SHA256 bits=128/128); Wed, 12 Feb 2025 11:37:35 -0800 (PST) X-Relaying-Domain: iol.unh.edu Date: Wed, 12 Feb 2025 11:37:35 -0800 (PST) Message-ID: <67acf87f.630a0220.1c00cf.2b70SMTPIN_ADDED_MISSING@mx.google.com> Received: from [172.17.0.3] (unknown [172.18.0.217]) by postal.iol.unh.edu (Postfix) with ESMTP id EC3136052471; Wed, 12 Feb 2025 14:37:34 -0500 (EST) Subject: |SUCCESS| [GIT MASTER] 39594cdfcb730ea667370b1e304313d10996aff3 From: dpdklab@iol.unh.edu To: Test Report Cc: dpdk-test-reports@iol.unh.edu, Xueming Li , Christian Ehrhardt , Kevin Traynor , Luca Boccassi Content-Type: text/plain X-BeenThere: test-report@dpdk.org X-Mailman-Version: 2.1.29 Precedence: list List-Id: automatic DPDK test reports List-Unsubscribe: , List-Archive: List-Post: List-Help: List-Subscribe: , Errors-To: test-report-bounces@dpdk.org _Testing PASS_ Branch: 24.11-staging 39594cdfcb730ea667370b1e304313d10996aff3 --> testing pass Upstream job id: Generic-Unit-Test-DPDK#314454 Test environment and result as below: +---------------------+----------------+ | Environment | dpdk_unit_test | +=====================+================+ | CentOS Stream 9 | PASS | +---------------------+----------------+ | Debian 12 | PASS | +---------------------+----------------+ | Fedora 40 | PASS | +---------------------+----------------+ | Debian Bullseye | PASS | +---------------------+----------------+ | CentOS Stream 10 | PASS | +---------------------+----------------+ | Fedora 40 (Clang) | PASS | +---------------------+----------------+ | RHEL9 | PASS | +---------------------+----------------+ | Ubuntu 22.04 | PASS | +---------------------+----------------+ | RHEL8 | PASS | +---------------------+----------------+ | Fedora 41 (Clang) | PASS | +---------------------+----------------+ | Fedora 41 | PASS | +---------------------+----------------+ | Ubuntu 20.04 | PASS | +---------------------+----------------+ | Ubuntu 24.04 | PASS | +---------------------+----------------+ | Windows Server 2022 | PASS | +---------------------+----------------+ CentOS Stream 9 Kernel: Depends on container host Compiler: gcc 11.5.0 20240719 (Red Hat 11.5.0-2) Debian 12 Kernel: Depends on container host Compiler: gcc (Debian 12.2.0-14) 12.2.0 Fedora 40 Kernel: Depends on container host Compiler: gcc 14.2.1 20240912 (Red Hat 14.2.1-3) Debian Bullseye Kernel: Depends on container host Compiler: gcc (Debian 10.2.1-6) 10.2.1 20210110 CentOS Stream 10 Kernel: Depends on container host Compiler: gcc 14.2.1 20241104 (Red Hat 14.2.1-6) Fedora 40 (Clang) Kernel: Depends on container host Compiler: clang 18.1.8 (Fedora 18.1.8-1.fc40) RHEL9 Kernel: Depends on container host Compiler: gcc 11.5.0 20240719 (Red Hat 11.5.0-2) Ubuntu 22.04 Kernel: Depends on container host Compiler: gcc (Ubuntu 11.4.0-1ubuntu1~22.04) 11.4.0 RHEL8 Kernel: Depends on container host Compiler: gcc 8.5.0 20210514 (Red Hat 8.5.0-22) Fedora 41 (Clang) Kernel: Depends on container host Compiler: clang 19.1.5 (Fedora 19.1.5-1.fc41) Fedora 41 Kernel: Depends on container host Compiler: gcc 14.2.1 20240912 (Red Hat 14.2.1-3) Ubuntu 20.04 Kernel: Depends on container host Compiler: gcc (Ubuntu 9.4.0-1ubuntu1~20.04.2) 9.4.0 Ubuntu 24.04 Kernel: Depends on container host Compiler: gcc (Ubuntu 13.3.0-6ubuntu2~24.04) 13.3.0 Windows Server 2022 Kernel: 10.0.20348.2031 Compiler: clang 15.0.7, gcc 14.1.0 (MinGW), and MSVC VS 19.39.33521 To view detailed results, visit: https://lab.dpdk.org/results/dashboard/tarballs/32556/ UNH-IOL DPDK Community Lab To manage your email subscriptions, visit: https://lab.dpdk.org/results/dashboard/preferences/subscriptions/