From mboxrd@z Thu Jan 1 00:00:00 1970 Return-Path: Received: from mails.dpdk.org (mails.dpdk.org [217.70.189.124]) by inbox.dpdk.org (Postfix) with ESMTP id 872C046207 for ; Wed, 12 Feb 2025 22:24:48 +0100 (CET) Received: from mails.dpdk.org (localhost [127.0.0.1]) by mails.dpdk.org (Postfix) with ESMTP id 7AF764026C; Wed, 12 Feb 2025 22:24:48 +0100 (CET) Received: from mail-pl1-f225.google.com (mail-pl1-f225.google.com [209.85.214.225]) by mails.dpdk.org (Postfix) with ESMTP id 943614014F for ; Wed, 12 Feb 2025 22:24:46 +0100 (CET) Received: by mail-pl1-f225.google.com with SMTP id d9443c01a7336-220c2a87378so1801885ad.1 for ; Wed, 12 Feb 2025 13:24:46 -0800 (PST) DKIM-Signature: v=1; a=rsa-sha256; c=relaxed/relaxed; d=iol.unh.edu; s=unh-iol; t=1739395485; x=1740000285; darn=dpdk.org; h=references:in-reply-to:cc:to:from:subject:message-id:date:from:to :cc:subject:date:message-id:reply-to; bh=LuONNuixxtQSP4Ky3Hb+blqj5n4JZluw8q5oSzYZ/rk=; b=Y6pKgLFmpcOIHt613WKcm6HLRfMvN94RllACB330XE0RSOAgwhracm616TAZ4KLXrD W1BWzDYZkbNg7aq9lsPR/89z3d56fyOoTL0v+2PT7tOiq/2d1H5+gFTJUrhcA3aUn2BN TOMSuJEC8kMo6TEItWg5k1IABsR9jSOJncJ6s= X-Google-DKIM-Signature: v=1; a=rsa-sha256; c=relaxed/relaxed; d=1e100.net; s=20230601; t=1739395485; x=1740000285; h=references:in-reply-to:cc:to:from:subject:message-id:date :x-gm-message-state:from:to:cc:subject:date:message-id:reply-to; bh=LuONNuixxtQSP4Ky3Hb+blqj5n4JZluw8q5oSzYZ/rk=; b=f3WEZUxS56qDUf5vAIjpvCEYxxOKDqOdkaCj0FuktExrpyzakpkR5CjTUWusEzEd79 4eiU5fIsDb2UiafxrgdF1HPrN4AAJwWvPFIAQhCXiQcpK5Lv0IH1gcrczHeA0UFw4EdQ RPEXL9S8GE4KigTTv/CUiTyOaIYHbEHy3H6VEZ/PJ9x7JLIA+yXza5jweDCRSiSPow9F jQblFWYX5bjD+bpNxMD3YEAsTJu96CRTA6Xhpy+2eTWRTow4utDmJxy2T8KMBF/5xc5t mKZjWoDRi4SlSVURpQ9Kp2gTb+9mznAkguHD3OwFz2mTAVxKCx+qBPFTTwXeECpRrKcu glvQ== X-Gm-Message-State: AOJu0YzaDvlEukQ8RxgByL2KBw7e2yWfy/JS6A3TwZzoK9vpOxKnRZys t7qPZhiKcW2Fw1HrHX0HvRnmQDeGEosEodnHlT7AV3EU30GNkxT+pgsM0BgPyfxMQUIRuEgKLS6 9/9ivlf+aU+QUv9weJONHYiXXElwhOePUN6IjZSMlFUUxNHDDaKel2aqV X-Gm-Gg: ASbGncvGdnOY458ULsJVMtRbcUnq5qu4GvRhi+PhXR0DE/P4mz2ZcO7MPKufUi5m5h1 QOV40UNoFnrzVW7Nv36dePKpw16wdIIQPwWZnXb9pFBzE/5xSOTQewrqNzWqjO1r3L71uRe/JRG bttWMZymQ/q3789UKrexOEGb93UiggIbz/PW84Xiarwz8S/gczs/XoppatX8JdxRbgG9vB0yfJ3 5wiuYzSKXInPlts01U8VDtKkMfgH6K6DUtP0rMi5LyV59gpisc6F8Omf9HI9woyblRk1bLc1cIv uyL0Yl7Ic1tMPmFKBSGdp0QML7P1b+32rlqdzkACaw== X-Google-Smtp-Source: AGHT+IFdqUh6m4S/qy0NYM0GSBfcQbkKiTIQ9F20ZztbOLxS577emtXO+KSrIwt2x64kdTHPcyWkSs3oRQMo X-Received: by 2002:a17:903:2385:b0:21f:3e2d:7d40 with SMTP id d9443c01a7336-220bbaf7c9cmr63606455ad.18.1739395485665; Wed, 12 Feb 2025 13:24:45 -0800 (PST) Received: from postal.iol.unh.edu (postal.iol.unh.edu. [2606:4100:3880:1234::84]) by smtp-relay.gmail.com with ESMTPS id d9443c01a7336-220d530868dsm9175ad.41.2025.02.12.13.24.45 (version=TLS1_2 cipher=ECDHE-ECDSA-AES128-GCM-SHA256 bits=128/128); Wed, 12 Feb 2025 13:24:45 -0800 (PST) X-Relaying-Domain: iol.unh.edu Date: Wed, 12 Feb 2025 13:24:45 -0800 (PST) Message-ID: <67ad119d.170a0220.e84cd.00e2SMTPIN_ADDED_MISSING@mx.google.com> Received: from [172.17.0.4] (unknown [172.18.0.217]) by postal.iol.unh.edu (Postfix) with ESMTP id CE56B6052471; Wed, 12 Feb 2025 16:24:44 -0500 (EST) Subject: |SUCCESS| pw151434-151437 [PATCH] [v7,4/4] lib: change find device a From: dpdklab@iol.unh.edu To: Test Report Cc: dpdk-test-reports@iol.unh.edu In-Reply-To: <20250212163836.178976-4-shperetz@nvidia.com> References: <20250212163836.178976-4-shperetz@nvidia.com> Content-Type: text/plain X-BeenThere: test-report@dpdk.org X-Mailman-Version: 2.1.29 Precedence: list List-Id: automatic DPDK test reports List-Unsubscribe: , List-Archive: List-Post: List-Help: List-Subscribe: , Errors-To: test-report-bounces@dpdk.org Test-Label: iol-sample-apps-testing Test-Status: SUCCESS http://dpdk.org/patch/151437 _Testing PASS_ Submitter: Shani Peretz Date: Wednesday, February 12 2025 16:38:35 DPDK git baseline: Repo:dpdk Branch: master CommitID:e5176f23ae8b31437c3e5eb875c81f95bf3a9942 151434-151437 --> testing pass Upstream job id: Template-DTS-Pipeline#212373 Test environment and result as below: +--------------------+----------------------+----------------------+ | Environment | dpdk_fips_validation | compressdev_zlib_pmd | +====================+======================+======================+ | Ubuntu 20.04 | PASS | SKIPPED | +--------------------+----------------------+----------------------+ | Ubuntu 22.04 | SKIPPED | PASS | +--------------------+----------------------+----------------------+ | Ubuntu 22.04 (ARM) | SKIPPED | PASS | +--------------------+----------------------+----------------------+ Ubuntu 20.04 Kernel: Depends on container host Compiler: gcc (Ubuntu 9.4.0-1ubuntu1~20.04.2) 9.4.0 Ubuntu 22.04 Kernel: 5.15.0-100-generic Compiler: gcc gcc (Ubuntu 11.4.0-1ubuntu1~22.04) 11.4.0 Ubuntu 22.04 (ARM) Kernel: 5.15.0-97-generic Compiler: gcc gcc (Ubuntu 11.4.0-1ubuntu1~22.04) 11.4.0 To view detailed results, visit: https://lab.dpdk.org/results/dashboard/patchsets/32568/ UNH-IOL DPDK Community Lab To manage your email subscriptions, visit: https://lab.dpdk.org/results/dashboard/preferences/subscriptions/