From mboxrd@z Thu Jan 1 00:00:00 1970 Return-Path: Received: from mails.dpdk.org (mails.dpdk.org [217.70.189.124]) by inbox.dpdk.org (Postfix) with ESMTP id E719946207 for ; Wed, 12 Feb 2025 22:39:05 +0100 (CET) Received: from mails.dpdk.org (localhost [127.0.0.1]) by mails.dpdk.org (Postfix) with ESMTP id C1BCE42D55; Wed, 12 Feb 2025 22:39:05 +0100 (CET) Received: from mail-pl1-f226.google.com (mail-pl1-f226.google.com [209.85.214.226]) by mails.dpdk.org (Postfix) with ESMTP id 30A554026C for ; Wed, 12 Feb 2025 22:39:04 +0100 (CET) Received: by mail-pl1-f226.google.com with SMTP id d9443c01a7336-21f818a980cso1880315ad.3 for ; Wed, 12 Feb 2025 13:39:04 -0800 (PST) DKIM-Signature: v=1; a=rsa-sha256; c=relaxed/relaxed; d=iol.unh.edu; s=unh-iol; t=1739396343; x=1740001143; darn=dpdk.org; h=cc:to:from:subject:message-id:date:from:to:cc:subject:date :message-id:reply-to; bh=Oc4noHLOW8O+G5ggcgjpaW3KUPi2o9gv3ctLcYQokgo=; b=GUWImTbMCM2QMdwXl9bu82lXbHFJN+7G8Yz6/L4wCLKT/0hFB2WiJkk4xuKPFfo2Ql H2c2YlSibDn0N5hv2IIF+EQPHIrb5RTcJ2AzyiXLGpCHzFmYZFh7FJG0xVwvOQ+SIRVK IGJS/CleDnE30XoOfq+tKNXZQTQ/Ug7KZSj+k= X-Google-DKIM-Signature: v=1; a=rsa-sha256; c=relaxed/relaxed; d=1e100.net; s=20230601; t=1739396343; x=1740001143; h=cc:to:from:subject:message-id:date:x-gm-message-state:from:to:cc :subject:date:message-id:reply-to; bh=Oc4noHLOW8O+G5ggcgjpaW3KUPi2o9gv3ctLcYQokgo=; b=lGfX7VHTLhjRhzXvQUKQBp9p4NWMxHtYo1HD3MpGQgPm28zy23iUcJvngI5gbckhDE sZEnEZnwwWXSa1JVxlKyPZckkc2uG3u/szYAiTupr0/NUKGnMo0DMeg/Kqt80QBJmORy aAiC8zwLfG2sA8wrSV6cTtudZEbmNPvhkzil4eVSaqrzB/12eDGG5N/oiJuiM9Dojhv2 l69j66xdr+JoFYmKnHTL8r/YL3uCvGL9ySotBTAvPhzHc+HLJUU4JwhNX8g/u1UG1a37 Nef6Sg0hU/UrUzW+vfiadTc/5ubOxhTP2nxg5KYvlWL16T4eocyB7Gp/PcqRGt64L0at EU5A== X-Gm-Message-State: AOJu0YwWMkxfC2gIRQQvn39VMbyc01T7viDbTpR69yUBd7z5/uBOo/iW vL3ReoJwOcqVyf5Bo9N6KzvxGGT3xtp18i4F3/Pkaacy/erv6oKRnwte8nF1wVYQ/oqW9hdDERn WBHTE+uXgKGsX2ho7WmBf51URqTHJwDPvmcGQI+GJ4rwfc59s X-Gm-Gg: ASbGnctpdb/umK74d03l4rmTnFVP9pQn8linISWUOu0XuVhDxX8Q9NLyycqrhunhUQB 0TIJbtpAqAxmdjEiPPFhp5hSbBefYoJ8yJ3uB+WM6F99lHUlclVRtOm9koyVdb48sJY8R3JUP9C jY2JuU3GZF2/alwFLH8HaKKoSpGJtHXIJkH1b6nnmOaWGaddYTUUetVwqX5RDvO5JaFZSh8iCmM uhUk7CU5HT6+FVH02csFRVx8vI/OArfWZCnfF8Klhw6EQmExQOOhre6mfKQxEijW+PB3ED1eugp Z0P5R7a2kSfgCfLfVj1Ng7gYFV3PsYxtw2PKvxMMkQ== X-Google-Smtp-Source: AGHT+IF4G5WKzB6kqujwVS9KEs2ohZv80Ru8ySBdl5XaIz+PH34gCzH+acUN/EWTFu/Z2h+MMXJBOAYDrx3/ X-Received: by 2002:a05:6a00:188c:b0:732:2269:a15c with SMTP id d2e1a72fcca58-7322c43451amr7617371b3a.20.1739396343102; Wed, 12 Feb 2025 13:39:03 -0800 (PST) Received: from postal.iol.unh.edu (postal.iol.unh.edu. [2606:4100:3880:1234::84]) by smtp-relay.gmail.com with ESMTPS id d2e1a72fcca58-73048aac16bsm615869b3a.3.2025.02.12.13.39.02 (version=TLS1_2 cipher=ECDHE-ECDSA-AES128-GCM-SHA256 bits=128/128); Wed, 12 Feb 2025 13:39:03 -0800 (PST) X-Relaying-Domain: iol.unh.edu Date: Wed, 12 Feb 2025 13:39:03 -0800 (PST) Message-ID: <67ad14f7.050a0220.2af27.0a67SMTPIN_ADDED_MISSING@mx.google.com> Received: from [172.17.0.3] (unknown [172.18.0.217]) by postal.iol.unh.edu (Postfix) with ESMTP id 3A58B6052471; Wed, 12 Feb 2025 16:39:02 -0500 (EST) Subject: |SUCCESS| [GIT MASTER] 39594cdfcb730ea667370b1e304313d10996aff3 From: dpdklab@iol.unh.edu To: Test Report Cc: dpdk-test-reports@iol.unh.edu, Xueming Li , Christian Ehrhardt , Kevin Traynor , Luca Boccassi Content-Type: text/plain X-BeenThere: test-report@dpdk.org X-Mailman-Version: 2.1.29 Precedence: list List-Id: automatic DPDK test reports List-Unsubscribe: , List-Archive: List-Post: List-Help: List-Subscribe: , Errors-To: test-report-bounces@dpdk.org _Testing PASS_ Branch: 24.11-staging 39594cdfcb730ea667370b1e304313d10996aff3 --> testing pass Upstream job id: Template-DTS-Pipeline#212387 Test environment and result as below: +--------------------+----------------------+----------------------+ | Environment | dpdk_fips_validation | compressdev_zlib_pmd | +====================+======================+======================+ | Ubuntu 20.04 | PASS | SKIPPED | +--------------------+----------------------+----------------------+ | Ubuntu 22.04 | SKIPPED | PASS | +--------------------+----------------------+----------------------+ | Ubuntu 22.04 (ARM) | SKIPPED | PASS | +--------------------+----------------------+----------------------+ Ubuntu 20.04 Kernel: Depends on container host Compiler: gcc (Ubuntu 9.4.0-1ubuntu1~20.04.2) 9.4.0 Ubuntu 22.04 Kernel: 5.15.0-100-generic Compiler: gcc gcc (Ubuntu 11.4.0-1ubuntu1~22.04) 11.4.0 Ubuntu 22.04 (ARM) Kernel: 5.15.0-97-generic Compiler: gcc gcc (Ubuntu 11.4.0-1ubuntu1~22.04) 11.4.0 To view detailed results, visit: https://lab.dpdk.org/results/dashboard/tarballs/32556/ UNH-IOL DPDK Community Lab To manage your email subscriptions, visit: https://lab.dpdk.org/results/dashboard/preferences/subscriptions/