From mboxrd@z Thu Jan 1 00:00:00 1970 Return-Path: Received: from mails.dpdk.org (mails.dpdk.org [217.70.189.124]) by inbox.dpdk.org (Postfix) with ESMTP id 10C3546207 for ; Wed, 12 Feb 2025 23:11:03 +0100 (CET) Received: from mails.dpdk.org (localhost [127.0.0.1]) by mails.dpdk.org (Postfix) with ESMTP id DA87342D55; Wed, 12 Feb 2025 23:11:02 +0100 (CET) Received: from mail-pl1-f225.google.com (mail-pl1-f225.google.com [209.85.214.225]) by mails.dpdk.org (Postfix) with ESMTP id E9AB54026C for ; Wed, 12 Feb 2025 23:11:01 +0100 (CET) Received: by mail-pl1-f225.google.com with SMTP id d9443c01a7336-21f3c119fe6so4176345ad.0 for ; Wed, 12 Feb 2025 14:11:01 -0800 (PST) DKIM-Signature: v=1; a=rsa-sha256; c=relaxed/relaxed; d=iol.unh.edu; s=unh-iol; t=1739398261; x=1740003061; darn=dpdk.org; h=cc:to:from:subject:message-id:date:from:to:cc:subject:date :message-id:reply-to; bh=y70J4DrOZv1hijZokax8Ziy+jFkBPf/tcx5rY4azDGQ=; b=FvBc32xyp0nvAvHjQ4FzcBFH0jh5iBHsg0eA0dJ7lybjPebyZxBsEtu9609ZTI1XAu eXPVcY3gmyl9g9LT7qYT5FR3qvzTlBxR6j242oT+SF+UYtZDS91qCA0ssqvBKuZjUC34 DdoMnTdws3F+bd8SFTZKMWz6OIQKspwjXChfQ= X-Google-DKIM-Signature: v=1; a=rsa-sha256; c=relaxed/relaxed; d=1e100.net; s=20230601; t=1739398261; x=1740003061; h=cc:to:from:subject:message-id:date:x-gm-message-state:from:to:cc :subject:date:message-id:reply-to; bh=y70J4DrOZv1hijZokax8Ziy+jFkBPf/tcx5rY4azDGQ=; b=aEbYYlm+YzsGCTD3VB2u9eGK1cNdI5uYIaQwNvt189YiHgZaVsurhZ9wYFif8+UGhP 9WQbbt6cd7na2Muwk6ZtIFyngVS21LI7wDITNpSNZYbWi8I31AAt+59OJUsPBsLCceAQ w5PKSCw9wgzoopNorIHduLaV3m1X/pBVuGICl0qQkSmvBE32EUQyvB/8zlmbPFsc9z86 cpoStlXaK5+WAR/Qe9/YUD691VIc5ulov50f/ccYMrtPOvJkQ9Oe0otNjouIlz6JbEyA spUquhQ1R/5KKjJL6KRfCKy3Q7c9Qov1ZtUbNiGps1NnOqcn+2i4BRvIIr0c70G1Maey ke1A== X-Gm-Message-State: AOJu0Yz3KXmSadIBA161nKjCGgJMdDQfoXNv730c6+WhwEZ8ipdNF7IT K3hMW7SjXjkmtWfFPE7n29LuFTGFSx/rCQUyd4gRdrwM3lpiZTzclcgWEfpyJQaTeItcnKwrqJQ glQVy2VGcCx1CH0nV7cLc7P8IfEi4gcwP X-Gm-Gg: ASbGnctLh/shK0NHGXzag7eABBkbu00BOhfbSyNKmAYNRIjsQLJRXB2MLYxB5Xvoyeb bluDufcU+b+2SrK9SfLXg5NlgvCoaYGzla07bcUOF4XMG1Pmq19xSD2Dm20aWHhZ6ZshD5qMw6a XqKdg4iUpVfZJNzFp75ZfgR/upWf5K+MPYV/duyKKOYI6+LvPit/IWm8iPeahDQt78lNz2UH3j2 D44APlnoGyZvIfI7X10kyh9kP2TZMQaAkmH23C9z2eepIegUvvkfFMsGMlhYerym2a+hjl4C7gi IIMgoDOAM+8WGyvuZjpssf4y7sqtsA== X-Google-Smtp-Source: AGHT+IEWdPfKTrtuwFne7co7mfHswkYT/2G41phXB1ybnsiLTbsnL68F7ZgckAuwN72J991bBAiKn+mk0e79 X-Received: by 2002:a17:902:ea02:b0:21f:135e:76bf with SMTP id d9443c01a7336-220bbb210abmr82696445ad.12.1739398260871; Wed, 12 Feb 2025 14:11:00 -0800 (PST) Received: from postal.iol.unh.edu (postal.iol.unh.edu. [132.177.123.84]) by smtp-relay.gmail.com with ESMTPS id d9443c01a7336-220d543c2c4sm30005ad.123.2025.02.12.14.11.00 (version=TLS1_2 cipher=ECDHE-ECDSA-AES128-GCM-SHA256 bits=128/128); Wed, 12 Feb 2025 14:11:00 -0800 (PST) X-Relaying-Domain: iol.unh.edu Date: Wed, 12 Feb 2025 14:11:00 -0800 (PST) Message-ID: <67ad1c74.170a0220.1f5519.02bcSMTPIN_ADDED_MISSING@mx.google.com> Received: from [172.17.0.5] (unknown [172.18.0.217]) by postal.iol.unh.edu (Postfix) with ESMTP id 10A6E6052471; Wed, 12 Feb 2025 17:11:00 -0500 (EST) Subject: |SUCCESS| [GIT MASTER] 39594cdfcb730ea667370b1e304313d10996aff3 From: dpdklab@iol.unh.edu To: Test Report Cc: dpdk-test-reports@iol.unh.edu, Xueming Li , Christian Ehrhardt , Kevin Traynor , Luca Boccassi Content-Type: text/plain X-BeenThere: test-report@dpdk.org X-Mailman-Version: 2.1.29 Precedence: list List-Id: automatic DPDK test reports List-Unsubscribe: , List-Archive: List-Post: List-Help: List-Subscribe: , Errors-To: test-report-bounces@dpdk.org _Testing PASS_ Branch: 24.11-staging 39594cdfcb730ea667370b1e304313d10996aff3 --> testing pass Upstream job id: Generic-Unit-Test-DPDK#314466 Test environment and result as below: +-----------------------------+----------------+---------------------------+--------------+------------------------------+ | Environment | dpdk_unit_test | cryptodev_sw_zuc_autotest | lpm_autotest | cryptodev_sw_snow3g_autotest | +=============================+================+===========================+==============+==============================+ | 32-bit Ubuntu 22.04.4 (ARM) | PASS | SKIPPED | SKIPPED | SKIPPED | +-----------------------------+----------------+---------------------------+--------------+------------------------------+ | CentOS Stream 9 (ARM) | PASS | SKIPPED | SKIPPED | SKIPPED | +-----------------------------+----------------+---------------------------+--------------+------------------------------+ | Fedora 40 (ARM Clang) | PASS | SKIPPED | SKIPPED | SKIPPED | +-----------------------------+----------------+---------------------------+--------------+------------------------------+ | CentOS Stream 10 (ARM) | PASS | SKIPPED | SKIPPED | SKIPPED | +-----------------------------+----------------+---------------------------+--------------+------------------------------+ | Debian 11 (Buster) (ARM) | PASS | SKIPPED | SKIPPED | SKIPPED | +-----------------------------+----------------+---------------------------+--------------+------------------------------+ | Fedora 40 (ARM) | PASS | SKIPPED | SKIPPED | SKIPPED | +-----------------------------+----------------+---------------------------+--------------+------------------------------+ | Ubuntu 22.04 (ARM) | PASS | SKIPPED | SKIPPED | SKIPPED | +-----------------------------+----------------+---------------------------+--------------+------------------------------+ | Fedora 41 (ARM) | PASS | SKIPPED | SKIPPED | SKIPPED | +-----------------------------+----------------+---------------------------+--------------+------------------------------+ | Fedora 41 (ARM Clang) | PASS | SKIPPED | SKIPPED | SKIPPED | +-----------------------------+----------------+---------------------------+--------------+------------------------------+ | Debian 12 (arm) | PASS | PASS | SKIPPED | PASS | +-----------------------------+----------------+---------------------------+--------------+------------------------------+ | RHEL9 (ARM) | PASS | SKIPPED | SKIPPED | SKIPPED | +-----------------------------+----------------+---------------------------+--------------+------------------------------+ | Ubuntu 20.04 (ARM) | PASS | SKIPPED | SKIPPED | SKIPPED | +-----------------------------+----------------+---------------------------+--------------+------------------------------+ | Ubuntu 24.04 (ARM) | PASS | SKIPPED | SKIPPED | SKIPPED | +-----------------------------+----------------+---------------------------+--------------+------------------------------+ | Ubuntu 20.04 ARM SVE | SKIPPED | SKIPPED | PASS | SKIPPED | +-----------------------------+----------------+---------------------------+--------------+------------------------------+ 32-bit Ubuntu 22.04.4 (ARM) Kernel: 5.15.83+ aarch64 Compiler: gcc (Ubuntu 11.4.0-1ubuntu1~22.04) 11.4.0 CentOS Stream 9 (ARM) Kernel: Depends on container host Compiler: gcc 11.5.0 20240719 (Red Hat 11.5.0-2) Fedora 40 (ARM Clang) Kernel: Depends on container host Compiler: clang 18.1.8 (Fedora 18.1.8-1.fc40) CentOS Stream 10 (ARM) Kernel: Depends on container host Compiler: gcc 14.2.1 20241104 (Red Hat 14.2.1-6) Debian 11 (Buster) (ARM) Kernel: Depends on container host Compiler: gcc (Debian 10.2.1-6) 10.2.1 20210110 Fedora 40 (ARM) Kernel: Depends on container host Compiler: gcc 14.2.1 20240912 (Red Hat 14.2.1-3) Ubuntu 22.04 (ARM) Kernel: Depends on container host Compiler: gcc (Ubuntu 11.4.0-1ubuntu1~22.04) 11.4.0 Fedora 41 (ARM) Kernel: Depends on container host Compiler: gcc 14.2.1 20240912 (Red Hat 14.2.1-3) Fedora 41 (ARM Clang) Kernel: Depends on container host Compiler: clang 19.1.5 (Fedora 19.1.5-1.fc41) Debian 12 (arm) Kernel: Depends on container host Compiler: gcc (Debian 12.2.0-14) 12.2.0 RHEL9 (ARM) Kernel: Depends on container host Compiler: gcc 11.5.0 20240719 (Red Hat 11.5.0-2) Ubuntu 20.04 (ARM) Kernel: Depends on container host Compiler: gcc (Ubuntu 9.4.0-1ubuntu1~20.04.2) 9.4.0 Ubuntu 24.04 (ARM) Kernel: Depends on container host Compiler: gcc (Ubuntu 13.3.0-6ubuntu2~24.04) 13.3.0 Ubuntu 20.04 ARM SVE Kernel: Depends on container host Compiler: gcc (Ubuntu 10.5.0-1ubuntu1~20.04) 10.5.0 To view detailed results, visit: https://lab.dpdk.org/results/dashboard/tarballs/32556/ UNH-IOL DPDK Community Lab To manage your email subscriptions, visit: https://lab.dpdk.org/results/dashboard/preferences/subscriptions/