From mboxrd@z Thu Jan 1 00:00:00 1970 Return-Path: Received: from mails.dpdk.org (mails.dpdk.org [217.70.189.124]) by inbox.dpdk.org (Postfix) with ESMTP id 7BE1A46207 for ; Wed, 12 Feb 2025 23:26:55 +0100 (CET) Received: from mails.dpdk.org (localhost [127.0.0.1]) by mails.dpdk.org (Postfix) with ESMTP id 4FE5142D55; Wed, 12 Feb 2025 23:26:55 +0100 (CET) Received: from mail-il1-f226.google.com (mail-il1-f226.google.com [209.85.166.226]) by mails.dpdk.org (Postfix) with ESMTP id A83F74026C for ; Wed, 12 Feb 2025 23:26:53 +0100 (CET) Received: by mail-il1-f226.google.com with SMTP id e9e14a558f8ab-3ce915a8a25so596485ab.1 for ; Wed, 12 Feb 2025 14:26:53 -0800 (PST) DKIM-Signature: v=1; a=rsa-sha256; c=relaxed/relaxed; d=iol.unh.edu; s=unh-iol; t=1739399213; x=1740004013; darn=dpdk.org; h=references:in-reply-to:cc:to:from:subject:message-id:date:from:to :cc:subject:date:message-id:reply-to; bh=6KYByEYWdaruUVILNFswckucNovroGjmfkPwR4w4+Dg=; b=W5w9ymzM2dCutkhMqCVqnBY8MAgnlPvAfTdzK/HWbVAr6lP8H17Wt7lXdd/MFrJoMF 1N5SBb+NpKKMuf9RyzauYc4/H8SaQFZukHlP8ALkrJ0fjBAJkVAA9XiBNSkr5U7PIALh NyqqWZAHM20pcaxSdtH2UfyGFMV1p7Lp1xs3A= X-Google-DKIM-Signature: v=1; a=rsa-sha256; c=relaxed/relaxed; d=1e100.net; s=20230601; t=1739399213; x=1740004013; h=references:in-reply-to:cc:to:from:subject:message-id:date :x-gm-message-state:from:to:cc:subject:date:message-id:reply-to; bh=6KYByEYWdaruUVILNFswckucNovroGjmfkPwR4w4+Dg=; b=UAe1ybjYIQJaKvxr/pyhtM85l2I4xsIgoHYXwIuy3Aq618f7rXJxd0PBH7UHLCGuX4 dTRqU3Lqvr66MMAwVxyXs39XdPok3wkgYCILJGo75Vx6a4KakW7MiyM574Ga+UhAHgfO QDaRCPUsy1dty4xGFcNNy7QI5Bm+dSe4eM1UzQ/FFwSkhSkM2ASJF8ocVSCliTFwdEKK ll45K1TMl+YpSVy1Fe2xgHsUdiXgedluptoI/Wf4Kg/jB0rp7JDKduvSlaY5x4rF/GPZ OTqq2LBa9c+tHdkiZh3NPP10CFFh4uIbXs7iAMkfFnqyGmV0SwBs1TLvI+BSDYL+hchC ct5w== X-Gm-Message-State: AOJu0Yyv8bvKBNyccVG1/gTRbjnrbE34uJXLAOdqdUSSq4Wj8g9a45xL YxJ1jlHaGqUuLV+PeJxnUTouOCE5y9/Xrn0nRppiwEyRIhGHi7eis0Vvp45M+CHXRL7r/KygIpf Gbh8JE3nfdK4cj8MmpWCyZvdS+nMQ88jd5FXHL/cQItobi4UexJo4/rPc X-Gm-Gg: ASbGnctHc4waXRXF+tUmkZvRaGxIY/ZoosFMWeZOZbGH8iCQvYlfbiBZEHR0/a6M0tg HTwfLIoM2oDT/TtCO/oD7EQCa0AnBDPZtqD/5j99LiGAp88xiK/PXHWkeszEBkqkGQOP2St7L4a UWSueudiW22CRIF+uWUcYH6MzJGDvMxh2FGfVc7ahK6gevkbK1h7iNelfxO7vTHrReqVcP0MnsH o2YArve0+0qiz+dRTnIqCCZoD/GsnRUWlE6lhe00BKYrYVL9/vsy/IfDphbpDPVvJ7zjcAoXji5 +zZj7fSSQOi1pVQrzLBPSicyog5KQvVvUtAoW5fWUA== X-Google-Smtp-Source: AGHT+IGnNcDFuMNb5hsFa1+njxS0IWFYvuAPBhddntCX3+LLLlG7EIBa2Q4ky+VYWPTuB8I6YjXcA3TobWiG X-Received: by 2002:a05:6e02:184a:b0:3d0:10a6:99a3 with SMTP id e9e14a558f8ab-3d17bf30cedmr48502465ab.12.1739399212918; Wed, 12 Feb 2025 14:26:52 -0800 (PST) Received: from postal.iol.unh.edu (postal.iol.unh.edu. [2606:4100:3880:1234::84]) by smtp-relay.gmail.com with ESMTPS id e9e14a558f8ab-3d153d25cb0sm6102085ab.5.2025.02.12.14.26.52 (version=TLS1_2 cipher=ECDHE-ECDSA-AES128-GCM-SHA256 bits=128/128); Wed, 12 Feb 2025 14:26:52 -0800 (PST) X-Relaying-Domain: iol.unh.edu Date: Wed, 12 Feb 2025 14:26:52 -0800 (PST) Message-ID: <67ad202c.050a0220.21a90a.174bSMTPIN_ADDED_MISSING@mx.google.com> Received: from [172.17.0.3] (unknown [172.18.0.217]) by postal.iol.unh.edu (Postfix) with ESMTP id 64E346052471; Wed, 12 Feb 2025 17:26:52 -0500 (EST) Subject: |SUCCESS| pw151434-151437 [PATCH] [v7,4/4] lib: change find device a From: dpdklab@iol.unh.edu To: Test Report Cc: dpdk-test-reports@iol.unh.edu In-Reply-To: <20250212163836.178976-4-shperetz@nvidia.com> References: <20250212163836.178976-4-shperetz@nvidia.com> Content-Type: text/plain X-BeenThere: test-report@dpdk.org X-Mailman-Version: 2.1.29 Precedence: list List-Id: automatic DPDK test reports List-Unsubscribe: , List-Archive: List-Post: List-Help: List-Subscribe: , Errors-To: test-report-bounces@dpdk.org Test-Label: iol-compile-arm64-testing Test-Status: SUCCESS http://dpdk.org/patch/151437 _Testing PASS_ Submitter: Shani Peretz Date: Wednesday, February 12 2025 16:38:35 DPDK git baseline: Repo:dpdk Branch: master CommitID:e5176f23ae8b31437c3e5eb875c81f95bf3a9942 151434-151437 --> testing pass Upstream job id: Generic-DPDK-Compile-Meson#361018 Test environment and result as below: +----------------------------------------+--------------------+ | Environment | dpdk_meson_compile | +========================================+====================+ | RHEL9 (ARM) | PASS | +----------------------------------------+--------------------+ | Ubuntu 20.04 ARM GCC Cross Compile | PASS | +----------------------------------------+--------------------+ | Ubuntu 20.04 ARM SVE | PASS | +----------------------------------------+--------------------+ | Debian 12 with MUSDK | PASS | +----------------------------------------+--------------------+ | Fedora 40 (ARM Clang) | PASS | +----------------------------------------+--------------------+ | Fedora 40 (ARM) | PASS | +----------------------------------------+--------------------+ | Fedora 41 (ARM) | PASS | +----------------------------------------+--------------------+ | Fedora 41 (ARM Clang) | PASS | +----------------------------------------+--------------------+ | Ubuntu 20.04 (ARM) | PASS | +----------------------------------------+--------------------+ | Ubuntu 22.04 (ARM) | PASS | +----------------------------------------+--------------------+ | Ubuntu 24.04 (ARM) | PASS | +----------------------------------------+--------------------+ | CentOS Stream 9 (ARM) | PASS | +----------------------------------------+--------------------+ | CentOS Stream 10 (ARM) | PASS | +----------------------------------------+--------------------+ | Debian 11 (Buster) (ARM) | PASS | +----------------------------------------+--------------------+ | Debian 12 (arm) | PASS | +----------------------------------------+--------------------+ | Ubuntu 20.04 ARM Clang Cross Compile | PASS | +----------------------------------------+--------------------+ | Ubuntu 20.04 aarch32 GCC Cross Compile | PASS | +----------------------------------------+--------------------+ RHEL9 (ARM) Kernel: Depends on container host Compiler: gcc 11.5.0 20240719 (Red Hat 11.5.0-2) Ubuntu 20.04 ARM GCC Cross Compile Kernel: Depends on container host Compiler: aarch64-linux-gnu-gcc (Ubuntu 9.4.0-1ubuntu1~20.04.2) 9.4.0 Ubuntu 20.04 ARM SVE Kernel: Depends on container host Compiler: gcc (Ubuntu 10.5.0-1ubuntu1~20.04) 10.5.0 Debian 12 with MUSDK Kernel: Depends on container host Compiler: gcc (Debian 12.2.0-14) 12.2.0 Fedora 40 (ARM Clang) Kernel: Depends on container host Compiler: clang 18.1.8 (Fedora 18.1.8-1.fc40) Fedora 40 (ARM) Kernel: Depends on container host Compiler: gcc 14.2.1 20240912 (Red Hat 14.2.1-3) Fedora 41 (ARM) Kernel: Depends on container host Compiler: gcc 14.2.1 20240912 (Red Hat 14.2.1-3) Fedora 41 (ARM Clang) Kernel: Depends on container host Compiler: clang 19.1.5 (Fedora 19.1.5-1.fc41) Ubuntu 20.04 (ARM) Kernel: Depends on container host Compiler: gcc (Ubuntu 9.4.0-1ubuntu1~20.04.2) 9.4.0 Ubuntu 22.04 (ARM) Kernel: Depends on container host Compiler: gcc (Ubuntu 11.4.0-1ubuntu1~22.04) 11.4.0 Ubuntu 24.04 (ARM) Kernel: Depends on container host Compiler: gcc (Ubuntu 13.3.0-6ubuntu2~24.04) 13.3.0 CentOS Stream 9 (ARM) Kernel: Depends on container host Compiler: gcc 11.5.0 20240719 (Red Hat 11.5.0-2) CentOS Stream 10 (ARM) Kernel: Depends on container host Compiler: gcc 14.2.1 20241104 (Red Hat 14.2.1-6) Debian 11 (Buster) (ARM) Kernel: Depends on container host Compiler: gcc (Debian 10.2.1-6) 10.2.1 20210110 Debian 12 (arm) Kernel: Depends on container host Compiler: gcc (Debian 12.2.0-14) 12.2.0 Ubuntu 20.04 ARM Clang Cross Compile Kernel: Depends on container host Compiler: clang 10.0.0-4ubuntu1 Ubuntu 20.04 aarch32 GCC Cross Compile Kernel: Depends on container host Compiler: gcc 9.4.0 To view detailed results, visit: https://lab.dpdk.org/results/dashboard/patchsets/32568/ UNH-IOL DPDK Community Lab To manage your email subscriptions, visit: https://lab.dpdk.org/results/dashboard/preferences/subscriptions/