From mboxrd@z Thu Jan 1 00:00:00 1970 Return-Path: Received: from mails.dpdk.org (mails.dpdk.org [217.70.189.124]) by inbox.dpdk.org (Postfix) with ESMTP id EF0D346207 for ; Wed, 12 Feb 2025 23:55:37 +0100 (CET) Received: from mails.dpdk.org (localhost [127.0.0.1]) by mails.dpdk.org (Postfix) with ESMTP id D3D5742D55; Wed, 12 Feb 2025 23:55:37 +0100 (CET) Received: from mail-pl1-f225.google.com (mail-pl1-f225.google.com [209.85.214.225]) by mails.dpdk.org (Postfix) with ESMTP id 2607F4026C for ; Wed, 12 Feb 2025 23:55:36 +0100 (CET) Received: by mail-pl1-f225.google.com with SMTP id d9443c01a7336-21f48ebaadfso3486755ad.2 for ; Wed, 12 Feb 2025 14:55:36 -0800 (PST) DKIM-Signature: v=1; a=rsa-sha256; c=relaxed/relaxed; d=iol.unh.edu; s=unh-iol; t=1739400935; x=1740005735; darn=dpdk.org; h=cc:to:from:subject:message-id:date:from:to:cc:subject:date :message-id:reply-to; bh=bf+h5np3vuyGTcPmx+/bjvoVV4zetKkPrRr9p0aGmR0=; b=YJg+oZV2RqcQ9p59G9VAalSt/sL2Yz2PEb0G0pZJ9bQhMgMWFvGCeKOsiMgqzgKilp qKnkBQq+uNseu7zek989hVDTJ00o16OnICn4JsC7Ach9yP7wyXkLlGZl1Sp+FevC4/FB WC0riuSwqn6l8PJhqgIGMIzPd3+3BfxbFe8Os= X-Google-DKIM-Signature: v=1; a=rsa-sha256; c=relaxed/relaxed; d=1e100.net; s=20230601; t=1739400935; x=1740005735; h=cc:to:from:subject:message-id:date:x-gm-message-state:from:to:cc :subject:date:message-id:reply-to; bh=bf+h5np3vuyGTcPmx+/bjvoVV4zetKkPrRr9p0aGmR0=; b=vvbwpAd19VubTiS6HM8L+YdGy3jX0YohKPPJDk7maojRzNQ3p1U4DuqoEUTNjlUJ9x kSuPIE8heZWX2jObMeJjwtFMkNGq/AjdTg57NyfKcrA+yqnEd+4NmnMSnZ3b7NynPGCp 8KfiS5W+zDYDXDewsrbRR87L3W2iFmPVm0hI+GI8TGhJ/+paTqRI+r+AY529SLNnXeeY kC5IEBqOAeaU8o2QzS3nORWfcKg1yhNJvJl6EqadQEJLJNQ60A5xAJrwzSfDfFQXDxQy U9dwr5rQIfR0MTasaoqdX/y0TtBdxYwqJejLoA0ce+Gsplx1nHvjD19pqJrJB0SI+YPd /CmA== X-Gm-Message-State: AOJu0Ywo+agVdDpnaWipseivcro5RgO50nW27xSVaUuUNeHJdrCs5QMR nGWw3pPeAy/TYgVmCCzF9XxS9y7eONcauYY7lxrYnHKATUwQvsejTBNdLApzrtkQKjmnJIREHu1 Ld5mQA2Zm8vafmbAluEjyzHAJcLK1bzp9 X-Gm-Gg: ASbGncsh8lnv7/AexyVjGKmXfi2RZPD+Zptjz6NOBZBtKeL4Re82E4GfwHbp6T/l/YL iZwjDWy8Am+9iWywmYLeUmDapwsozPZ3+VbpWUA/TmQ03U3aLP/H+UA0QcaQK6GnOkxyxL+omHU fduvuJzMrr3WweeTHmGhOSBTb5q/cXc0dOAcC7SN9EQcSPUOsvDB0Xq3lbi+iPuQDbvWO8dmueJ e5MU+O03aUEx51hjM+ofI+SCvTmbpOAbwy+af6HbDROoqUqsGJK+fX/d9N1TlkYneG1gXuqTk4R agrfjhp/XZq1O1QycPuXOhBjsKWHIw== X-Google-Smtp-Source: AGHT+IHHuJUU3tkJtZbh+Zd4mFdZwRbJp+r/cevKN66lAsswgTgGFQfweZKoX1fG3MWsJ6ZsqKPpKu4ZHO+h X-Received: by 2002:a17:902:d4c1:b0:216:5556:8b46 with SMTP id d9443c01a7336-220bbc94983mr76412055ad.49.1739400935234; Wed, 12 Feb 2025 14:55:35 -0800 (PST) Received: from postal.iol.unh.edu (postal.iol.unh.edu. [132.177.123.84]) by smtp-relay.gmail.com with ESMTPS id d9443c01a7336-220d5308588sm68165ad.47.2025.02.12.14.55.35 (version=TLS1_2 cipher=ECDHE-ECDSA-AES128-GCM-SHA256 bits=128/128); Wed, 12 Feb 2025 14:55:35 -0800 (PST) X-Relaying-Domain: iol.unh.edu Date: Wed, 12 Feb 2025 14:55:35 -0800 (PST) Message-ID: <67ad26e7.170a0220.3c8935.07a2SMTPIN_ADDED_MISSING@mx.google.com> Received: from [172.17.0.4] (unknown [172.18.0.217]) by postal.iol.unh.edu (Postfix) with ESMTP id 946D66052471; Wed, 12 Feb 2025 17:55:34 -0500 (EST) Subject: |SUCCESS| [GIT MASTER] 39594cdfcb730ea667370b1e304313d10996aff3 From: dpdklab@iol.unh.edu To: Test Report Cc: dpdk-test-reports@iol.unh.edu, Xueming Li , Christian Ehrhardt , Kevin Traynor , Luca Boccassi Content-Type: text/plain X-BeenThere: test-report@dpdk.org X-Mailman-Version: 2.1.29 Precedence: list List-Id: automatic DPDK test reports List-Unsubscribe: , List-Archive: List-Post: List-Help: List-Subscribe: , Errors-To: test-report-bounces@dpdk.org _Testing PASS_ Branch: 24.11-staging 39594cdfcb730ea667370b1e304313d10996aff3 --> testing pass Upstream job id: Generic-DPDK-Compile-Meson#361054 Test environment and result as below: +------------------------------------+--------------------+ | Environment | dpdk_meson_compile | +====================================+====================+ | Fedora 40 (ARM) | PASS | +------------------------------------+--------------------+ | Ubuntu 20.04 ARM SVE | PASS | +------------------------------------+--------------------+ | Debian 12 with MUSDK | PASS | +------------------------------------+--------------------+ | RHEL9 (ARM) | PASS | +------------------------------------+--------------------+ | Ubuntu 20.04 ARM GCC Cross Compile | PASS | +------------------------------------+--------------------+ | Fedora 40 (ARM Clang) | PASS | +------------------------------------+--------------------+ | Fedora 41 (ARM) | PASS | +------------------------------------+--------------------+ | Ubuntu 24.04 (ARM) | PASS | +------------------------------------+--------------------+ | Fedora 41 (ARM Clang) | PASS | +------------------------------------+--------------------+ | Ubuntu 22.04 (ARM) | PASS | +------------------------------------+--------------------+ | Ubuntu 20.04 (ARM) | PASS | +------------------------------------+--------------------+ | CentOS Stream 10 (ARM) | PASS | +------------------------------------+--------------------+ | CentOS Stream 9 (ARM) | PASS | +------------------------------------+--------------------+ | Debian 12 (arm) | PASS | +------------------------------------+--------------------+ | Debian 11 (Buster) (ARM) | PASS | +------------------------------------+--------------------+ Fedora 40 (ARM) Kernel: Depends on container host Compiler: gcc 14.2.1 20240912 (Red Hat 14.2.1-3) Ubuntu 20.04 ARM SVE Kernel: Depends on container host Compiler: gcc (Ubuntu 10.5.0-1ubuntu1~20.04) 10.5.0 Debian 12 with MUSDK Kernel: Depends on container host Compiler: gcc (Debian 12.2.0-14) 12.2.0 RHEL9 (ARM) Kernel: Depends on container host Compiler: gcc 11.5.0 20240719 (Red Hat 11.5.0-2) Ubuntu 20.04 ARM GCC Cross Compile Kernel: Depends on container host Compiler: aarch64-linux-gnu-gcc (Ubuntu 9.4.0-1ubuntu1~20.04.2) 9.4.0 Fedora 40 (ARM Clang) Kernel: Depends on container host Compiler: clang 18.1.8 (Fedora 18.1.8-1.fc40) Fedora 41 (ARM) Kernel: Depends on container host Compiler: gcc 14.2.1 20240912 (Red Hat 14.2.1-3) Ubuntu 24.04 (ARM) Kernel: Depends on container host Compiler: gcc (Ubuntu 13.3.0-6ubuntu2~24.04) 13.3.0 Fedora 41 (ARM Clang) Kernel: Depends on container host Compiler: clang 19.1.5 (Fedora 19.1.5-1.fc41) Ubuntu 22.04 (ARM) Kernel: Depends on container host Compiler: gcc (Ubuntu 11.4.0-1ubuntu1~22.04) 11.4.0 Ubuntu 20.04 (ARM) Kernel: Depends on container host Compiler: gcc (Ubuntu 9.4.0-1ubuntu1~20.04.2) 9.4.0 CentOS Stream 10 (ARM) Kernel: Depends on container host Compiler: gcc 14.2.1 20241104 (Red Hat 14.2.1-6) CentOS Stream 9 (ARM) Kernel: Depends on container host Compiler: gcc 11.5.0 20240719 (Red Hat 11.5.0-2) Debian 12 (arm) Kernel: Depends on container host Compiler: gcc (Debian 12.2.0-14) 12.2.0 Debian 11 (Buster) (ARM) Kernel: Depends on container host Compiler: gcc (Debian 10.2.1-6) 10.2.1 20210110 To view detailed results, visit: https://lab.dpdk.org/results/dashboard/tarballs/32556/ UNH-IOL DPDK Community Lab To manage your email subscriptions, visit: https://lab.dpdk.org/results/dashboard/preferences/subscriptions/