From mboxrd@z Thu Jan 1 00:00:00 1970 Return-Path: Received: from mails.dpdk.org (mails.dpdk.org [217.70.189.124]) by inbox.dpdk.org (Postfix) with ESMTP id 2D2B64620D for ; Thu, 13 Feb 2025 07:31:13 +0100 (CET) Received: from mails.dpdk.org (localhost [127.0.0.1]) by mails.dpdk.org (Postfix) with ESMTP id 28004402A3; Thu, 13 Feb 2025 07:31:13 +0100 (CET) Received: from mail-il1-f228.google.com (mail-il1-f228.google.com [209.85.166.228]) by mails.dpdk.org (Postfix) with ESMTP id 9CC814028C for ; Thu, 13 Feb 2025 07:31:11 +0100 (CET) Received: by mail-il1-f228.google.com with SMTP id e9e14a558f8ab-3ce76b8d5bcso4712895ab.0 for ; Wed, 12 Feb 2025 22:31:11 -0800 (PST) DKIM-Signature: v=1; a=rsa-sha256; c=relaxed/relaxed; d=iol.unh.edu; s=unh-iol; t=1739428271; x=1740033071; darn=dpdk.org; h=cc:to:from:subject:message-id:date:from:to:cc:subject:date :message-id:reply-to; bh=A400DbQT8hE6kjOjHz4Y3EWSSx7UCU25F1nEw43pmkA=; b=XYtBIVLOfzDib5NgY9M0VC9xnA/4aFRJc+inQeFbqjaKgI0c4LAjdZPwawvIXkoV5G /ZbCycd+eE/PmZAR+YQX0FKFTMVRzATEd5A+34MKZRnRDox78j/7GH3tL1Z3Fc9Ewgvj YRxzALLuJh1Y5GFRns45z/kDxvhJYPEtzxIu0= X-Google-DKIM-Signature: v=1; a=rsa-sha256; c=relaxed/relaxed; d=1e100.net; s=20230601; t=1739428271; x=1740033071; h=cc:to:from:subject:message-id:date:x-gm-message-state:from:to:cc :subject:date:message-id:reply-to; bh=A400DbQT8hE6kjOjHz4Y3EWSSx7UCU25F1nEw43pmkA=; b=du8e+8HvgAc2N3bg7n7CU+Ro9FzHb8HpPjxLep6rM+ONHMxTRBjteqQm94ErkVyCQa yTjX4wsa+G+1APD04uOY53s0zYLe4KjgOgQcF6VYsDOUef+ZANcB4nT0tE6tIxwhAcrf dbjcDM5+zbEKS+tgbCzHrm9iSOnd7MomYRUl9FlqUK2DIVOBHpfPaQBr7Mvty5WsezdK McMAuws0lmV5/pAGbIKYi1KaJLpthNxK8lNJQCnRf2CCZtNY+t4lArHf3ENgjvUGvrcV dO2gcL8Bm9a7TU67/UXjBQMSJBUOhm0uuIRuLOXtfbpLORjwtXHAX+h5j2sQUtIL6qkX pegw== X-Gm-Message-State: AOJu0YywN3c/+zLLCH5JoU1uhSwPU0K5XLPFrac5b2jdhTYdQBjc4jzx 7gGlU5tibLTuMi9ZhAhFEb68OdpDQohVnq/MxdbL6CQ+O4VQJngKVOmab27sz/xI6hQeLzhv/j1 pDleKekmNU1zGG2XRxIH1Kn/B8po4SFw6 X-Gm-Gg: ASbGncsE137dTjEhUaCraWz1C/8p+R/aXR1I/OukodkkVsypMnLH+GcBh2DVO/1mk8q 30rST+Tiq9ll87odUfhNgNI0XHkNScYuIWIXiZYZXjE4N8S5MGGnu8ttqKlPxrROCNpisC+oyeP nn0LFEkJr0CcKrGuQ1QaLKd1yxa5HuxWTWLm7kYNdrsxaVbkY4pPoHu6wtQ6v1j4zlMdsiWE7ss YLVb/VHwX8hlUBKPnvGDMg8h5SZbiaRAmvv24RCTQ1j6IIYknwatd40113zBzJh05Nn+N3rJ3xD Zeg8UfDWmSTfLBf42xLDwQ/KSSybuQ== X-Google-Smtp-Source: AGHT+IHLMF+VsRH058P+vrIJR4ew2YAv5QZ1uX2rLgCZSwAyEEGxvQ6wHRqdikSoKB2GHvGYqNk4bdIHIhj5 X-Received: by 2002:a05:6e02:1888:b0:3cf:f9e0:f4ae with SMTP id e9e14a558f8ab-3d17be272e3mr50863005ab.6.1739428270994; Wed, 12 Feb 2025 22:31:10 -0800 (PST) Received: from postal.iol.unh.edu (postal.iol.unh.edu. [132.177.123.84]) by smtp-relay.gmail.com with ESMTPS id e9e14a558f8ab-3d18fb88407sm361865ab.66.2025.02.12.22.31.10 (version=TLS1_2 cipher=ECDHE-ECDSA-AES128-GCM-SHA256 bits=128/128); Wed, 12 Feb 2025 22:31:10 -0800 (PST) X-Relaying-Domain: iol.unh.edu Date: Wed, 12 Feb 2025 22:31:10 -0800 (PST) Message-ID: <67ad91ae.920a0220.1fe75d.1dfdSMTPIN_ADDED_MISSING@mx.google.com> Received: from [172.21.0.6] (unknown [172.18.0.240]) by postal.iol.unh.edu (Postfix) with ESMTP id 776616052471; Thu, 13 Feb 2025 01:31:10 -0500 (EST) Subject: |SUCCESS| [GIT MASTER] c66daa12e76d7b4912cfb7109a761856a7a873ab From: dpdklab@iol.unh.edu To: Test Report Cc: dpdk-test-reports@iol.unh.edu, Xueming Li , Christian Ehrhardt , Kevin Traynor , Luca Boccassi Content-Type: text/plain X-BeenThere: test-report@dpdk.org X-Mailman-Version: 2.1.29 Precedence: list List-Id: automatic DPDK test reports List-Unsubscribe: , List-Archive: List-Post: List-Help: List-Subscribe: , Errors-To: test-report-bounces@dpdk.org _Testing PASS_ Branch: tags/v23.11 c66daa12e76d7b4912cfb7109a761856a7a873ab --> testing pass Upstream job id: Generic-DPDK-Compile-ABI#115975 Test environment and result as below: +-------------------+----------+ | Environment | abi_test | +===================+==========+ | CentOS Stream 10 | PASS | +-------------------+----------+ | CentOS Stream 9 | PASS | +-------------------+----------+ | Debian Bullseye | PASS | +-------------------+----------+ | Debian 12 | PASS | +-------------------+----------+ | Fedora 40 (Clang) | PASS | +-------------------+----------+ | Fedora 40 | PASS | +-------------------+----------+ | Fedora 41 (Clang) | PASS | +-------------------+----------+ | Fedora 41 | PASS | +-------------------+----------+ | openSUSE Leap 15 | PASS | +-------------------+----------+ | RHEL8 | PASS | +-------------------+----------+ | RHEL9 | PASS | +-------------------+----------+ | Ubuntu 22.04 | PASS | +-------------------+----------+ | Ubuntu 24.04 | PASS | +-------------------+----------+ CentOS Stream 10 Kernel: Depends on container host Compiler: gcc 14.2.1 20241104 (Red Hat 14.2.1-6) CentOS Stream 9 Kernel: Depends on container host Compiler: gcc 11.5.0 20240719 (Red Hat 11.5.0-2) Debian Bullseye Kernel: Depends on container host Compiler: gcc (Debian 10.2.1-6) 10.2.1 20210110 Debian 12 Kernel: Depends on container host Compiler: gcc (Debian 12.2.0-14) 12.2.0 Fedora 40 (Clang) Kernel: Depends on container host Compiler: clang 18.1.8 (Fedora 18.1.8-1.fc40) Fedora 40 Kernel: Depends on container host Compiler: gcc 14.2.1 20240912 (Red Hat 14.2.1-3) Fedora 41 (Clang) Kernel: Depends on container host Compiler: clang 19.1.5 (Fedora 19.1.5-1.fc41) Fedora 41 Kernel: Depends on container host Compiler: gcc 14.2.1 20240912 (Red Hat 14.2.1-3) openSUSE Leap 15 Kernel: Depends on container host Compiler: gcc (SUSE Linux) 7.5.0 RHEL8 Kernel: Depends on container host Compiler: gcc 8.5.0 20210514 (Red Hat 8.5.0-22) RHEL9 Kernel: Depends on container host Compiler: gcc 11.5.0 20240719 (Red Hat 11.5.0-2) Ubuntu 22.04 Kernel: Depends on container host Compiler: gcc (Ubuntu 11.4.0-1ubuntu1~22.04) 11.4.0 Ubuntu 24.04 Kernel: Depends on container host Compiler: gcc (Ubuntu 13.3.0-6ubuntu2~24.04) 13.3.0 To view detailed results, visit: https://lab.dpdk.org/results/dashboard/tarballs/32558/ UNH-IOL DPDK Community Lab To manage your email subscriptions, visit: https://lab.dpdk.org/results/dashboard/preferences/subscriptions/