From mboxrd@z Thu Jan 1 00:00:00 1970 Return-Path: Received: from mails.dpdk.org (mails.dpdk.org [217.70.189.124]) by inbox.dpdk.org (Postfix) with ESMTP id E68AF4620D for ; Thu, 13 Feb 2025 07:47:02 +0100 (CET) Received: from mails.dpdk.org (localhost [127.0.0.1]) by mails.dpdk.org (Postfix) with ESMTP id BDB6F402A3; Thu, 13 Feb 2025 07:47:02 +0100 (CET) Received: from mail-pl1-f227.google.com (mail-pl1-f227.google.com [209.85.214.227]) by mails.dpdk.org (Postfix) with ESMTP id 775E14028C for ; Thu, 13 Feb 2025 07:47:01 +0100 (CET) Received: by mail-pl1-f227.google.com with SMTP id d9443c01a7336-220d398bea9so6855705ad.3 for ; Wed, 12 Feb 2025 22:47:01 -0800 (PST) DKIM-Signature: v=1; a=rsa-sha256; c=relaxed/relaxed; d=iol.unh.edu; s=unh-iol; t=1739429220; x=1740034020; darn=dpdk.org; h=cc:to:from:subject:message-id:date:from:to:cc:subject:date :message-id:reply-to; bh=DxhvRM+Y0qb70yLM/Uqc/wvrDmNDWNHe8uCkJbXCUkI=; b=MPlf7dRGCagimA4G9c55g8KunYwbEAc0OIU6OHSekjkx41Isyj5qz1cfcp+WltxJIQ U4OC+iNUTQ+3jjPyxTYqicsUx0nNBkiGAKKT6YVw7AzKk1dxFb+yzO6jxnbCjbP50v79 Cv1EncKn2zGRuPkJwji1dx7K8A4JGpUyHwGgU= X-Google-DKIM-Signature: v=1; a=rsa-sha256; c=relaxed/relaxed; d=1e100.net; s=20230601; t=1739429220; x=1740034020; h=cc:to:from:subject:message-id:date:x-gm-message-state:from:to:cc :subject:date:message-id:reply-to; bh=DxhvRM+Y0qb70yLM/Uqc/wvrDmNDWNHe8uCkJbXCUkI=; b=gxoOr/fLYuS8ZrtKeUqSSav0qurs3N8EQxoGDBGk92fRf9lJz/2gBS4sUZwaz8MJPm Evr+/bANj5cgbcTEZmDRnM+M985OaGE7ZT0ClP5OpISQoWsMrj+HRCLzBGk5gZxtaGJA bu/KJJaaINf0zM9U7Kv3d0n9n8aCzxJxI+cFlHz2zYQqTTaVQIbc5CjdNNxX2h3/WN/G ur45a4HhmqIwICxJGTPm7ctHuswB5AxyFgr0NaGvka9pPnSZH/C0UeF5p0Wbaoy9SSZz Vna+U6Tg0hM9y/relf7E6O0SMHudhLm6zTmp/CO0Id4Pi0qX9bZfYVSH6OBzBLXpTbkJ yLag== X-Gm-Message-State: AOJu0Yw6XZKKQcSnJkAOUrBtYb1mqB8Z5uKaca/V9/0x4ED8aX1BMyZs Dc+IarIqpOJLFEHlMOWZqeTBrAQ0I3pVrp7AfmppfZe5SmWV4F9Eo9q7Lz/6DnuU6/41Xz0NX37 6Bo4B6PC1cinXnXO2u/wFKYsBkgTORjkHPvYdvawZOvheP6pz X-Gm-Gg: ASbGncsqbhkvOaTADhykRZqwesQcTs/uBh2s144riykBEotuadt2gP2pkve1/qswmly 251f+MpUA4asOTHREjgkIklOANlKGv5GcGLqixiKXkBAE2C6YM0v/oE8YaEwgHbCAFbMakcw2C4 TO6zsPKcMiNlbBpZL2VJx3jSuknXIzLv7W3jqO1vefvc/f1Mz02FG9jplMViFtNylA1ow+h9QbD fy4v55IStBYXVMsD7Tta2cumHivF8OSffj9OGqHwZBxRNwPGq/+9LOzFy4LROEarYHXEIgYzJlg wVzGRLSNFvUweU4/JeTKR0osc6ODUdXWjrWB6szKgA== X-Google-Smtp-Source: AGHT+IHQ/uTp/X8LTvOI7MkYcFyZdClSkbVC72ddoI9KtXUVa8Mx10YYhYR8XrC8HE8TFZFE+wRbWWVhYk1v X-Received: by 2002:a17:902:f609:b0:21f:592b:b4b6 with SMTP id d9443c01a7336-220bbc7f2c3mr107368245ad.47.1739429220581; Wed, 12 Feb 2025 22:47:00 -0800 (PST) Received: from postal.iol.unh.edu (postal.iol.unh.edu. [2606:4100:3880:1234::84]) by smtp-relay.gmail.com with ESMTPS id d9443c01a7336-220d542f838sm391505ad.117.2025.02.12.22.47.00 (version=TLS1_2 cipher=ECDHE-ECDSA-AES128-GCM-SHA256 bits=128/128); Wed, 12 Feb 2025 22:47:00 -0800 (PST) X-Relaying-Domain: iol.unh.edu Date: Wed, 12 Feb 2025 22:47:00 -0800 (PST) Message-ID: <67ad9564.170a0220.173343.21e2SMTPIN_ADDED_MISSING@mx.google.com> Received: from [172.21.0.9] (unknown [172.18.0.240]) by postal.iol.unh.edu (Postfix) with ESMTP id 615D36052471; Thu, 13 Feb 2025 01:46:59 -0500 (EST) Subject: |SUCCESS| [GIT MASTER] 7ce7d3341d7e21c2a81f2fea8e451681d7306d77 From: dpdklab@iol.unh.edu To: Test Report Cc: dpdk-test-reports@iol.unh.edu, Xueming Li , Christian Ehrhardt , Kevin Traynor , Luca Boccassi Content-Type: text/plain X-BeenThere: test-report@dpdk.org X-Mailman-Version: 2.1.29 Precedence: list List-Id: automatic DPDK test reports List-Unsubscribe: , List-Archive: List-Post: List-Help: List-Subscribe: , Errors-To: test-report-bounces@dpdk.org _Testing PASS_ Branch: tags/v22.11 7ce7d3341d7e21c2a81f2fea8e451681d7306d77 --> testing pass Upstream job id: Generic-DPDK-Compile-ABI#115950 Test environment and result as below: +-------------------+----------+ | Environment | abi_test | +===================+==========+ | CentOS Stream 9 | PASS | +-------------------+----------+ | CentOS Stream 10 | PASS | +-------------------+----------+ | Debian Bullseye | PASS | +-------------------+----------+ | Debian 12 | PASS | +-------------------+----------+ | Fedora 40 (Clang) | PASS | +-------------------+----------+ | Fedora 40 | PASS | +-------------------+----------+ | Fedora 41 (Clang) | PASS | +-------------------+----------+ | Fedora 41 | PASS | +-------------------+----------+ | RHEL8 | PASS | +-------------------+----------+ | openSUSE Leap 15 | PASS | +-------------------+----------+ | RHEL9 | PASS | +-------------------+----------+ | Ubuntu 22.04 | PASS | +-------------------+----------+ | Ubuntu 24.04 | PASS | +-------------------+----------+ CentOS Stream 9 Kernel: Depends on container host Compiler: gcc 11.5.0 20240719 (Red Hat 11.5.0-2) CentOS Stream 10 Kernel: Depends on container host Compiler: gcc 14.2.1 20241104 (Red Hat 14.2.1-6) Debian Bullseye Kernel: Depends on container host Compiler: gcc (Debian 10.2.1-6) 10.2.1 20210110 Debian 12 Kernel: Depends on container host Compiler: gcc (Debian 12.2.0-14) 12.2.0 Fedora 40 (Clang) Kernel: Depends on container host Compiler: clang 18.1.8 (Fedora 18.1.8-1.fc40) Fedora 40 Kernel: Depends on container host Compiler: gcc 14.2.1 20240912 (Red Hat 14.2.1-3) Fedora 41 (Clang) Kernel: Depends on container host Compiler: clang 19.1.5 (Fedora 19.1.5-1.fc41) Fedora 41 Kernel: Depends on container host Compiler: gcc 14.2.1 20240912 (Red Hat 14.2.1-3) RHEL8 Kernel: Depends on container host Compiler: gcc 8.5.0 20210514 (Red Hat 8.5.0-22) openSUSE Leap 15 Kernel: Depends on container host Compiler: gcc (SUSE Linux) 7.5.0 RHEL9 Kernel: Depends on container host Compiler: gcc 11.5.0 20240719 (Red Hat 11.5.0-2) Ubuntu 22.04 Kernel: Depends on container host Compiler: gcc (Ubuntu 11.4.0-1ubuntu1~22.04) 11.4.0 Ubuntu 24.04 Kernel: Depends on container host Compiler: gcc (Ubuntu 13.3.0-6ubuntu2~24.04) 13.3.0 To view detailed results, visit: https://lab.dpdk.org/results/dashboard/tarballs/32559/ UNH-IOL DPDK Community Lab To manage your email subscriptions, visit: https://lab.dpdk.org/results/dashboard/preferences/subscriptions/