From mboxrd@z Thu Jan 1 00:00:00 1970 Return-Path: Received: from mails.dpdk.org (mails.dpdk.org [217.70.189.124]) by inbox.dpdk.org (Postfix) with ESMTP id 7907A4620F for ; Thu, 13 Feb 2025 08:07:22 +0100 (CET) Received: from mails.dpdk.org (localhost [127.0.0.1]) by mails.dpdk.org (Postfix) with ESMTP id 553E6402A3; Thu, 13 Feb 2025 08:07:22 +0100 (CET) Received: from mail-pl1-f225.google.com (mail-pl1-f225.google.com [209.85.214.225]) by mails.dpdk.org (Postfix) with ESMTP id 4FD554028C for ; Thu, 13 Feb 2025 08:07:21 +0100 (CET) Received: by mail-pl1-f225.google.com with SMTP id d9443c01a7336-21f44e7eae4so8642735ad.2 for ; Wed, 12 Feb 2025 23:07:21 -0800 (PST) DKIM-Signature: v=1; a=rsa-sha256; c=relaxed/relaxed; d=iol.unh.edu; s=unh-iol; t=1739430440; x=1740035240; darn=dpdk.org; h=cc:to:from:subject:message-id:date:from:to:cc:subject:date :message-id:reply-to; bh=VvFpWQzzUOQUSSSYvkQkBHXx6+OpHL4/HqMydFtDL6k=; b=VRp8h+dsrhUXqj86NP8XdC+AOjPk9AHsytZAvMbc5tesu+6OL4Qel+pYx93xR9owcK 6lmwNrbk+jCs3DYdq18mbqVWfq2/Ur5wzV2TC8J+j7WxckUPbJmRJtpt5gd+fYMIYFrs 20reEivnnqDocl+Ei6B3IfYwFKG42QHxWQlcg= X-Google-DKIM-Signature: v=1; a=rsa-sha256; c=relaxed/relaxed; d=1e100.net; s=20230601; t=1739430440; x=1740035240; h=cc:to:from:subject:message-id:date:x-gm-message-state:from:to:cc :subject:date:message-id:reply-to; bh=VvFpWQzzUOQUSSSYvkQkBHXx6+OpHL4/HqMydFtDL6k=; b=I+IKmHqgA5yl9BuHUL8SnIJS1pGxaILTfzhVdJh6ipJ6p72xeZkJk3MksQRbBnyROD DwkcGgc9nJs+lNr6yXpjqbLqsdjVBxouXXj0XT7t+S6SmCT9BM31GFS6FnkJJflPKCi8 dgT5Nrx7e8DevXYf+OQj9mxAEANh+oiWSmu0xzx6E+ytMuR4kLErkz58ulaDlsBIBwaR PfbbGwbnooGKACcc7jyMz0Uk2IUOysKfI/ZGAOU9S3U6c08/QiF4NFVnzpAUg59FGwHt 3Hu7eAC+LYCtf3z369QGUjWGt4SSgL5Yz2Ko6WjSnYpPQkIiVPHWQaWRgaFifxDApk83 qWWA== X-Gm-Message-State: AOJu0YzGkPDzggSXrXYGYwj+yR7i7geaUTxHkS0komZhOUeXl+xas9ch Vizx/umwkCCWJ5bHUOUaFj2vRWs4mulG4X32c5SkmJD319L3g2XBjh7kbIvEjQW0Fd46DaDickW sNMSMz7Knwr+thzitOXzlddXSG6l5mjtx X-Gm-Gg: ASbGncskj5UL90hZ2P+0LXOlVrzAg0Nwhffyubg/Bd3yS5p+y1/paZ24qTdms5eVE1M yVZdsRRhBPCjHjdiiJkVOmrFRhpE3w7KDQCk1PXafWndlvGGIfFcilPCPCyp6qLnPzijrSCcDNP FnFplGI7JtMYI8BJGlxGFhyWXohGFABxY/tIeOCpkPbnB0s+Gyz8W+il3v+GUUTK/Vg1Dc77g6h MzpNG+9e7kSSTqpJZ6zUc4vhu0XvIDCWrDR3qd1svq/kO62tfC7bzLshwtwVQOp+AEqvP1tWAJr 9Ed6rStHF4u3i/OdLvgiXb8GbxmVFg== X-Google-Smtp-Source: AGHT+IHxlReUAzQw1lO8VC8lAYJs9VJ0YWpr+Vh7Jyoxmg31dbrXIqmg04KhV7ujiZgJjIpD13fV7cCZTtNd X-Received: by 2002:a17:902:f54f:b0:21f:4479:a34d with SMTP id d9443c01a7336-220bbacba60mr110659215ad.12.1739430440310; Wed, 12 Feb 2025 23:07:20 -0800 (PST) Received: from postal.iol.unh.edu (postal.iol.unh.edu. [132.177.123.84]) by smtp-relay.gmail.com with ESMTPS id d9443c01a7336-220d53f9f94sm384155ad.78.2025.02.12.23.07.20 (version=TLS1_2 cipher=ECDHE-ECDSA-AES128-GCM-SHA256 bits=128/128); Wed, 12 Feb 2025 23:07:20 -0800 (PST) X-Relaying-Domain: iol.unh.edu Date: Wed, 12 Feb 2025 23:07:20 -0800 (PST) Message-ID: <67ad9a28.170a0220.86224.21c7SMTPIN_ADDED_MISSING@mx.google.com> Received: from [172.21.0.6] (unknown [172.18.0.240]) by postal.iol.unh.edu (Postfix) with ESMTP id BA1A96052471; Thu, 13 Feb 2025 02:07:19 -0500 (EST) Subject: |SUCCESS| [GIT MASTER] 7ce7d3341d7e21c2a81f2fea8e451681d7306d77 From: dpdklab@iol.unh.edu To: Test Report Cc: dpdk-test-reports@iol.unh.edu, Xueming Li , Christian Ehrhardt , Kevin Traynor , Luca Boccassi Content-Type: text/plain X-BeenThere: test-report@dpdk.org X-Mailman-Version: 2.1.29 Precedence: list List-Id: automatic DPDK test reports List-Unsubscribe: , List-Archive: List-Post: List-Help: List-Subscribe: , Errors-To: test-report-bounces@dpdk.org _Testing PASS_ Branch: tags/v22.11 7ce7d3341d7e21c2a81f2fea8e451681d7306d77 --> testing pass Upstream job id: ACVP-FIPS-testing#8894 Test environment and result as below: +--------------------+----------------------+----------------------+ | Environment | compressdev_zlib_pmd | dpdk_fips_validation | +====================+======================+======================+ | Ubuntu 22.04 (ARM) | PASS | SKIPPED | +--------------------+----------------------+----------------------+ | Ubuntu 22.04 | PASS | SKIPPED | +--------------------+----------------------+----------------------+ | Ubuntu 20.04 | SKIPPED | PASS | +--------------------+----------------------+----------------------+ Ubuntu 22.04 (ARM) Kernel: 5.15.0-97-generic Compiler: gcc gcc (Ubuntu 11.4.0-1ubuntu1~22.04) 11.4.0 Ubuntu 22.04 Kernel: 5.15.0-100-generic Compiler: gcc gcc (Ubuntu 11.4.0-1ubuntu1~22.04) 11.4.0 Ubuntu 20.04 Kernel: Depends on container host Compiler: gcc (Ubuntu 9.4.0-1ubuntu1~20.04.2) 9.4.0 To view detailed results, visit: https://lab.dpdk.org/results/dashboard/tarballs/32559/ UNH-IOL DPDK Community Lab To manage your email subscriptions, visit: https://lab.dpdk.org/results/dashboard/preferences/subscriptions/