From mboxrd@z Thu Jan 1 00:00:00 1970 Return-Path: Received: from mails.dpdk.org (mails.dpdk.org [217.70.189.124]) by inbox.dpdk.org (Postfix) with ESMTP id A55544620F for ; Thu, 13 Feb 2025 08:37:28 +0100 (CET) Received: from mails.dpdk.org (localhost [127.0.0.1]) by mails.dpdk.org (Postfix) with ESMTP id 84282402A3; Thu, 13 Feb 2025 08:37:28 +0100 (CET) Received: from mail-ua1-f100.google.com (mail-ua1-f100.google.com [209.85.222.100]) by mails.dpdk.org (Postfix) with ESMTP id 1363F4028C for ; Thu, 13 Feb 2025 08:37:27 +0100 (CET) Received: by mail-ua1-f100.google.com with SMTP id a1e0cc1a2514c-86707fe3eccso337852241.0 for ; Wed, 12 Feb 2025 23:37:27 -0800 (PST) DKIM-Signature: v=1; a=rsa-sha256; c=relaxed/relaxed; d=iol.unh.edu; s=unh-iol; t=1739432246; x=1740037046; darn=dpdk.org; h=cc:to:from:subject:message-id:date:from:to:cc:subject:date :message-id:reply-to; bh=eyx5P4VOB4+JW8JX1qm4RyRabEKLxg+Dz2r+7mkeNts=; b=HYp1EpGTigZkLVjdTswyOilM0PI5bqXk19qoX4BMOsbzySN8gaIFVFhJHbfygE50Vh ZZMgWFXcImA3YWLZH3f2I9PY5mdDRr613itATjb2RgJhLZ8wZArIM7qhbsOTnSuYwIvV zsFhw78U7CZ9ZD1s42Pfz+bUQwzOzmpQ7Y4nU= X-Google-DKIM-Signature: v=1; a=rsa-sha256; c=relaxed/relaxed; d=1e100.net; s=20230601; t=1739432246; x=1740037046; h=cc:to:from:subject:message-id:date:x-gm-message-state:from:to:cc :subject:date:message-id:reply-to; bh=eyx5P4VOB4+JW8JX1qm4RyRabEKLxg+Dz2r+7mkeNts=; b=HOPPjj/4GFsbWWPhUR+BK4+aoIh5WzcmAzz/3zkis6/MkzbLeJj0JFU1J9P/qn2pWt LQECZMuE26YbBZ1ceryrHtsTprU/haD0uYyVuVfCKF2J9hp5OjI+qdZG9c281Uv8tk5C Lor4FZEsOohnlqyk6b3Ub9Zjt09+GhGMeseI3nRfazDrYqN9lvvmqH2z2YzvM/4GArEY GPrpK5mnrLuJyxKaeeT2ujBmHv+tJQGzDs4d9z9p8fAks3g2zi+sQmxhFYBO0RqFHu6R PcXRci35tgPzBS4DkpfXjxNntSRSxzRSXt8XtuSADh3HVXV9AloeYJdngo5yYcgfzOTs Xvbw== X-Gm-Message-State: AOJu0YzPoP320nq/5tIiFDfMjEU+g9SojO3bU9/6lU52UtpoTMNTZWKk pfp2VIluikgKG1Y4WVszOWo3YAF6+FvbEllg8qMymGOe5d+HXHc/1JRWw8zc1pLV2JdW5bPyFx9 HoDPzv/gmUbAhEJ53ruQnSSu6Qqj8XbHe X-Gm-Gg: ASbGncvhPOx8Qw9uTqgNfthWzXkHwbMrCaQ9Nehis0QDY3/BC15wgZgxHdHDSYPCKce 4NGhrXfoGoLFMmJMMllxccvFDMtKhnzatGDh+OhT9Yssh+wsZlgrYbzkX8pGGPGAF3YMkQitJUO 1M0ztMk9NM0VP1AzlHTpGwaDeLEQVo2pUClTJg2Co8bWlXJeNkX4gzNVJyWp0znrhVZJEdgBK0c sItOnX7Xw9sQElESHY80/KFZwQSuY84KDgSU+iYlb35RscbQIor56Z9HrQKqFUTK6msa3r4Dyhf nwDgr3hVV2sNgSnoZB9LadTunD5cug== X-Google-Smtp-Source: AGHT+IGeI851RW0t7JyZ98aD75hYZwI8a5GnVXn0M3DQwD0MGHPIklfVnw/kqPFrALiDFnYL7EpeR38viozb X-Received: by 2002:a05:6102:3b0b:b0:4bb:d392:41a2 with SMTP id ada2fe7eead31-4bc04afa543mr1273448137.0.1739432246419; Wed, 12 Feb 2025 23:37:26 -0800 (PST) Received: from postal.iol.unh.edu (postal.iol.unh.edu. [132.177.123.84]) by smtp-relay.gmail.com with ESMTPS id a1e0cc1a2514c-868e8546763sm27052241.2.2025.02.12.23.37.26 (version=TLS1_2 cipher=ECDHE-ECDSA-AES128-GCM-SHA256 bits=128/128); Wed, 12 Feb 2025 23:37:26 -0800 (PST) X-Relaying-Domain: iol.unh.edu Date: Wed, 12 Feb 2025 23:37:26 -0800 (PST) Message-ID: <67ada136.050a0220.266214.17ceSMTPIN_ADDED_MISSING@mx.google.com> Received: from [172.21.0.5] (unknown [172.18.0.240]) by postal.iol.unh.edu (Postfix) with ESMTP id 0C0BD6052471; Thu, 13 Feb 2025 02:37:26 -0500 (EST) Subject: |SUCCESS| [GIT MASTER] f2eea2f37a82bb73fb01d56350708f7d70e21379 From: dpdklab@iol.unh.edu To: Test Report Cc: dpdk-test-reports@iol.unh.edu, Xueming Li , Christian Ehrhardt , Kevin Traynor , Luca Boccassi Content-Type: text/plain X-BeenThere: test-report@dpdk.org X-Mailman-Version: 2.1.29 Precedence: list List-Id: automatic DPDK test reports List-Unsubscribe: , List-Archive: List-Post: List-Help: List-Subscribe: , Errors-To: test-report-bounces@dpdk.org _Testing PASS_ Branch: tags/v24.11 f2eea2f37a82bb73fb01d56350708f7d70e21379 --> testing pass Upstream job id: Generic-DPDK-Compile-ABI#115983 Test environment and result as below: +-------------------+----------+ | Environment | abi_test | +===================+==========+ | CentOS Stream 9 | PASS | +-------------------+----------+ | CentOS Stream 10 | PASS | +-------------------+----------+ | Debian Bullseye | PASS | +-------------------+----------+ | Debian 12 | PASS | +-------------------+----------+ | Fedora 41 | PASS | +-------------------+----------+ | Fedora 40 | PASS | +-------------------+----------+ | Fedora 40 (Clang) | PASS | +-------------------+----------+ | Fedora 41 (Clang) | PASS | +-------------------+----------+ | openSUSE Leap 15 | PASS | +-------------------+----------+ | RHEL8 | PASS | +-------------------+----------+ | RHEL9 | PASS | +-------------------+----------+ | Ubuntu 22.04 | PASS | +-------------------+----------+ | Ubuntu 24.04 | PASS | +-------------------+----------+ CentOS Stream 9 Kernel: Depends on container host Compiler: gcc 11.5.0 20240719 (Red Hat 11.5.0-2) CentOS Stream 10 Kernel: Depends on container host Compiler: gcc 14.2.1 20241104 (Red Hat 14.2.1-6) Debian Bullseye Kernel: Depends on container host Compiler: gcc (Debian 10.2.1-6) 10.2.1 20210110 Debian 12 Kernel: Depends on container host Compiler: gcc (Debian 12.2.0-14) 12.2.0 Fedora 41 Kernel: Depends on container host Compiler: gcc 14.2.1 20240912 (Red Hat 14.2.1-3) Fedora 40 Kernel: Depends on container host Compiler: gcc 14.2.1 20240912 (Red Hat 14.2.1-3) Fedora 40 (Clang) Kernel: Depends on container host Compiler: clang 18.1.8 (Fedora 18.1.8-1.fc40) Fedora 41 (Clang) Kernel: Depends on container host Compiler: clang 19.1.5 (Fedora 19.1.5-1.fc41) openSUSE Leap 15 Kernel: Depends on container host Compiler: gcc (SUSE Linux) 7.5.0 RHEL8 Kernel: Depends on container host Compiler: gcc 8.5.0 20210514 (Red Hat 8.5.0-22) RHEL9 Kernel: Depends on container host Compiler: gcc 11.5.0 20240719 (Red Hat 11.5.0-2) Ubuntu 22.04 Kernel: Depends on container host Compiler: gcc (Ubuntu 11.4.0-1ubuntu1~22.04) 11.4.0 Ubuntu 24.04 Kernel: Depends on container host Compiler: gcc (Ubuntu 13.3.0-6ubuntu2~24.04) 13.3.0 To view detailed results, visit: https://lab.dpdk.org/results/dashboard/tarballs/32557/ UNH-IOL DPDK Community Lab To manage your email subscriptions, visit: https://lab.dpdk.org/results/dashboard/preferences/subscriptions/